BEGIN:VCALENDAR
VERSION:2.0
PRODID:https://www.kufer.de/kuferweb / DE
METHOD:PUBLISH
CALSCALE:GREGORIAN
X-WR-TIMEZONE:Europe/Berlin
BEGIN:VTIMEZONE
TZID:Europe/Berlin
X-LIC-LOCATION:Europe/Berlin
BEGIN:DAYLIGHT
TZOFFSETFROM:+0100
TZOFFSETTO:+0200
TZNAME:CEST
DTSTART:19700329T020000
RRULE:FREQ=YEARLY;INTERVAL=1;BYDAY=-1SU;BYMONTH=3
END:DAYLIGHT
BEGIN:STANDARD
TZOFFSETFROM:+0200
TZOFFSETTO:+0100
TZNAME:CET
DTSTART:19701025T030000
RRULE:FREQ=YEARLY;INTERVAL=1;BYDAY=-1SU;BYMONTH=10
END:STANDARD
END:VTIMEZONE
BEGIN:VEVENT
DTSTAMP:20260420T015039
DTSTART;TZID=Europe/Berlin:20260608T094500
DTEND;TZID=Europe/Berlin:20260608T161500
UID:2601201003-20260608T094500@DÜSSELDORF ASG-BILDUNGSFORUM
SUMMARY:Bildungsurlaub: Fokus & Energie im Arbeitsalltag Zielgerichtet vorankommen mit gezieltem Coaching – Balance und Beweglichkeit mit Chi Gong und Entspannungstechniken (2601201003) 
LOCATION:ASG-G90;5.01, Gerresheimer Straße 90, 40233 Düsseldorf
END:VEVENT
BEGIN:VEVENT
DTSTAMP:20260420T015039
DTSTART;TZID=Europe/Berlin:20260609T094500
DTEND;TZID=Europe/Berlin:20260609T161500
UID:2601201003-20260609T094500@DÜSSELDORF ASG-BILDUNGSFORUM
SUMMARY:Bildungsurlaub: Fokus & Energie im Arbeitsalltag Zielgerichtet vorankommen mit gezieltem Coaching – Balance und Beweglichkeit mit Chi Gong und Entspannungstechniken (2601201003) 
LOCATION:ASG-G90;5.01, Gerresheimer Straße 90, 40233 Düsseldorf
END:VEVENT
BEGIN:VEVENT
DTSTAMP:20260420T015039
DTSTART;TZID=Europe/Berlin:20260610T094500
DTEND;TZID=Europe/Berlin:20260610T161500
UID:2601201003-20260610T094500@DÜSSELDORF ASG-BILDUNGSFORUM
SUMMARY:Bildungsurlaub: Fokus & Energie im Arbeitsalltag Zielgerichtet vorankommen mit gezieltem Coaching – Balance und Beweglichkeit mit Chi Gong und Entspannungstechniken (2601201003) 
LOCATION:ASG-G90;5.01, Gerresheimer Straße 90, 40233 Düsseldorf
END:VEVENT
BEGIN:VEVENT
DTSTAMP:20260420T015039
DTSTART;TZID=Europe/Berlin:20260611T094500
DTEND;TZID=Europe/Berlin:20260611T161500
UID:2601201003-20260611T094500@DÜSSELDORF ASG-BILDUNGSFORUM
SUMMARY:Bildungsurlaub: Fokus & Energie im Arbeitsalltag Zielgerichtet vorankommen mit gezieltem Coaching – Balance und Beweglichkeit mit Chi Gong und Entspannungstechniken (2601201003) 
LOCATION:ASG-G90;5.01, Gerresheimer Straße 90, 40233 Düsseldorf
END:VEVENT
BEGIN:VEVENT
DTSTAMP:20260420T015039
DTSTART;TZID=Europe/Berlin:20260612T094500
DTEND;TZID=Europe/Berlin:20260612T161500
UID:2601201003-20260612T094500@DÜSSELDORF ASG-BILDUNGSFORUM
SUMMARY:Bildungsurlaub: Fokus & Energie im Arbeitsalltag Zielgerichtet vorankommen mit gezieltem Coaching – Balance und Beweglichkeit mit Chi Gong und Entspannungstechniken (2601201003) 
LOCATION:ASG-G90;5.01, Gerresheimer Straße 90, 40233 Düsseldorf
END:VEVENT
END:VCALENDAR