BEGIN:VCALENDAR
VERSION:2.0
PRODID:https://www.kufer.de/kuferweb / DE
METHOD:PUBLISH
CALSCALE:GREGORIAN
X-WR-TIMEZONE:Europe/Berlin
BEGIN:VTIMEZONE
TZID:Europe/Berlin
X-LIC-LOCATION:Europe/Berlin
BEGIN:DAYLIGHT
TZOFFSETFROM:+0100
TZOFFSETTO:+0200
TZNAME:CEST
DTSTART:19700329T020000
RRULE:FREQ=YEARLY;INTERVAL=1;BYDAY=-1SU;BYMONTH=3
END:DAYLIGHT
BEGIN:STANDARD
TZOFFSETFROM:+0200
TZOFFSETTO:+0100
TZNAME:CET
DTSTART:19701025T030000
RRULE:FREQ=YEARLY;INTERVAL=1;BYDAY=-1SU;BYMONTH=10
END:STANDARD
END:VTIMEZONE
BEGIN:VEVENT
DTSTAMP:20260423T004351
DTSTART;TZID=Europe/Berlin:20260916T090000
DTEND;TZID=Europe/Berlin:20260916T161500
UID:2601201016-20260916T090000@DÜSSELDORF ASG-BILDUNGSFORUM
SUMMARY:Every Day a happy day - mehr Freude und Zufriedenheit im Arbeitsalltag Intensivkurs/Bildungsurlaub (2601201016) 
LOCATION:Yoga Institut Schloss Lüntenbeck, Lüntenbeck 1, 42327 Wuppertal
END:VEVENT
BEGIN:VEVENT
DTSTAMP:20260423T004351
DTSTART;TZID=Europe/Berlin:20260917T090000
DTEND;TZID=Europe/Berlin:20260917T161500
UID:2601201016-20260917T090000@DÜSSELDORF ASG-BILDUNGSFORUM
SUMMARY:Every Day a happy day - mehr Freude und Zufriedenheit im Arbeitsalltag Intensivkurs/Bildungsurlaub (2601201016) 
LOCATION:Yoga Institut Schloss Lüntenbeck, Lüntenbeck 1, 42327 Wuppertal
END:VEVENT
BEGIN:VEVENT
DTSTAMP:20260423T004351
DTSTART;TZID=Europe/Berlin:20260918T090000
DTEND;TZID=Europe/Berlin:20260918T161500
UID:2601201016-20260918T090000@DÜSSELDORF ASG-BILDUNGSFORUM
SUMMARY:Every Day a happy day - mehr Freude und Zufriedenheit im Arbeitsalltag Intensivkurs/Bildungsurlaub (2601201016) 
LOCATION:Yoga Institut Schloss Lüntenbeck, Lüntenbeck 1, 42327 Wuppertal
END:VEVENT
END:VCALENDAR