BEGIN:VCALENDAR
VERSION:2.0
PRODID:https://www.kufer.de/kuferweb / DE
METHOD:PUBLISH
CALSCALE:GREGORIAN
X-WR-TIMEZONE:Europe/Berlin
BEGIN:VTIMEZONE
TZID:Europe/Berlin
X-LIC-LOCATION:Europe/Berlin
BEGIN:DAYLIGHT
TZOFFSETFROM:+0100
TZOFFSETTO:+0200
TZNAME:CEST
DTSTART:19700329T020000
RRULE:FREQ=YEARLY;INTERVAL=1;BYDAY=-1SU;BYMONTH=3
END:DAYLIGHT
BEGIN:STANDARD
TZOFFSETFROM:+0200
TZOFFSETTO:+0100
TZNAME:CET
DTSTART:19701025T030000
RRULE:FREQ=YEARLY;INTERVAL=1;BYDAY=-1SU;BYMONTH=10
END:STANDARD
END:VTIMEZONE
BEGIN:VEVENT
DTSTAMP:20260421T195615
DTSTART;TZID=Europe/Berlin:20260928T100000
DTEND;TZID=Europe/Berlin:20260928T171500
UID:2601201017-20260928T100000@DÜSSELDORF ASG-BILDUNGSFORUM
SUMMARY:Entspannt und gestärkt im Arbeitsalltag - Stress bewusst reduzieren mit Yoga, Atmung und Natur Intensivkurs/Bildungsurlaub (2601201017) 
LOCATION:Tagungshaus Gut Obermühle, Scherbstr. 171, 52072 Aachen
END:VEVENT
BEGIN:VEVENT
DTSTAMP:20260421T195615
DTSTART;TZID=Europe/Berlin:20260929T100000
DTEND;TZID=Europe/Berlin:20260929T171500
UID:2601201017-20260929T100000@DÜSSELDORF ASG-BILDUNGSFORUM
SUMMARY:Entspannt und gestärkt im Arbeitsalltag - Stress bewusst reduzieren mit Yoga, Atmung und Natur Intensivkurs/Bildungsurlaub (2601201017) 
LOCATION:Tagungshaus Gut Obermühle, Scherbstr. 171, 52072 Aachen
END:VEVENT
BEGIN:VEVENT
DTSTAMP:20260421T195615
DTSTART;TZID=Europe/Berlin:20260930T100000
DTEND;TZID=Europe/Berlin:20260930T171500
UID:2601201017-20260930T100000@DÜSSELDORF ASG-BILDUNGSFORUM
SUMMARY:Entspannt und gestärkt im Arbeitsalltag - Stress bewusst reduzieren mit Yoga, Atmung und Natur Intensivkurs/Bildungsurlaub (2601201017) 
LOCATION:Tagungshaus Gut Obermühle, Scherbstr. 171, 52072 Aachen
END:VEVENT
BEGIN:VEVENT
DTSTAMP:20260421T195615
DTSTART;TZID=Europe/Berlin:20261001T100000
DTEND;TZID=Europe/Berlin:20261001T171500
UID:2601201017-20261001T100000@DÜSSELDORF ASG-BILDUNGSFORUM
SUMMARY:Entspannt und gestärkt im Arbeitsalltag - Stress bewusst reduzieren mit Yoga, Atmung und Natur Intensivkurs/Bildungsurlaub (2601201017) 
LOCATION:Tagungshaus Gut Obermühle, Scherbstr. 171, 52072 Aachen
END:VEVENT
BEGIN:VEVENT
DTSTAMP:20260421T195615
DTSTART;TZID=Europe/Berlin:20261002T100000
DTEND;TZID=Europe/Berlin:20261002T171500
UID:2601201017-20261002T100000@DÜSSELDORF ASG-BILDUNGSFORUM
SUMMARY:Entspannt und gestärkt im Arbeitsalltag - Stress bewusst reduzieren mit Yoga, Atmung und Natur Intensivkurs/Bildungsurlaub (2601201017) 
LOCATION:Tagungshaus Gut Obermühle, Scherbstr. 171, 52072 Aachen
END:VEVENT
END:VCALENDAR