BEGIN:VCALENDAR
VERSION:2.0
PRODID:https://www.kufer.de/kuferweb / DE
METHOD:PUBLISH
CALSCALE:GREGORIAN
X-WR-TIMEZONE:Europe/Berlin
BEGIN:VTIMEZONE
TZID:Europe/Berlin
X-LIC-LOCATION:Europe/Berlin
BEGIN:DAYLIGHT
TZOFFSETFROM:+0100
TZOFFSETTO:+0200
TZNAME:CEST
DTSTART:19700329T020000
RRULE:FREQ=YEARLY;INTERVAL=1;BYDAY=-1SU;BYMONTH=3
END:DAYLIGHT
BEGIN:STANDARD
TZOFFSETFROM:+0200
TZOFFSETTO:+0100
TZNAME:CET
DTSTART:19701025T030000
RRULE:FREQ=YEARLY;INTERVAL=1;BYDAY=-1SU;BYMONTH=10
END:STANDARD
END:VTIMEZONE
BEGIN:VEVENT
DTSTAMP:20260420T001921
DTSTART;TZID=Europe/Berlin:20260420T090000
DTEND;TZID=Europe/Berlin:20260420T140000
UID:2601210008-20260420T090000@DÜSSELDORF ASG-BILDUNGSFORUM
SUMMARY:Microsoft Office für Einsteiger – Dein Start in die digitale Arbeitswelt Bildungsurlaub (2601210008) 
LOCATION:ASG-G90;3.04, Gerresheimer Straße 90, 40233 Düsseldorf
END:VEVENT
BEGIN:VEVENT
DTSTAMP:20260420T001921
DTSTART;TZID=Europe/Berlin:20260421T090000
DTEND;TZID=Europe/Berlin:20260421T140000
UID:2601210008-20260421T090000@DÜSSELDORF ASG-BILDUNGSFORUM
SUMMARY:Microsoft Office für Einsteiger – Dein Start in die digitale Arbeitswelt Bildungsurlaub (2601210008) 
LOCATION:ASG-G90;3.04, Gerresheimer Straße 90, 40233 Düsseldorf
END:VEVENT
BEGIN:VEVENT
DTSTAMP:20260420T001921
DTSTART;TZID=Europe/Berlin:20260422T090000
DTEND;TZID=Europe/Berlin:20260422T140000
UID:2601210008-20260422T090000@DÜSSELDORF ASG-BILDUNGSFORUM
SUMMARY:Microsoft Office für Einsteiger – Dein Start in die digitale Arbeitswelt Bildungsurlaub (2601210008) 
LOCATION:ASG-G90;3.04, Gerresheimer Straße 90, 40233 Düsseldorf
END:VEVENT
BEGIN:VEVENT
DTSTAMP:20260420T001921
DTSTART;TZID=Europe/Berlin:20260423T090000
DTEND;TZID=Europe/Berlin:20260423T140000
UID:2601210008-20260423T090000@DÜSSELDORF ASG-BILDUNGSFORUM
SUMMARY:Microsoft Office für Einsteiger – Dein Start in die digitale Arbeitswelt Bildungsurlaub (2601210008) 
LOCATION:ASG-G90;3.04, Gerresheimer Straße 90, 40233 Düsseldorf
END:VEVENT
BEGIN:VEVENT
DTSTAMP:20260420T001921
DTSTART;TZID=Europe/Berlin:20260424T090000
DTEND;TZID=Europe/Berlin:20260424T140000
UID:2601210008-20260424T090000@DÜSSELDORF ASG-BILDUNGSFORUM
SUMMARY:Microsoft Office für Einsteiger – Dein Start in die digitale Arbeitswelt Bildungsurlaub (2601210008) 
LOCATION:ASG-G90;3.04, Gerresheimer Straße 90, 40233 Düsseldorf
END:VEVENT
END:VCALENDAR