BEGIN:VCALENDAR
VERSION:2.0
PRODID:https://www.kufer.de/kuferweb / DE
METHOD:PUBLISH
CALSCALE:GREGORIAN
X-WR-TIMEZONE:Europe/Berlin
BEGIN:VTIMEZONE
TZID:Europe/Berlin
X-LIC-LOCATION:Europe/Berlin
BEGIN:DAYLIGHT
TZOFFSETFROM:+0100
TZOFFSETTO:+0200
TZNAME:CEST
DTSTART:19700329T020000
RRULE:FREQ=YEARLY;INTERVAL=1;BYDAY=-1SU;BYMONTH=3
END:DAYLIGHT
BEGIN:STANDARD
TZOFFSETFROM:+0200
TZOFFSETTO:+0100
TZNAME:CET
DTSTART:19701025T030000
RRULE:FREQ=YEARLY;INTERVAL=1;BYDAY=-1SU;BYMONTH=10
END:STANDARD
END:VTIMEZONE
BEGIN:VEVENT
DTSTAMP:20260422T115051
DTSTART;TZID=Europe/Berlin:20260420T083000
DTEND;TZID=Europe/Berlin:20260420T153000
UID:2601211004-20260420T083000@DÜSSELDORF ASG-BILDUNGSFORUM
SUMMARY:Neue Energien im Beruf durch Yoga Bildungsurlaub / Intensivkurs (2601211004) 
LOCATION:Yoga Institut Schloss Lüntenbeck, Lüntenbeck 1, 42327 Wuppertal
END:VEVENT
BEGIN:VEVENT
DTSTAMP:20260422T115051
DTSTART;TZID=Europe/Berlin:20260421T083000
DTEND;TZID=Europe/Berlin:20260421T153000
UID:2601211004-20260421T083000@DÜSSELDORF ASG-BILDUNGSFORUM
SUMMARY:Neue Energien im Beruf durch Yoga Bildungsurlaub / Intensivkurs (2601211004) 
LOCATION:Yoga Institut Schloss Lüntenbeck, Lüntenbeck 1, 42327 Wuppertal
END:VEVENT
BEGIN:VEVENT
DTSTAMP:20260422T115051
DTSTART;TZID=Europe/Berlin:20260422T083000
DTEND;TZID=Europe/Berlin:20260422T153000
UID:2601211004-20260422T083000@DÜSSELDORF ASG-BILDUNGSFORUM
SUMMARY:Neue Energien im Beruf durch Yoga Bildungsurlaub / Intensivkurs (2601211004) 
LOCATION:Yoga Institut Schloss Lüntenbeck, Lüntenbeck 1, 42327 Wuppertal
END:VEVENT
BEGIN:VEVENT
DTSTAMP:20260422T115051
DTSTART;TZID=Europe/Berlin:20260423T083000
DTEND;TZID=Europe/Berlin:20260423T153000
UID:2601211004-20260423T083000@DÜSSELDORF ASG-BILDUNGSFORUM
SUMMARY:Neue Energien im Beruf durch Yoga Bildungsurlaub / Intensivkurs (2601211004) 
LOCATION:Yoga Institut Schloss Lüntenbeck, Lüntenbeck 1, 42327 Wuppertal
END:VEVENT
BEGIN:VEVENT
DTSTAMP:20260422T115051
DTSTART;TZID=Europe/Berlin:20260424T083000
DTEND;TZID=Europe/Berlin:20260424T153000
UID:2601211004-20260424T083000@DÜSSELDORF ASG-BILDUNGSFORUM
SUMMARY:Neue Energien im Beruf durch Yoga Bildungsurlaub / Intensivkurs (2601211004) 
LOCATION:Yoga Institut Schloss Lüntenbeck, Lüntenbeck 1, 42327 Wuppertal
END:VEVENT
END:VCALENDAR