BEGIN:VCALENDAR
VERSION:2.0
PRODID:https://www.kufer.de/kuferweb / DE
METHOD:PUBLISH
CALSCALE:GREGORIAN
X-WR-TIMEZONE:Europe/Berlin
BEGIN:VTIMEZONE
TZID:Europe/Berlin
X-LIC-LOCATION:Europe/Berlin
BEGIN:DAYLIGHT
TZOFFSETFROM:+0100
TZOFFSETTO:+0200
TZNAME:CEST
DTSTART:19700329T020000
RRULE:FREQ=YEARLY;INTERVAL=1;BYDAY=-1SU;BYMONTH=3
END:DAYLIGHT
BEGIN:STANDARD
TZOFFSETFROM:+0200
TZOFFSETTO:+0100
TZNAME:CET
DTSTART:19701025T030000
RRULE:FREQ=YEARLY;INTERVAL=1;BYDAY=-1SU;BYMONTH=10
END:STANDARD
END:VTIMEZONE
BEGIN:VEVENT
DTSTAMP:20260421T075029
DTSTART;TZID=Europe/Berlin:20260629T090000
DTEND;TZID=Europe/Berlin:20260629T161500
UID:2601211007-20260629T090000@DÜSSELDORF ASG-BILDUNGSFORUM
DESCRIPTION:zusammen mit Frau Kretschmer
SUMMARY:Bildungsurlaub: Resilienz und Lebensfreude durch achtsame Berührung  (2601211007) 
LOCATION:Yoga Institut Schloss Lüntenbeck, Lüntenbeck 1, 42327 Wuppertal
END:VEVENT
BEGIN:VEVENT
DTSTAMP:20260421T075029
DTSTART;TZID=Europe/Berlin:20260630T090000
DTEND;TZID=Europe/Berlin:20260630T161500
UID:2601211007-20260630T090000@DÜSSELDORF ASG-BILDUNGSFORUM
SUMMARY:Bildungsurlaub: Resilienz und Lebensfreude durch achtsame Berührung  (2601211007) 
LOCATION:Yoga Institut Schloss Lüntenbeck, Lüntenbeck 1, 42327 Wuppertal
END:VEVENT
BEGIN:VEVENT
DTSTAMP:20260421T075029
DTSTART;TZID=Europe/Berlin:20260701T090000
DTEND;TZID=Europe/Berlin:20260701T161500
UID:2601211007-20260701T090000@DÜSSELDORF ASG-BILDUNGSFORUM
SUMMARY:Bildungsurlaub: Resilienz und Lebensfreude durch achtsame Berührung  (2601211007) 
LOCATION:Yoga Institut Schloss Lüntenbeck, Lüntenbeck 1, 42327 Wuppertal
END:VEVENT
BEGIN:VEVENT
DTSTAMP:20260421T075029
DTSTART;TZID=Europe/Berlin:20260702T090000
DTEND;TZID=Europe/Berlin:20260702T161500
UID:2601211007-20260702T090000@DÜSSELDORF ASG-BILDUNGSFORUM
SUMMARY:Bildungsurlaub: Resilienz und Lebensfreude durch achtsame Berührung  (2601211007) 
LOCATION:Yoga Institut Schloss Lüntenbeck, Lüntenbeck 1, 42327 Wuppertal
END:VEVENT
BEGIN:VEVENT
DTSTAMP:20260421T075029
DTSTART;TZID=Europe/Berlin:20260703T090000
DTEND;TZID=Europe/Berlin:20260703T161500
UID:2601211007-20260703T090000@DÜSSELDORF ASG-BILDUNGSFORUM
SUMMARY:Bildungsurlaub: Resilienz und Lebensfreude durch achtsame Berührung  (2601211007) 
LOCATION:Yoga Institut Schloss Lüntenbeck, Lüntenbeck 1, 42327 Wuppertal
END:VEVENT
END:VCALENDAR