BEGIN:VCALENDAR
VERSION:2.0
PRODID:https://www.kufer.de/kuferweb / DE
METHOD:PUBLISH
CALSCALE:GREGORIAN
X-WR-TIMEZONE:Europe/Berlin
BEGIN:VTIMEZONE
TZID:Europe/Berlin
X-LIC-LOCATION:Europe/Berlin
BEGIN:DAYLIGHT
TZOFFSETFROM:+0100
TZOFFSETTO:+0200
TZNAME:CEST
DTSTART:19700329T020000
RRULE:FREQ=YEARLY;INTERVAL=1;BYDAY=-1SU;BYMONTH=3
END:DAYLIGHT
BEGIN:STANDARD
TZOFFSETFROM:+0200
TZOFFSETTO:+0100
TZNAME:CET
DTSTART:19701025T030000
RRULE:FREQ=YEARLY;INTERVAL=1;BYDAY=-1SU;BYMONTH=10
END:STANDARD
END:VTIMEZONE
BEGIN:VEVENT
DTSTAMP:20260420T065638
DTSTART;TZID=Europe/Berlin:20260603T180000
DTEND;TZID=Europe/Berlin:20260603T210000
UID:2601211022-20260603T180000@DÜSSELDORF ASG-BILDUNGSFORUM
SUMMARY:Bildungsurlaub: Abstand vom Alltag: Achtsamkeitsmeditation, Yoga und Tiefentspannung (2601211022) 
LOCATION:Haus Minte, Mintenbecker Straße 16, 58515 Lüdenscheid
END:VEVENT
BEGIN:VEVENT
DTSTAMP:20260420T065638
DTSTART;TZID=Europe/Berlin:20260604T073000
DTEND;TZID=Europe/Berlin:20260604T210000
UID:2601211022-20260604T073000@DÜSSELDORF ASG-BILDUNGSFORUM
SUMMARY:Bildungsurlaub: Abstand vom Alltag: Achtsamkeitsmeditation, Yoga und Tiefentspannung (2601211022) 
LOCATION:Haus Minte, Mintenbecker Straße 16, 58515 Lüdenscheid
END:VEVENT
BEGIN:VEVENT
DTSTAMP:20260420T065638
DTSTART;TZID=Europe/Berlin:20260605T073000
DTEND;TZID=Europe/Berlin:20260605T210000
UID:2601211022-20260605T073000@DÜSSELDORF ASG-BILDUNGSFORUM
SUMMARY:Bildungsurlaub: Abstand vom Alltag: Achtsamkeitsmeditation, Yoga und Tiefentspannung (2601211022) 
LOCATION:Haus Minte, Mintenbecker Straße 16, 58515 Lüdenscheid
END:VEVENT
BEGIN:VEVENT
DTSTAMP:20260420T065638
DTSTART;TZID=Europe/Berlin:20260606T073000
DTEND;TZID=Europe/Berlin:20260606T210000
UID:2601211022-20260606T073000@DÜSSELDORF ASG-BILDUNGSFORUM
SUMMARY:Bildungsurlaub: Abstand vom Alltag: Achtsamkeitsmeditation, Yoga und Tiefentspannung (2601211022) 
LOCATION:Haus Minte, Mintenbecker Straße 16, 58515 Lüdenscheid
END:VEVENT
BEGIN:VEVENT
DTSTAMP:20260420T065638
DTSTART;TZID=Europe/Berlin:20260607T073000
DTEND;TZID=Europe/Berlin:20260607T140000
UID:2601211022-20260607T073000@DÜSSELDORF ASG-BILDUNGSFORUM
SUMMARY:Bildungsurlaub: Abstand vom Alltag: Achtsamkeitsmeditation, Yoga und Tiefentspannung (2601211022) 
LOCATION:Haus Minte, Mintenbecker Straße 16, 58515 Lüdenscheid
END:VEVENT
END:VCALENDAR