BEGIN:VCALENDAR
VERSION:2.0
PRODID:https://www.kufer.de/kuferweb / DE
METHOD:PUBLISH
CALSCALE:GREGORIAN
X-WR-TIMEZONE:Europe/Berlin
BEGIN:VTIMEZONE
TZID:Europe/Berlin
X-LIC-LOCATION:Europe/Berlin
BEGIN:DAYLIGHT
TZOFFSETFROM:+0100
TZOFFSETTO:+0200
TZNAME:CEST
DTSTART:19700329T020000
RRULE:FREQ=YEARLY;INTERVAL=1;BYDAY=-1SU;BYMONTH=3
END:DAYLIGHT
BEGIN:STANDARD
TZOFFSETFROM:+0200
TZOFFSETTO:+0100
TZNAME:CET
DTSTART:19701025T030000
RRULE:FREQ=YEARLY;INTERVAL=1;BYDAY=-1SU;BYMONTH=10
END:STANDARD
END:VTIMEZONE
BEGIN:VEVENT
DTSTAMP:20260421T074822
DTSTART;TZID=Europe/Berlin:20260907T083000
DTEND;TZID=Europe/Berlin:20260907T153000
UID:2601211024-20260907T083000@DÜSSELDORF ASG-BILDUNGSFORUM
SUMMARY:Bildungsurlaub: Neue Energien im Beruf durch Yoga  (2601211024) 
LOCATION:Yoga Institut Schloss Lüntenbeck, Lüntenbeck 1, 42327 Wuppertal
END:VEVENT
BEGIN:VEVENT
DTSTAMP:20260421T074822
DTSTART;TZID=Europe/Berlin:20260908T083000
DTEND;TZID=Europe/Berlin:20260908T153000
UID:2601211024-20260908T083000@DÜSSELDORF ASG-BILDUNGSFORUM
SUMMARY:Bildungsurlaub: Neue Energien im Beruf durch Yoga  (2601211024) 
LOCATION:Yoga Institut Schloss Lüntenbeck, Lüntenbeck 1, 42327 Wuppertal
END:VEVENT
BEGIN:VEVENT
DTSTAMP:20260421T074822
DTSTART;TZID=Europe/Berlin:20260909T083000
DTEND;TZID=Europe/Berlin:20260909T153000
UID:2601211024-20260909T083000@DÜSSELDORF ASG-BILDUNGSFORUM
SUMMARY:Bildungsurlaub: Neue Energien im Beruf durch Yoga  (2601211024) 
LOCATION:Yoga Institut Schloss Lüntenbeck, Lüntenbeck 1, 42327 Wuppertal
END:VEVENT
BEGIN:VEVENT
DTSTAMP:20260421T074822
DTSTART;TZID=Europe/Berlin:20260910T083000
DTEND;TZID=Europe/Berlin:20260910T153000
UID:2601211024-20260910T083000@DÜSSELDORF ASG-BILDUNGSFORUM
SUMMARY:Bildungsurlaub: Neue Energien im Beruf durch Yoga  (2601211024) 
LOCATION:Yoga Institut Schloss Lüntenbeck, Lüntenbeck 1, 42327 Wuppertal
END:VEVENT
BEGIN:VEVENT
DTSTAMP:20260421T074822
DTSTART;TZID=Europe/Berlin:20260911T083000
DTEND;TZID=Europe/Berlin:20260911T153000
UID:2601211024-20260911T083000@DÜSSELDORF ASG-BILDUNGSFORUM
SUMMARY:Bildungsurlaub: Neue Energien im Beruf durch Yoga  (2601211024) 
LOCATION:Yoga Institut Schloss Lüntenbeck, Lüntenbeck 1, 42327 Wuppertal
END:VEVENT
END:VCALENDAR