BEGIN:VCALENDAR
VERSION:2.0
PRODID:https://www.kufer.de/kuferweb / DE
METHOD:PUBLISH
CALSCALE:GREGORIAN
X-WR-TIMEZONE:Europe/Berlin
BEGIN:VTIMEZONE
TZID:Europe/Berlin
X-LIC-LOCATION:Europe/Berlin
BEGIN:DAYLIGHT
TZOFFSETFROM:+0100
TZOFFSETTO:+0200
TZNAME:CEST
DTSTART:19700329T020000
RRULE:FREQ=YEARLY;INTERVAL=1;BYDAY=-1SU;BYMONTH=3
END:DAYLIGHT
BEGIN:STANDARD
TZOFFSETFROM:+0200
TZOFFSETTO:+0100
TZNAME:CET
DTSTART:19701025T030000
RRULE:FREQ=YEARLY;INTERVAL=1;BYDAY=-1SU;BYMONTH=10
END:STANDARD
END:VTIMEZONE
BEGIN:VEVENT
DTSTAMP:20260420T190007
DTSTART;TZID=Europe/Berlin:20260413T162500
DTEND;TZID=Europe/Berlin:20260413T175500
UID:2601322156-20260413T162500@DÜSSELDORF ASG-BILDUNGSFORUM
SUMMARY:Englisch für Fortgeschrittene B1.2 Improve your English to get ahead (2601322156) 
LOCATION:ASG-W4;1.05, Werdener Straße 4, 40227 Düsseldorf
END:VEVENT
BEGIN:VEVENT
DTSTAMP:20260420T190007
DTSTART;TZID=Europe/Berlin:20260420T162500
DTEND;TZID=Europe/Berlin:20260420T175500
UID:2601322156-20260420T162500@DÜSSELDORF ASG-BILDUNGSFORUM
SUMMARY:Englisch für Fortgeschrittene B1.2 Improve your English to get ahead (2601322156) 
LOCATION:ASG-W4;1.05, Werdener Straße 4, 40227 Düsseldorf
END:VEVENT
BEGIN:VEVENT
DTSTAMP:20260420T190007
DTSTART;TZID=Europe/Berlin:20260427T162500
DTEND;TZID=Europe/Berlin:20260427T175500
UID:2601322156-20260427T162500@DÜSSELDORF ASG-BILDUNGSFORUM
SUMMARY:Englisch für Fortgeschrittene B1.2 Improve your English to get ahead (2601322156) 
LOCATION:ASG-W4;1.05, Werdener Straße 4, 40227 Düsseldorf
END:VEVENT
BEGIN:VEVENT
DTSTAMP:20260420T190007
DTSTART;TZID=Europe/Berlin:20260504T162500
DTEND;TZID=Europe/Berlin:20260504T175500
UID:2601322156-20260504T162500@DÜSSELDORF ASG-BILDUNGSFORUM
SUMMARY:Englisch für Fortgeschrittene B1.2 Improve your English to get ahead (2601322156) 
LOCATION:ASG-W4;1.05, Werdener Straße 4, 40227 Düsseldorf
END:VEVENT
BEGIN:VEVENT
DTSTAMP:20260420T190007
DTSTART;TZID=Europe/Berlin:20260511T162500
DTEND;TZID=Europe/Berlin:20260511T175500
UID:2601322156-20260511T162500@DÜSSELDORF ASG-BILDUNGSFORUM
SUMMARY:Englisch für Fortgeschrittene B1.2 Improve your English to get ahead (2601322156) 
LOCATION:ASG-W4;1.05, Werdener Straße 4, 40227 Düsseldorf
END:VEVENT
BEGIN:VEVENT
DTSTAMP:20260420T190007
DTSTART;TZID=Europe/Berlin:20260518T162500
DTEND;TZID=Europe/Berlin:20260518T175500
UID:2601322156-20260518T162500@DÜSSELDORF ASG-BILDUNGSFORUM
SUMMARY:Englisch für Fortgeschrittene B1.2 Improve your English to get ahead (2601322156) 
LOCATION:ASG-W4;1.05, Werdener Straße 4, 40227 Düsseldorf
END:VEVENT
BEGIN:VEVENT
DTSTAMP:20260420T190007
DTSTART;TZID=Europe/Berlin:20260601T162500
DTEND;TZID=Europe/Berlin:20260601T175500
UID:2601322156-20260601T162500@DÜSSELDORF ASG-BILDUNGSFORUM
SUMMARY:Englisch für Fortgeschrittene B1.2 Improve your English to get ahead (2601322156) 
LOCATION:ASG-W4;1.05, Werdener Straße 4, 40227 Düsseldorf
END:VEVENT
BEGIN:VEVENT
DTSTAMP:20260420T190007
DTSTART;TZID=Europe/Berlin:20260608T162500
DTEND;TZID=Europe/Berlin:20260608T175500
UID:2601322156-20260608T162500@DÜSSELDORF ASG-BILDUNGSFORUM
SUMMARY:Englisch für Fortgeschrittene B1.2 Improve your English to get ahead (2601322156) 
LOCATION:ASG-W4;1.05, Werdener Straße 4, 40227 Düsseldorf
END:VEVENT
BEGIN:VEVENT
DTSTAMP:20260420T190007
DTSTART;TZID=Europe/Berlin:20260615T162500
DTEND;TZID=Europe/Berlin:20260615T175500
UID:2601322156-20260615T162500@DÜSSELDORF ASG-BILDUNGSFORUM
SUMMARY:Englisch für Fortgeschrittene B1.2 Improve your English to get ahead (2601322156) 
LOCATION:ASG-W4;1.05, Werdener Straße 4, 40227 Düsseldorf
END:VEVENT
BEGIN:VEVENT
DTSTAMP:20260420T190007
DTSTART;TZID=Europe/Berlin:20260622T162500
DTEND;TZID=Europe/Berlin:20260622T175500
UID:2601322156-20260622T162500@DÜSSELDORF ASG-BILDUNGSFORUM
SUMMARY:Englisch für Fortgeschrittene B1.2 Improve your English to get ahead (2601322156) 
LOCATION:ASG-W4;1.05, Werdener Straße 4, 40227 Düsseldorf
END:VEVENT
BEGIN:VEVENT
DTSTAMP:20260420T190007
DTSTART;TZID=Europe/Berlin:20260629T162500
DTEND;TZID=Europe/Berlin:20260629T175500
UID:2601322156-20260629T162500@DÜSSELDORF ASG-BILDUNGSFORUM
SUMMARY:Englisch für Fortgeschrittene B1.2 Improve your English to get ahead (2601322156) 
LOCATION:ASG-W4;1.05, Werdener Straße 4, 40227 Düsseldorf
END:VEVENT
BEGIN:VEVENT
DTSTAMP:20260420T190007
DTSTART;TZID=Europe/Berlin:20260706T162500
DTEND;TZID=Europe/Berlin:20260706T175500
UID:2601322156-20260706T162500@DÜSSELDORF ASG-BILDUNGSFORUM
SUMMARY:Englisch für Fortgeschrittene B1.2 Improve your English to get ahead (2601322156) 
LOCATION:ASG-W4;1.05, Werdener Straße 4, 40227 Düsseldorf
END:VEVENT
END:VCALENDAR