BEGIN:VCALENDAR
VERSION:2.0
PRODID:https://www.kufer.de/kuferweb / DE
METHOD:PUBLISH
CALSCALE:GREGORIAN
X-WR-TIMEZONE:Europe/Berlin
BEGIN:VTIMEZONE
TZID:Europe/Berlin
X-LIC-LOCATION:Europe/Berlin
BEGIN:DAYLIGHT
TZOFFSETFROM:+0100
TZOFFSETTO:+0200
TZNAME:CEST
DTSTART:19700329T020000
RRULE:FREQ=YEARLY;INTERVAL=1;BYDAY=-1SU;BYMONTH=3
END:DAYLIGHT
BEGIN:STANDARD
TZOFFSETFROM:+0200
TZOFFSETTO:+0100
TZNAME:CET
DTSTART:19701025T030000
RRULE:FREQ=YEARLY;INTERVAL=1;BYDAY=-1SU;BYMONTH=10
END:STANDARD
END:VTIMEZONE
BEGIN:VEVENT
DTSTAMP:20260420T214302
DTSTART;TZID=Europe/Berlin:20260417T080000
DTEND;TZID=Europe/Berlin:20260417T090000
UID:2601322210-20260417T080000@DÜSSELDORF ASG-BILDUNGSFORUM
SUMMARY:Online-Kurs: Business Talk B2- Follow up (2601322210) 
LOCATION:ASG-Online;Seminar7
END:VEVENT
BEGIN:VEVENT
DTSTAMP:20260420T214302
DTSTART;TZID=Europe/Berlin:20260424T080000
DTEND;TZID=Europe/Berlin:20260424T090000
UID:2601322210-20260424T080000@DÜSSELDORF ASG-BILDUNGSFORUM
SUMMARY:Online-Kurs: Business Talk B2- Follow up (2601322210) 
LOCATION:ASG-Online;Seminar7
END:VEVENT
BEGIN:VEVENT
DTSTAMP:20260420T214302
DTSTART;TZID=Europe/Berlin:20260508T080000
DTEND;TZID=Europe/Berlin:20260508T090000
UID:2601322210-20260508T080000@DÜSSELDORF ASG-BILDUNGSFORUM
SUMMARY:Online-Kurs: Business Talk B2- Follow up (2601322210) 
LOCATION:ASG-Online;Seminar7
END:VEVENT
BEGIN:VEVENT
DTSTAMP:20260420T214302
DTSTART;TZID=Europe/Berlin:20260515T080000
DTEND;TZID=Europe/Berlin:20260515T090000
UID:2601322210-20260515T080000@DÜSSELDORF ASG-BILDUNGSFORUM
SUMMARY:Online-Kurs: Business Talk B2- Follow up (2601322210) 
LOCATION:ASG-Online;Seminar7
END:VEVENT
BEGIN:VEVENT
DTSTAMP:20260420T214302
DTSTART;TZID=Europe/Berlin:20260522T080000
DTEND;TZID=Europe/Berlin:20260522T090000
UID:2601322210-20260522T080000@DÜSSELDORF ASG-BILDUNGSFORUM
SUMMARY:Online-Kurs: Business Talk B2- Follow up (2601322210) 
LOCATION:ASG-Online;Seminar7
END:VEVENT
BEGIN:VEVENT
DTSTAMP:20260420T214302
DTSTART;TZID=Europe/Berlin:20260529T080000
DTEND;TZID=Europe/Berlin:20260529T090000
UID:2601322210-20260529T080000@DÜSSELDORF ASG-BILDUNGSFORUM
SUMMARY:Online-Kurs: Business Talk B2- Follow up (2601322210) 
LOCATION:ASG-Online;Seminar7
END:VEVENT
BEGIN:VEVENT
DTSTAMP:20260420T214302
DTSTART;TZID=Europe/Berlin:20260605T080000
DTEND;TZID=Europe/Berlin:20260605T090000
UID:2601322210-20260605T080000@DÜSSELDORF ASG-BILDUNGSFORUM
SUMMARY:Online-Kurs: Business Talk B2- Follow up (2601322210) 
LOCATION:ASG-Online;Seminar7
END:VEVENT
BEGIN:VEVENT
DTSTAMP:20260420T214302
DTSTART;TZID=Europe/Berlin:20260612T080000
DTEND;TZID=Europe/Berlin:20260612T090000
UID:2601322210-20260612T080000@DÜSSELDORF ASG-BILDUNGSFORUM
SUMMARY:Online-Kurs: Business Talk B2- Follow up (2601322210) 
LOCATION:ASG-Online;Seminar7
END:VEVENT
END:VCALENDAR