BEGIN:VCALENDAR
VERSION:2.0
PRODID:https://www.kufer.de/kuferweb / DE
METHOD:PUBLISH
CALSCALE:GREGORIAN
X-WR-TIMEZONE:Europe/Berlin
BEGIN:VTIMEZONE
TZID:Europe/Berlin
X-LIC-LOCATION:Europe/Berlin
BEGIN:DAYLIGHT
TZOFFSETFROM:+0100
TZOFFSETTO:+0200
TZNAME:CEST
DTSTART:19700329T020000
RRULE:FREQ=YEARLY;INTERVAL=1;BYDAY=-1SU;BYMONTH=3
END:DAYLIGHT
BEGIN:STANDARD
TZOFFSETFROM:+0200
TZOFFSETTO:+0100
TZNAME:CET
DTSTART:19701025T030000
RRULE:FREQ=YEARLY;INTERVAL=1;BYDAY=-1SU;BYMONTH=10
END:STANDARD
END:VTIMEZONE
BEGIN:VEVENT
DTSTAMP:20260419T153550
DTSTART;TZID=Europe/Berlin:20260508T140000
DTEND;TZID=Europe/Berlin:20260508T153000
UID:2601322336-20260508T140000@DÜSSELDORF ASG-BILDUNGSFORUM
SUMMARY:Französisch Aufbaukurs A2.2 (2601322336) 
LOCATION:Diakonie Zentrum Plus Gerresheim, Am Wallgraben 32-34, 40625 Düsseldorf
END:VEVENT
BEGIN:VEVENT
DTSTAMP:20260419T153550
DTSTART;TZID=Europe/Berlin:20260515T140000
DTEND;TZID=Europe/Berlin:20260515T153000
UID:2601322336-20260515T140000@DÜSSELDORF ASG-BILDUNGSFORUM
SUMMARY:Französisch Aufbaukurs A2.2 (2601322336) 
LOCATION:Diakonie Zentrum Plus Gerresheim, Am Wallgraben 32-34, 40625 Düsseldorf
END:VEVENT
BEGIN:VEVENT
DTSTAMP:20260419T153550
DTSTART;TZID=Europe/Berlin:20260522T140000
DTEND;TZID=Europe/Berlin:20260522T153000
UID:2601322336-20260522T140000@DÜSSELDORF ASG-BILDUNGSFORUM
SUMMARY:Französisch Aufbaukurs A2.2 (2601322336) 
LOCATION:Diakonie Zentrum Plus Gerresheim, Am Wallgraben 32-34, 40625 Düsseldorf
END:VEVENT
BEGIN:VEVENT
DTSTAMP:20260419T153550
DTSTART;TZID=Europe/Berlin:20260529T140000
DTEND;TZID=Europe/Berlin:20260529T153000
UID:2601322336-20260529T140000@DÜSSELDORF ASG-BILDUNGSFORUM
SUMMARY:Französisch Aufbaukurs A2.2 (2601322336) 
LOCATION:Diakonie Zentrum Plus Gerresheim, Am Wallgraben 32-34, 40625 Düsseldorf
END:VEVENT
BEGIN:VEVENT
DTSTAMP:20260419T153550
DTSTART;TZID=Europe/Berlin:20260605T140000
DTEND;TZID=Europe/Berlin:20260605T153000
UID:2601322336-20260605T140000@DÜSSELDORF ASG-BILDUNGSFORUM
SUMMARY:Französisch Aufbaukurs A2.2 (2601322336) 
LOCATION:Diakonie Zentrum Plus Gerresheim, Am Wallgraben 32-34, 40625 Düsseldorf
END:VEVENT
BEGIN:VEVENT
DTSTAMP:20260419T153550
DTSTART;TZID=Europe/Berlin:20260612T140000
DTEND;TZID=Europe/Berlin:20260612T153000
UID:2601322336-20260612T140000@DÜSSELDORF ASG-BILDUNGSFORUM
SUMMARY:Französisch Aufbaukurs A2.2 (2601322336) 
LOCATION:Diakonie Zentrum Plus Gerresheim, Am Wallgraben 32-34, 40625 Düsseldorf
END:VEVENT
BEGIN:VEVENT
DTSTAMP:20260419T153550
DTSTART;TZID=Europe/Berlin:20260619T140000
DTEND;TZID=Europe/Berlin:20260619T153000
UID:2601322336-20260619T140000@DÜSSELDORF ASG-BILDUNGSFORUM
SUMMARY:Französisch Aufbaukurs A2.2 (2601322336) 
LOCATION:Diakonie Zentrum Plus Gerresheim, Am Wallgraben 32-34, 40625 Düsseldorf
END:VEVENT
BEGIN:VEVENT
DTSTAMP:20260419T153550
DTSTART;TZID=Europe/Berlin:20260626T140000
DTEND;TZID=Europe/Berlin:20260626T153000
UID:2601322336-20260626T140000@DÜSSELDORF ASG-BILDUNGSFORUM
SUMMARY:Französisch Aufbaukurs A2.2 (2601322336) 
LOCATION:Diakonie Zentrum Plus Gerresheim, Am Wallgraben 32-34, 40625 Düsseldorf
END:VEVENT
BEGIN:VEVENT
DTSTAMP:20260419T153550
DTSTART;TZID=Europe/Berlin:20260703T140000
DTEND;TZID=Europe/Berlin:20260703T153000
UID:2601322336-20260703T140000@DÜSSELDORF ASG-BILDUNGSFORUM
SUMMARY:Französisch Aufbaukurs A2.2 (2601322336) 
LOCATION:Diakonie Zentrum Plus Gerresheim, Am Wallgraben 32-34, 40625 Düsseldorf
END:VEVENT
BEGIN:VEVENT
DTSTAMP:20260419T153550
DTSTART;TZID=Europe/Berlin:20260710T140000
DTEND;TZID=Europe/Berlin:20260710T153000
UID:2601322336-20260710T140000@DÜSSELDORF ASG-BILDUNGSFORUM
SUMMARY:Französisch Aufbaukurs A2.2 (2601322336) 
LOCATION:Diakonie Zentrum Plus Gerresheim, Am Wallgraben 32-34, 40625 Düsseldorf
END:VEVENT
END:VCALENDAR