BEGIN:VCALENDAR
VERSION:2.0
PRODID:https://www.kufer.de/kuferweb / DE
METHOD:PUBLISH
CALSCALE:GREGORIAN
X-WR-TIMEZONE:Europe/Berlin
BEGIN:VTIMEZONE
TZID:Europe/Berlin
X-LIC-LOCATION:Europe/Berlin
BEGIN:DAYLIGHT
TZOFFSETFROM:+0100
TZOFFSETTO:+0200
TZNAME:CEST
DTSTART:19700329T020000
RRULE:FREQ=YEARLY;INTERVAL=1;BYDAY=-1SU;BYMONTH=3
END:DAYLIGHT
BEGIN:STANDARD
TZOFFSETFROM:+0200
TZOFFSETTO:+0100
TZNAME:CET
DTSTART:19701025T030000
RRULE:FREQ=YEARLY;INTERVAL=1;BYDAY=-1SU;BYMONTH=10
END:STANDARD
END:VTIMEZONE
BEGIN:VEVENT
DTSTAMP:20260420T002836
DTSTART;TZID=Europe/Berlin:20260414T190000
DTEND;TZID=Europe/Berlin:20260414T203000
UID:2601322375-20260414T190000@DÜSSELDORF ASG-BILDUNGSFORUM
SUMMARY:Französisch Konversation B2 (2601322375) 
LOCATION:ASG-W4;1.25, Werdener Straße 4, 40227 Düsseldorf
END:VEVENT
BEGIN:VEVENT
DTSTAMP:20260420T002836
DTSTART;TZID=Europe/Berlin:20260421T190000
DTEND;TZID=Europe/Berlin:20260421T203000
UID:2601322375-20260421T190000@DÜSSELDORF ASG-BILDUNGSFORUM
SUMMARY:Französisch Konversation B2 (2601322375) 
LOCATION:ASG-W4;1.25, Werdener Straße 4, 40227 Düsseldorf
END:VEVENT
BEGIN:VEVENT
DTSTAMP:20260420T002836
DTSTART;TZID=Europe/Berlin:20260428T190000
DTEND;TZID=Europe/Berlin:20260428T203000
UID:2601322375-20260428T190000@DÜSSELDORF ASG-BILDUNGSFORUM
SUMMARY:Französisch Konversation B2 (2601322375) 
LOCATION:ASG-W4;1.25, Werdener Straße 4, 40227 Düsseldorf
END:VEVENT
BEGIN:VEVENT
DTSTAMP:20260420T002836
DTSTART;TZID=Europe/Berlin:20260505T190000
DTEND;TZID=Europe/Berlin:20260505T203000
UID:2601322375-20260505T190000@DÜSSELDORF ASG-BILDUNGSFORUM
SUMMARY:Französisch Konversation B2 (2601322375) 
LOCATION:ASG-W4;1.25, Werdener Straße 4, 40227 Düsseldorf
END:VEVENT
BEGIN:VEVENT
DTSTAMP:20260420T002836
DTSTART;TZID=Europe/Berlin:20260512T190000
DTEND;TZID=Europe/Berlin:20260512T203000
UID:2601322375-20260512T190000@DÜSSELDORF ASG-BILDUNGSFORUM
SUMMARY:Französisch Konversation B2 (2601322375) 
LOCATION:ASG-W4;1.25, Werdener Straße 4, 40227 Düsseldorf
END:VEVENT
BEGIN:VEVENT
DTSTAMP:20260420T002836
DTSTART;TZID=Europe/Berlin:20260519T190000
DTEND;TZID=Europe/Berlin:20260519T203000
UID:2601322375-20260519T190000@DÜSSELDORF ASG-BILDUNGSFORUM
SUMMARY:Französisch Konversation B2 (2601322375) 
LOCATION:ASG-W4;1.25, Werdener Straße 4, 40227 Düsseldorf
END:VEVENT
BEGIN:VEVENT
DTSTAMP:20260420T002836
DTSTART;TZID=Europe/Berlin:20260526T190000
DTEND;TZID=Europe/Berlin:20260526T203000
UID:2601322375-20260526T190000@DÜSSELDORF ASG-BILDUNGSFORUM
SUMMARY:Französisch Konversation B2 (2601322375) 
LOCATION:ASG-W4;1.25, Werdener Straße 4, 40227 Düsseldorf
END:VEVENT
BEGIN:VEVENT
DTSTAMP:20260420T002836
DTSTART;TZID=Europe/Berlin:20260602T190000
DTEND;TZID=Europe/Berlin:20260602T203000
UID:2601322375-20260602T190000@DÜSSELDORF ASG-BILDUNGSFORUM
SUMMARY:Französisch Konversation B2 (2601322375) 
LOCATION:ASG-W4;1.25, Werdener Straße 4, 40227 Düsseldorf
END:VEVENT
BEGIN:VEVENT
DTSTAMP:20260420T002836
DTSTART;TZID=Europe/Berlin:20260609T190000
DTEND;TZID=Europe/Berlin:20260609T203000
UID:2601322375-20260609T190000@DÜSSELDORF ASG-BILDUNGSFORUM
SUMMARY:Französisch Konversation B2 (2601322375) 
LOCATION:ASG-W4;1.25, Werdener Straße 4, 40227 Düsseldorf
END:VEVENT
BEGIN:VEVENT
DTSTAMP:20260420T002836
DTSTART;TZID=Europe/Berlin:20260616T190000
DTEND;TZID=Europe/Berlin:20260616T203000
UID:2601322375-20260616T190000@DÜSSELDORF ASG-BILDUNGSFORUM
SUMMARY:Französisch Konversation B2 (2601322375) 
LOCATION:ASG-W4;1.25, Werdener Straße 4, 40227 Düsseldorf
END:VEVENT
BEGIN:VEVENT
DTSTAMP:20260420T002836
DTSTART;TZID=Europe/Berlin:20260623T190000
DTEND;TZID=Europe/Berlin:20260623T203000
UID:2601322375-20260623T190000@DÜSSELDORF ASG-BILDUNGSFORUM
SUMMARY:Französisch Konversation B2 (2601322375) 
LOCATION:ASG-W4;1.25, Werdener Straße 4, 40227 Düsseldorf
END:VEVENT
BEGIN:VEVENT
DTSTAMP:20260420T002836
DTSTART;TZID=Europe/Berlin:20260630T190000
DTEND;TZID=Europe/Berlin:20260630T203000
UID:2601322375-20260630T190000@DÜSSELDORF ASG-BILDUNGSFORUM
SUMMARY:Französisch Konversation B2 (2601322375) 
LOCATION:ASG-W4;1.25, Werdener Straße 4, 40227 Düsseldorf
END:VEVENT
END:VCALENDAR