BEGIN:VCALENDAR
VERSION:2.0
PRODID:https://www.kufer.de/kuferweb / DE
METHOD:PUBLISH
CALSCALE:GREGORIAN
X-WR-TIMEZONE:Europe/Berlin
BEGIN:VTIMEZONE
TZID:Europe/Berlin
X-LIC-LOCATION:Europe/Berlin
BEGIN:DAYLIGHT
TZOFFSETFROM:+0100
TZOFFSETTO:+0200
TZNAME:CEST
DTSTART:19700329T020000
RRULE:FREQ=YEARLY;INTERVAL=1;BYDAY=-1SU;BYMONTH=3
END:DAYLIGHT
BEGIN:STANDARD
TZOFFSETFROM:+0200
TZOFFSETTO:+0100
TZNAME:CET
DTSTART:19701025T030000
RRULE:FREQ=YEARLY;INTERVAL=1;BYDAY=-1SU;BYMONTH=10
END:STANDARD
END:VTIMEZONE
BEGIN:VEVENT
DTSTAMP:20260419T231432
DTSTART;TZID=Europe/Berlin:20260427T200000
DTEND;TZID=Europe/Berlin:20260427T213000
UID:2601322473-20260427T200000@DÜSSELDORF ASG-BILDUNGSFORUM
SUMMARY:Online-Kurs: Spanisch Konversation B1 Hablando sobre la cultura hispana (2601322473) 
LOCATION:ASG-Online;Seminar3
END:VEVENT
BEGIN:VEVENT
DTSTAMP:20260419T231432
DTSTART;TZID=Europe/Berlin:20260504T200000
DTEND;TZID=Europe/Berlin:20260504T213000
UID:2601322473-20260504T200000@DÜSSELDORF ASG-BILDUNGSFORUM
SUMMARY:Online-Kurs: Spanisch Konversation B1 Hablando sobre la cultura hispana (2601322473) 
LOCATION:ASG-Online;Seminar3
END:VEVENT
BEGIN:VEVENT
DTSTAMP:20260419T231432
DTSTART;TZID=Europe/Berlin:20260511T200000
DTEND;TZID=Europe/Berlin:20260511T213000
UID:2601322473-20260511T200000@DÜSSELDORF ASG-BILDUNGSFORUM
SUMMARY:Online-Kurs: Spanisch Konversation B1 Hablando sobre la cultura hispana (2601322473) 
LOCATION:ASG-Online;Seminar3
END:VEVENT
BEGIN:VEVENT
DTSTAMP:20260419T231432
DTSTART;TZID=Europe/Berlin:20260518T200000
DTEND;TZID=Europe/Berlin:20260518T213000
UID:2601322473-20260518T200000@DÜSSELDORF ASG-BILDUNGSFORUM
SUMMARY:Online-Kurs: Spanisch Konversation B1 Hablando sobre la cultura hispana (2601322473) 
LOCATION:ASG-Online;Seminar3
END:VEVENT
BEGIN:VEVENT
DTSTAMP:20260419T231432
DTSTART;TZID=Europe/Berlin:20260601T200000
DTEND;TZID=Europe/Berlin:20260601T213000
UID:2601322473-20260601T200000@DÜSSELDORF ASG-BILDUNGSFORUM
SUMMARY:Online-Kurs: Spanisch Konversation B1 Hablando sobre la cultura hispana (2601322473) 
LOCATION:ASG-Online;Seminar3
END:VEVENT
BEGIN:VEVENT
DTSTAMP:20260419T231432
DTSTART;TZID=Europe/Berlin:20260608T200000
DTEND;TZID=Europe/Berlin:20260608T213000
UID:2601322473-20260608T200000@DÜSSELDORF ASG-BILDUNGSFORUM
SUMMARY:Online-Kurs: Spanisch Konversation B1 Hablando sobre la cultura hispana (2601322473) 
LOCATION:ASG-Online;Seminar3
END:VEVENT
BEGIN:VEVENT
DTSTAMP:20260419T231432
DTSTART;TZID=Europe/Berlin:20260615T200000
DTEND;TZID=Europe/Berlin:20260615T213000
UID:2601322473-20260615T200000@DÜSSELDORF ASG-BILDUNGSFORUM
SUMMARY:Online-Kurs: Spanisch Konversation B1 Hablando sobre la cultura hispana (2601322473) 
LOCATION:ASG-Online;Seminar3
END:VEVENT
BEGIN:VEVENT
DTSTAMP:20260419T231432
DTSTART;TZID=Europe/Berlin:20260622T200000
DTEND;TZID=Europe/Berlin:20260622T213000
UID:2601322473-20260622T200000@DÜSSELDORF ASG-BILDUNGSFORUM
SUMMARY:Online-Kurs: Spanisch Konversation B1 Hablando sobre la cultura hispana (2601322473) 
LOCATION:ASG-Online;Seminar3
END:VEVENT
BEGIN:VEVENT
DTSTAMP:20260419T231432
DTSTART;TZID=Europe/Berlin:20260629T200000
DTEND;TZID=Europe/Berlin:20260629T213000
UID:2601322473-20260629T200000@DÜSSELDORF ASG-BILDUNGSFORUM
SUMMARY:Online-Kurs: Spanisch Konversation B1 Hablando sobre la cultura hispana (2601322473) 
LOCATION:ASG-Online;Seminar3
END:VEVENT
BEGIN:VEVENT
DTSTAMP:20260419T231432
DTSTART;TZID=Europe/Berlin:20260706T200000
DTEND;TZID=Europe/Berlin:20260706T213000
UID:2601322473-20260706T200000@DÜSSELDORF ASG-BILDUNGSFORUM
SUMMARY:Online-Kurs: Spanisch Konversation B1 Hablando sobre la cultura hispana (2601322473) 
LOCATION:ASG-Online;Seminar3
END:VEVENT
BEGIN:VEVENT
DTSTAMP:20260419T231432
DTSTART;TZID=Europe/Berlin:20260713T200000
DTEND;TZID=Europe/Berlin:20260713T213000
UID:2601322473-20260713T200000@DÜSSELDORF ASG-BILDUNGSFORUM
SUMMARY:Online-Kurs: Spanisch Konversation B1 Hablando sobre la cultura hispana (2601322473) 
LOCATION:ASG-Online;Seminar3
END:VEVENT
BEGIN:VEVENT
DTSTAMP:20260419T231432
DTSTART;TZID=Europe/Berlin:20260720T200000
DTEND;TZID=Europe/Berlin:20260720T213000
UID:2601322473-20260720T200000@DÜSSELDORF ASG-BILDUNGSFORUM
SUMMARY:Online-Kurs: Spanisch Konversation B1 Hablando sobre la cultura hispana (2601322473) 
LOCATION:ASG-Online;Seminar3
END:VEVENT
END:VCALENDAR