BEGIN:VCALENDAR
VERSION:2.0
PRODID:https://www.kufer.de/kuferweb / DE
METHOD:PUBLISH
CALSCALE:GREGORIAN
X-WR-TIMEZONE:Europe/Berlin
BEGIN:VTIMEZONE
TZID:Europe/Berlin
X-LIC-LOCATION:Europe/Berlin
BEGIN:DAYLIGHT
TZOFFSETFROM:+0100
TZOFFSETTO:+0200
TZNAME:CEST
DTSTART:19700329T020000
RRULE:FREQ=YEARLY;INTERVAL=1;BYDAY=-1SU;BYMONTH=3
END:DAYLIGHT
BEGIN:STANDARD
TZOFFSETFROM:+0200
TZOFFSETTO:+0100
TZNAME:CET
DTSTART:19701025T030000
RRULE:FREQ=YEARLY;INTERVAL=1;BYDAY=-1SU;BYMONTH=10
END:STANDARD
END:VTIMEZONE
BEGIN:VEVENT
DTSTAMP:20260420T015127
DTSTART;TZID=Europe/Berlin:20260417T180000
DTEND;TZID=Europe/Berlin:20260417T193000
UID:2601322611-20260417T180000@DÜSSELDORF ASG-BILDUNGSFORUM
SUMMARY:Online-Kurs: Portugiesisch (Portugal) Grundkurs A1.4 (2601322611) 
LOCATION:ASG-Online;Seminar7
END:VEVENT
BEGIN:VEVENT
DTSTAMP:20260420T015127
DTSTART;TZID=Europe/Berlin:20260424T180000
DTEND;TZID=Europe/Berlin:20260424T193000
UID:2601322611-20260424T180000@DÜSSELDORF ASG-BILDUNGSFORUM
SUMMARY:Online-Kurs: Portugiesisch (Portugal) Grundkurs A1.4 (2601322611) 
LOCATION:ASG-Online;Seminar7
END:VEVENT
BEGIN:VEVENT
DTSTAMP:20260420T015127
DTSTART;TZID=Europe/Berlin:20260508T180000
DTEND;TZID=Europe/Berlin:20260508T193000
UID:2601322611-20260508T180000@DÜSSELDORF ASG-BILDUNGSFORUM
SUMMARY:Online-Kurs: Portugiesisch (Portugal) Grundkurs A1.4 (2601322611) 
LOCATION:ASG-Online;Seminar7
END:VEVENT
BEGIN:VEVENT
DTSTAMP:20260420T015127
DTSTART;TZID=Europe/Berlin:20260515T180000
DTEND;TZID=Europe/Berlin:20260515T193000
UID:2601322611-20260515T180000@DÜSSELDORF ASG-BILDUNGSFORUM
SUMMARY:Online-Kurs: Portugiesisch (Portugal) Grundkurs A1.4 (2601322611) 
LOCATION:ASG-Online;Seminar7
END:VEVENT
BEGIN:VEVENT
DTSTAMP:20260420T015127
DTSTART;TZID=Europe/Berlin:20260522T180000
DTEND;TZID=Europe/Berlin:20260522T193000
UID:2601322611-20260522T180000@DÜSSELDORF ASG-BILDUNGSFORUM
SUMMARY:Online-Kurs: Portugiesisch (Portugal) Grundkurs A1.4 (2601322611) 
LOCATION:ASG-Online;Seminar7
END:VEVENT
BEGIN:VEVENT
DTSTAMP:20260420T015127
DTSTART;TZID=Europe/Berlin:20260529T180000
DTEND;TZID=Europe/Berlin:20260529T193000
UID:2601322611-20260529T180000@DÜSSELDORF ASG-BILDUNGSFORUM
SUMMARY:Online-Kurs: Portugiesisch (Portugal) Grundkurs A1.4 (2601322611) 
LOCATION:ASG-Online;Seminar7
END:VEVENT
BEGIN:VEVENT
DTSTAMP:20260420T015127
DTSTART;TZID=Europe/Berlin:20260605T180000
DTEND;TZID=Europe/Berlin:20260605T193000
UID:2601322611-20260605T180000@DÜSSELDORF ASG-BILDUNGSFORUM
SUMMARY:Online-Kurs: Portugiesisch (Portugal) Grundkurs A1.4 (2601322611) 
LOCATION:ASG-Online;Seminar7
END:VEVENT
BEGIN:VEVENT
DTSTAMP:20260420T015127
DTSTART;TZID=Europe/Berlin:20260612T180000
DTEND;TZID=Europe/Berlin:20260612T193000
UID:2601322611-20260612T180000@DÜSSELDORF ASG-BILDUNGSFORUM
SUMMARY:Online-Kurs: Portugiesisch (Portugal) Grundkurs A1.4 (2601322611) 
LOCATION:ASG-Online;Seminar7
END:VEVENT
BEGIN:VEVENT
DTSTAMP:20260420T015127
DTSTART;TZID=Europe/Berlin:20260619T180000
DTEND;TZID=Europe/Berlin:20260619T193000
UID:2601322611-20260619T180000@DÜSSELDORF ASG-BILDUNGSFORUM
SUMMARY:Online-Kurs: Portugiesisch (Portugal) Grundkurs A1.4 (2601322611) 
LOCATION:ASG-Online;Seminar7
END:VEVENT
BEGIN:VEVENT
DTSTAMP:20260420T015127
DTSTART;TZID=Europe/Berlin:20260626T180000
DTEND;TZID=Europe/Berlin:20260626T193000
UID:2601322611-20260626T180000@DÜSSELDORF ASG-BILDUNGSFORUM
SUMMARY:Online-Kurs: Portugiesisch (Portugal) Grundkurs A1.4 (2601322611) 
LOCATION:ASG-Online;Seminar7
END:VEVENT
BEGIN:VEVENT
DTSTAMP:20260420T015127
DTSTART;TZID=Europe/Berlin:20260703T180000
DTEND;TZID=Europe/Berlin:20260703T193000
UID:2601322611-20260703T180000@DÜSSELDORF ASG-BILDUNGSFORUM
SUMMARY:Online-Kurs: Portugiesisch (Portugal) Grundkurs A1.4 (2601322611) 
LOCATION:ASG-Online;Seminar7
END:VEVENT
BEGIN:VEVENT
DTSTAMP:20260420T015127
DTSTART;TZID=Europe/Berlin:20260710T180000
DTEND;TZID=Europe/Berlin:20260710T193000
UID:2601322611-20260710T180000@DÜSSELDORF ASG-BILDUNGSFORUM
SUMMARY:Online-Kurs: Portugiesisch (Portugal) Grundkurs A1.4 (2601322611) 
LOCATION:ASG-Online;Seminar7
END:VEVENT
END:VCALENDAR