BEGIN:VCALENDAR
VERSION:2.0
PRODID:https://www.kufer.de/kuferweb / DE
METHOD:PUBLISH
CALSCALE:GREGORIAN
X-WR-TIMEZONE:Europe/Berlin
BEGIN:VTIMEZONE
TZID:Europe/Berlin
X-LIC-LOCATION:Europe/Berlin
BEGIN:DAYLIGHT
TZOFFSETFROM:+0100
TZOFFSETTO:+0200
TZNAME:CEST
DTSTART:19700329T020000
RRULE:FREQ=YEARLY;INTERVAL=1;BYDAY=-1SU;BYMONTH=3
END:DAYLIGHT
BEGIN:STANDARD
TZOFFSETFROM:+0200
TZOFFSETTO:+0100
TZNAME:CET
DTSTART:19701025T030000
RRULE:FREQ=YEARLY;INTERVAL=1;BYDAY=-1SU;BYMONTH=10
END:STANDARD
END:VTIMEZONE
BEGIN:VEVENT
DTSTAMP:20260420T075045
DTSTART;TZID=Europe/Berlin:20260429T173000
DTEND;TZID=Europe/Berlin:20260429T190000
UID:2601322703-20260429T173000@DÜSSELDORF ASG-BILDUNGSFORUM
SUMMARY:Online-Kurs: Türkisch Grundkurs A1.1 (2601322703) 
LOCATION:ASG-Online;Seminar5
END:VEVENT
BEGIN:VEVENT
DTSTAMP:20260420T075045
DTSTART;TZID=Europe/Berlin:20260506T173000
DTEND;TZID=Europe/Berlin:20260506T190000
UID:2601322703-20260506T173000@DÜSSELDORF ASG-BILDUNGSFORUM
SUMMARY:Online-Kurs: Türkisch Grundkurs A1.1 (2601322703) 
LOCATION:ASG-Online;Seminar5
END:VEVENT
BEGIN:VEVENT
DTSTAMP:20260420T075045
DTSTART;TZID=Europe/Berlin:20260513T173000
DTEND;TZID=Europe/Berlin:20260513T190000
UID:2601322703-20260513T173000@DÜSSELDORF ASG-BILDUNGSFORUM
SUMMARY:Online-Kurs: Türkisch Grundkurs A1.1 (2601322703) 
LOCATION:ASG-Online;Seminar5
END:VEVENT
BEGIN:VEVENT
DTSTAMP:20260420T075045
DTSTART;TZID=Europe/Berlin:20260520T173000
DTEND;TZID=Europe/Berlin:20260520T190000
UID:2601322703-20260520T173000@DÜSSELDORF ASG-BILDUNGSFORUM
SUMMARY:Online-Kurs: Türkisch Grundkurs A1.1 (2601322703) 
LOCATION:ASG-Online;Seminar5
END:VEVENT
BEGIN:VEVENT
DTSTAMP:20260420T075045
DTSTART;TZID=Europe/Berlin:20260527T173000
DTEND;TZID=Europe/Berlin:20260527T190000
UID:2601322703-20260527T173000@DÜSSELDORF ASG-BILDUNGSFORUM
SUMMARY:Online-Kurs: Türkisch Grundkurs A1.1 (2601322703) 
LOCATION:ASG-Online;Seminar5
END:VEVENT
BEGIN:VEVENT
DTSTAMP:20260420T075045
DTSTART;TZID=Europe/Berlin:20260603T173000
DTEND;TZID=Europe/Berlin:20260603T190000
UID:2601322703-20260603T173000@DÜSSELDORF ASG-BILDUNGSFORUM
SUMMARY:Online-Kurs: Türkisch Grundkurs A1.1 (2601322703) 
LOCATION:ASG-Online;Seminar5
END:VEVENT
BEGIN:VEVENT
DTSTAMP:20260420T075045
DTSTART;TZID=Europe/Berlin:20260610T173000
DTEND;TZID=Europe/Berlin:20260610T190000
UID:2601322703-20260610T173000@DÜSSELDORF ASG-BILDUNGSFORUM
SUMMARY:Online-Kurs: Türkisch Grundkurs A1.1 (2601322703) 
LOCATION:ASG-Online;Seminar5
END:VEVENT
BEGIN:VEVENT
DTSTAMP:20260420T075045
DTSTART;TZID=Europe/Berlin:20260617T173000
DTEND;TZID=Europe/Berlin:20260617T190000
UID:2601322703-20260617T173000@DÜSSELDORF ASG-BILDUNGSFORUM
SUMMARY:Online-Kurs: Türkisch Grundkurs A1.1 (2601322703) 
LOCATION:ASG-Online;Seminar5
END:VEVENT
BEGIN:VEVENT
DTSTAMP:20260420T075045
DTSTART;TZID=Europe/Berlin:20260624T173000
DTEND;TZID=Europe/Berlin:20260624T190000
UID:2601322703-20260624T173000@DÜSSELDORF ASG-BILDUNGSFORUM
SUMMARY:Online-Kurs: Türkisch Grundkurs A1.1 (2601322703) 
LOCATION:ASG-Online;Seminar5
END:VEVENT
BEGIN:VEVENT
DTSTAMP:20260420T075045
DTSTART;TZID=Europe/Berlin:20260701T173000
DTEND;TZID=Europe/Berlin:20260701T190000
UID:2601322703-20260701T173000@DÜSSELDORF ASG-BILDUNGSFORUM
SUMMARY:Online-Kurs: Türkisch Grundkurs A1.1 (2601322703) 
LOCATION:ASG-Online;Seminar5
END:VEVENT
END:VCALENDAR