BEGIN:VCALENDAR
VERSION:2.0
PRODID:https://www.kufer.de/kuferweb / DE
METHOD:PUBLISH
CALSCALE:GREGORIAN
X-WR-TIMEZONE:Europe/Berlin
BEGIN:VTIMEZONE
TZID:Europe/Berlin
X-LIC-LOCATION:Europe/Berlin
BEGIN:DAYLIGHT
TZOFFSETFROM:+0100
TZOFFSETTO:+0200
TZNAME:CEST
DTSTART:19700329T020000
RRULE:FREQ=YEARLY;INTERVAL=1;BYDAY=-1SU;BYMONTH=3
END:DAYLIGHT
BEGIN:STANDARD
TZOFFSETFROM:+0200
TZOFFSETTO:+0100
TZNAME:CET
DTSTART:19701025T030000
RRULE:FREQ=YEARLY;INTERVAL=1;BYDAY=-1SU;BYMONTH=10
END:STANDARD
END:VTIMEZONE
BEGIN:VEVENT
DTSTAMP:20260420T205359
DTSTART;TZID=Europe/Berlin:20260427T090000
DTEND;TZID=Europe/Berlin:20260427T160000
UID:2601322944-20260427T090000@DÜSSELDORF ASG-BILDUNGSFORUM
SUMMARY:Online-Kurs: Italienisch lernen A1 Intensivkurs / Bildungsurlaub in einer Kleingruppe (2601322944) 
LOCATION:ASG-Online;Sprache3
END:VEVENT
BEGIN:VEVENT
DTSTAMP:20260420T205359
DTSTART;TZID=Europe/Berlin:20260428T090000
DTEND;TZID=Europe/Berlin:20260428T160000
UID:2601322944-20260428T090000@DÜSSELDORF ASG-BILDUNGSFORUM
SUMMARY:Online-Kurs: Italienisch lernen A1 Intensivkurs / Bildungsurlaub in einer Kleingruppe (2601322944) 
LOCATION:ASG-Online;Sprache3
END:VEVENT
BEGIN:VEVENT
DTSTAMP:20260420T205359
DTSTART;TZID=Europe/Berlin:20260429T090000
DTEND;TZID=Europe/Berlin:20260429T160000
UID:2601322944-20260429T090000@DÜSSELDORF ASG-BILDUNGSFORUM
SUMMARY:Online-Kurs: Italienisch lernen A1 Intensivkurs / Bildungsurlaub in einer Kleingruppe (2601322944) 
LOCATION:ASG-Online;Sprache3
END:VEVENT
BEGIN:VEVENT
DTSTAMP:20260420T205359
DTSTART;TZID=Europe/Berlin:20260430T090000
DTEND;TZID=Europe/Berlin:20260430T160000
UID:2601322944-20260430T090000@DÜSSELDORF ASG-BILDUNGSFORUM
SUMMARY:Online-Kurs: Italienisch lernen A1 Intensivkurs / Bildungsurlaub in einer Kleingruppe (2601322944) 
LOCATION:ASG-Online;Sprache3
END:VEVENT
END:VCALENDAR