BEGIN:VCALENDAR
VERSION:2.0
PRODID:https://www.kufer.de/kuferweb / DE
METHOD:PUBLISH
CALSCALE:GREGORIAN
X-WR-TIMEZONE:Europe/Berlin
BEGIN:VTIMEZONE
TZID:Europe/Berlin
X-LIC-LOCATION:Europe/Berlin
BEGIN:DAYLIGHT
TZOFFSETFROM:+0100
TZOFFSETTO:+0200
TZNAME:CEST
DTSTART:19700329T020000
RRULE:FREQ=YEARLY;INTERVAL=1;BYDAY=-1SU;BYMONTH=3
END:DAYLIGHT
BEGIN:STANDARD
TZOFFSETFROM:+0200
TZOFFSETTO:+0100
TZNAME:CET
DTSTART:19701025T030000
RRULE:FREQ=YEARLY;INTERVAL=1;BYDAY=-1SU;BYMONTH=10
END:STANDARD
END:VTIMEZONE
BEGIN:VEVENT
DTSTAMP:20260420T202841
DTSTART;TZID=Europe/Berlin:20260504T090000
DTEND;TZID=Europe/Berlin:20260504T140000
UID:2601322961-20260504T090000@DÜSSELDORF ASG-BILDUNGSFORUM
SUMMARY:Italienisch: Konversation und Grammatik A2/B1 Intensivkurs / Bildungsurlaub in einer Kleingruppe (2601322961) 
LOCATION:ASG-W4, Werdener Straße 4, 40227 Düsseldorf
END:VEVENT
BEGIN:VEVENT
DTSTAMP:20260420T202841
DTSTART;TZID=Europe/Berlin:20260505T090000
DTEND;TZID=Europe/Berlin:20260505T140000
UID:2601322961-20260505T090000@DÜSSELDORF ASG-BILDUNGSFORUM
SUMMARY:Italienisch: Konversation und Grammatik A2/B1 Intensivkurs / Bildungsurlaub in einer Kleingruppe (2601322961) 
LOCATION:ASG-W4, Werdener Straße 4, 40227 Düsseldorf
END:VEVENT
BEGIN:VEVENT
DTSTAMP:20260420T202841
DTSTART;TZID=Europe/Berlin:20260506T090000
DTEND;TZID=Europe/Berlin:20260506T140000
UID:2601322961-20260506T090000@DÜSSELDORF ASG-BILDUNGSFORUM
SUMMARY:Italienisch: Konversation und Grammatik A2/B1 Intensivkurs / Bildungsurlaub in einer Kleingruppe (2601322961) 
LOCATION:ASG-W4, Werdener Straße 4, 40227 Düsseldorf
END:VEVENT
BEGIN:VEVENT
DTSTAMP:20260420T202841
DTSTART;TZID=Europe/Berlin:20260507T090000
DTEND;TZID=Europe/Berlin:20260507T140000
UID:2601322961-20260507T090000@DÜSSELDORF ASG-BILDUNGSFORUM
SUMMARY:Italienisch: Konversation und Grammatik A2/B1 Intensivkurs / Bildungsurlaub in einer Kleingruppe (2601322961) 
LOCATION:ASG-W4, Werdener Straße 4, 40227 Düsseldorf
END:VEVENT
BEGIN:VEVENT
DTSTAMP:20260420T202841
DTSTART;TZID=Europe/Berlin:20260508T090000
DTEND;TZID=Europe/Berlin:20260508T140000
UID:2601322961-20260508T090000@DÜSSELDORF ASG-BILDUNGSFORUM
SUMMARY:Italienisch: Konversation und Grammatik A2/B1 Intensivkurs / Bildungsurlaub in einer Kleingruppe (2601322961) 
LOCATION:ASG-W4, Werdener Straße 4, 40227 Düsseldorf
END:VEVENT
END:VCALENDAR