BEGIN:VCALENDAR
VERSION:2.0
PRODID:https://www.kufer.de/kuferweb / DE
METHOD:PUBLISH
CALSCALE:GREGORIAN
X-WR-TIMEZONE:Europe/Berlin
BEGIN:VTIMEZONE
TZID:Europe/Berlin
X-LIC-LOCATION:Europe/Berlin
BEGIN:DAYLIGHT
TZOFFSETFROM:+0100
TZOFFSETTO:+0200
TZNAME:CEST
DTSTART:19700329T020000
RRULE:FREQ=YEARLY;INTERVAL=1;BYDAY=-1SU;BYMONTH=3
END:DAYLIGHT
BEGIN:STANDARD
TZOFFSETFROM:+0200
TZOFFSETTO:+0100
TZNAME:CET
DTSTART:19701025T030000
RRULE:FREQ=YEARLY;INTERVAL=1;BYDAY=-1SU;BYMONTH=10
END:STANDARD
END:VTIMEZONE
BEGIN:VEVENT
DTSTAMP:20260420T050942
DTSTART;TZID=Europe/Berlin:20260720T090000
DTEND;TZID=Europe/Berlin:20260720T160000
UID:2601322983-20260720T090000@DÜSSELDORF ASG-BILDUNGSFORUM
SUMMARY:Online-Kurs: Persisch Konversation A2 Intensivkurs / Bildungsurlaub in einer Kleingruppe (2601322983) 
LOCATION:ASG-Online;Seminar7
END:VEVENT
BEGIN:VEVENT
DTSTAMP:20260420T050942
DTSTART;TZID=Europe/Berlin:20260721T090000
DTEND;TZID=Europe/Berlin:20260721T160000
UID:2601322983-20260721T090000@DÜSSELDORF ASG-BILDUNGSFORUM
SUMMARY:Online-Kurs: Persisch Konversation A2 Intensivkurs / Bildungsurlaub in einer Kleingruppe (2601322983) 
LOCATION:ASG-Online;Seminar7
END:VEVENT
BEGIN:VEVENT
DTSTAMP:20260420T050942
DTSTART;TZID=Europe/Berlin:20260722T090000
DTEND;TZID=Europe/Berlin:20260722T160000
UID:2601322983-20260722T090000@DÜSSELDORF ASG-BILDUNGSFORUM
SUMMARY:Online-Kurs: Persisch Konversation A2 Intensivkurs / Bildungsurlaub in einer Kleingruppe (2601322983) 
LOCATION:ASG-Online;Seminar7
END:VEVENT
BEGIN:VEVENT
DTSTAMP:20260420T050942
DTSTART;TZID=Europe/Berlin:20260723T090000
DTEND;TZID=Europe/Berlin:20260723T160000
UID:2601322983-20260723T090000@DÜSSELDORF ASG-BILDUNGSFORUM
SUMMARY:Online-Kurs: Persisch Konversation A2 Intensivkurs / Bildungsurlaub in einer Kleingruppe (2601322983) 
LOCATION:ASG-Online;Seminar7
END:VEVENT
BEGIN:VEVENT
DTSTAMP:20260420T050942
DTSTART;TZID=Europe/Berlin:20260724T090000
DTEND;TZID=Europe/Berlin:20260724T160000
UID:2601322983-20260724T090000@DÜSSELDORF ASG-BILDUNGSFORUM
SUMMARY:Online-Kurs: Persisch Konversation A2 Intensivkurs / Bildungsurlaub in einer Kleingruppe (2601322983) 
LOCATION:ASG-Online;Seminar7
END:VEVENT
END:VCALENDAR