BEGIN:VCALENDAR
VERSION:2.0
PRODID:https://www.kufer.de/kuferweb / DE
METHOD:PUBLISH
CALSCALE:GREGORIAN
X-WR-TIMEZONE:Europe/Berlin
BEGIN:VTIMEZONE
TZID:Europe/Berlin
X-LIC-LOCATION:Europe/Berlin
BEGIN:DAYLIGHT
TZOFFSETFROM:+0100
TZOFFSETTO:+0200
TZNAME:CEST
DTSTART:19700329T020000
RRULE:FREQ=YEARLY;INTERVAL=1;BYDAY=-1SU;BYMONTH=3
END:DAYLIGHT
BEGIN:STANDARD
TZOFFSETFROM:+0200
TZOFFSETTO:+0100
TZNAME:CET
DTSTART:19701025T030000
RRULE:FREQ=YEARLY;INTERVAL=1;BYDAY=-1SU;BYMONTH=10
END:STANDARD
END:VTIMEZONE
BEGIN:VEVENT
DTSTAMP:20260419T182320
DTSTART;TZID=Europe/Berlin:20261116T090000
DTEND;TZID=Europe/Berlin:20261116T160000
UID:2601323882-20261116T090000@DÜSSELDORF ASG-BILDUNGSFORUM
SUMMARY:Online-Kurs: Spanisch: Conversación y Gramática A2/B1 Intensivkurs / Bildungsurlaub in einer Kleingruppe (2601323882) 
LOCATION:ASG-Online;Seminar3
END:VEVENT
BEGIN:VEVENT
DTSTAMP:20260419T182320
DTSTART;TZID=Europe/Berlin:20261117T090000
DTEND;TZID=Europe/Berlin:20261117T160000
UID:2601323882-20261117T090000@DÜSSELDORF ASG-BILDUNGSFORUM
SUMMARY:Online-Kurs: Spanisch: Conversación y Gramática A2/B1 Intensivkurs / Bildungsurlaub in einer Kleingruppe (2601323882) 
LOCATION:ASG-Online;Seminar3
END:VEVENT
BEGIN:VEVENT
DTSTAMP:20260419T182320
DTSTART;TZID=Europe/Berlin:20261118T090000
DTEND;TZID=Europe/Berlin:20261118T160000
UID:2601323882-20261118T090000@DÜSSELDORF ASG-BILDUNGSFORUM
SUMMARY:Online-Kurs: Spanisch: Conversación y Gramática A2/B1 Intensivkurs / Bildungsurlaub in einer Kleingruppe (2601323882) 
LOCATION:ASG-Online;Seminar3
END:VEVENT
BEGIN:VEVENT
DTSTAMP:20260419T182320
DTSTART;TZID=Europe/Berlin:20261119T090000
DTEND;TZID=Europe/Berlin:20261119T160000
UID:2601323882-20261119T090000@DÜSSELDORF ASG-BILDUNGSFORUM
SUMMARY:Online-Kurs: Spanisch: Conversación y Gramática A2/B1 Intensivkurs / Bildungsurlaub in einer Kleingruppe (2601323882) 
LOCATION:ASG-Online;Seminar3
END:VEVENT
BEGIN:VEVENT
DTSTAMP:20260419T182320
DTSTART;TZID=Europe/Berlin:20261120T090000
DTEND;TZID=Europe/Berlin:20261120T160000
UID:2601323882-20261120T090000@DÜSSELDORF ASG-BILDUNGSFORUM
SUMMARY:Online-Kurs: Spanisch: Conversación y Gramática A2/B1 Intensivkurs / Bildungsurlaub in einer Kleingruppe (2601323882) 
LOCATION:ASG-Online;Seminar3
END:VEVENT
END:VCALENDAR