BEGIN:VCALENDAR
VERSION:2.0
PRODID:https://www.kufer.de/kuferweb / DE
METHOD:PUBLISH
CALSCALE:GREGORIAN
X-WR-TIMEZONE:Europe/Berlin
BEGIN:VTIMEZONE
TZID:Europe/Berlin
X-LIC-LOCATION:Europe/Berlin
BEGIN:DAYLIGHT
TZOFFSETFROM:+0100
TZOFFSETTO:+0200
TZNAME:CEST
DTSTART:19700329T020000
RRULE:FREQ=YEARLY;INTERVAL=1;BYDAY=-1SU;BYMONTH=3
END:DAYLIGHT
BEGIN:STANDARD
TZOFFSETFROM:+0200
TZOFFSETTO:+0100
TZNAME:CET
DTSTART:19701025T030000
RRULE:FREQ=YEARLY;INTERVAL=1;BYDAY=-1SU;BYMONTH=10
END:STANDARD
END:VTIMEZONE
BEGIN:VEVENT
DTSTAMP:20260419T223908
DTSTART;TZID=Europe/Berlin:20261123T090000
DTEND;TZID=Europe/Berlin:20261123T160000
UID:2601323884-20261123T090000@DÜSSELDORF ASG-BILDUNGSFORUM
SUMMARY:Online-Kurs: Spanisch: Conversación y Gramática para expertos B2/C1 - Intensivkurs Intensivkurs / Bildungsurlaub in einer Kleingruppe (2601323884) 
LOCATION:ASG-Online;Sprache2
END:VEVENT
BEGIN:VEVENT
DTSTAMP:20260419T223908
DTSTART;TZID=Europe/Berlin:20261124T090000
DTEND;TZID=Europe/Berlin:20261124T160000
UID:2601323884-20261124T090000@DÜSSELDORF ASG-BILDUNGSFORUM
SUMMARY:Online-Kurs: Spanisch: Conversación y Gramática para expertos B2/C1 - Intensivkurs Intensivkurs / Bildungsurlaub in einer Kleingruppe (2601323884) 
LOCATION:ASG-Online;Sprache2
END:VEVENT
BEGIN:VEVENT
DTSTAMP:20260419T223908
DTSTART;TZID=Europe/Berlin:20261125T090000
DTEND;TZID=Europe/Berlin:20261125T160000
UID:2601323884-20261125T090000@DÜSSELDORF ASG-BILDUNGSFORUM
SUMMARY:Online-Kurs: Spanisch: Conversación y Gramática para expertos B2/C1 - Intensivkurs Intensivkurs / Bildungsurlaub in einer Kleingruppe (2601323884) 
LOCATION:ASG-Online;Sprache2
END:VEVENT
BEGIN:VEVENT
DTSTAMP:20260419T223908
DTSTART;TZID=Europe/Berlin:20261126T090000
DTEND;TZID=Europe/Berlin:20261126T160000
UID:2601323884-20261126T090000@DÜSSELDORF ASG-BILDUNGSFORUM
SUMMARY:Online-Kurs: Spanisch: Conversación y Gramática para expertos B2/C1 - Intensivkurs Intensivkurs / Bildungsurlaub in einer Kleingruppe (2601323884) 
LOCATION:ASG-Online;Sprache2
END:VEVENT
BEGIN:VEVENT
DTSTAMP:20260419T223908
DTSTART;TZID=Europe/Berlin:20261127T090000
DTEND;TZID=Europe/Berlin:20261127T160000
UID:2601323884-20261127T090000@DÜSSELDORF ASG-BILDUNGSFORUM
SUMMARY:Online-Kurs: Spanisch: Conversación y Gramática para expertos B2/C1 - Intensivkurs Intensivkurs / Bildungsurlaub in einer Kleingruppe (2601323884) 
LOCATION:ASG-Online;Sprache2
END:VEVENT
END:VCALENDAR