BEGIN:VCALENDAR
VERSION:2.0
PRODID:https://www.kufer.de/kuferweb / DE
METHOD:PUBLISH
CALSCALE:GREGORIAN
X-WR-TIMEZONE:Europe/Berlin
BEGIN:VTIMEZONE
TZID:Europe/Berlin
X-LIC-LOCATION:Europe/Berlin
BEGIN:DAYLIGHT
TZOFFSETFROM:+0100
TZOFFSETTO:+0200
TZNAME:CEST
DTSTART:19700329T020000
RRULE:FREQ=YEARLY;INTERVAL=1;BYDAY=-1SU;BYMONTH=3
END:DAYLIGHT
BEGIN:STANDARD
TZOFFSETFROM:+0200
TZOFFSETTO:+0100
TZNAME:CET
DTSTART:19701025T030000
RRULE:FREQ=YEARLY;INTERVAL=1;BYDAY=-1SU;BYMONTH=10
END:STANDARD
END:VTIMEZONE
BEGIN:VEVENT
DTSTAMP:20260419T200227
DTSTART;TZID=Europe/Berlin:20261130T090000
DTEND;TZID=Europe/Berlin:20261130T140000
UID:2601323887-20261130T090000@DÜSSELDORF ASG-BILDUNGSFORUM
SUMMARY:Spanisch: Conversación y Gramática para expertos B2/C1 - Intensivkurs Intensivkurs / Bildungsurlaub in einer Kleingruppe (2601323887) 
LOCATION:ASG-W4, Werdener Straße 4, 40227 Düsseldorf
END:VEVENT
BEGIN:VEVENT
DTSTAMP:20260419T200227
DTSTART;TZID=Europe/Berlin:20261201T090000
DTEND;TZID=Europe/Berlin:20261201T140000
UID:2601323887-20261201T090000@DÜSSELDORF ASG-BILDUNGSFORUM
SUMMARY:Spanisch: Conversación y Gramática para expertos B2/C1 - Intensivkurs Intensivkurs / Bildungsurlaub in einer Kleingruppe (2601323887) 
LOCATION:ASG-W4, Werdener Straße 4, 40227 Düsseldorf
END:VEVENT
BEGIN:VEVENT
DTSTAMP:20260419T200227
DTSTART;TZID=Europe/Berlin:20261202T090000
DTEND;TZID=Europe/Berlin:20261202T140000
UID:2601323887-20261202T090000@DÜSSELDORF ASG-BILDUNGSFORUM
SUMMARY:Spanisch: Conversación y Gramática para expertos B2/C1 - Intensivkurs Intensivkurs / Bildungsurlaub in einer Kleingruppe (2601323887) 
LOCATION:ASG-W4, Werdener Straße 4, 40227 Düsseldorf
END:VEVENT
BEGIN:VEVENT
DTSTAMP:20260419T200227
DTSTART;TZID=Europe/Berlin:20261203T090000
DTEND;TZID=Europe/Berlin:20261203T140000
UID:2601323887-20261203T090000@DÜSSELDORF ASG-BILDUNGSFORUM
SUMMARY:Spanisch: Conversación y Gramática para expertos B2/C1 - Intensivkurs Intensivkurs / Bildungsurlaub in einer Kleingruppe (2601323887) 
LOCATION:ASG-W4, Werdener Straße 4, 40227 Düsseldorf
END:VEVENT
BEGIN:VEVENT
DTSTAMP:20260419T200227
DTSTART;TZID=Europe/Berlin:20261204T090000
DTEND;TZID=Europe/Berlin:20261204T140000
UID:2601323887-20261204T090000@DÜSSELDORF ASG-BILDUNGSFORUM
SUMMARY:Spanisch: Conversación y Gramática para expertos B2/C1 - Intensivkurs Intensivkurs / Bildungsurlaub in einer Kleingruppe (2601323887) 
LOCATION:ASG-W4, Werdener Straße 4, 40227 Düsseldorf
END:VEVENT
END:VCALENDAR