BEGIN:VCALENDAR
VERSION:2.0
PRODID:https://www.kufer.de/kuferweb / DE
METHOD:PUBLISH
CALSCALE:GREGORIAN
X-WR-TIMEZONE:Europe/Berlin
BEGIN:VTIMEZONE
TZID:Europe/Berlin
X-LIC-LOCATION:Europe/Berlin
BEGIN:DAYLIGHT
TZOFFSETFROM:+0100
TZOFFSETTO:+0200
TZNAME:CEST
DTSTART:19700329T020000
RRULE:FREQ=YEARLY;INTERVAL=1;BYDAY=-1SU;BYMONTH=3
END:DAYLIGHT
BEGIN:STANDARD
TZOFFSETFROM:+0200
TZOFFSETTO:+0100
TZNAME:CET
DTSTART:19701025T030000
RRULE:FREQ=YEARLY;INTERVAL=1;BYDAY=-1SU;BYMONTH=10
END:STANDARD
END:VTIMEZONE
BEGIN:VEVENT
DTSTAMP:20260422T003110
DTSTART;TZID=Europe/Berlin:20261005T180000
DTEND;TZID=Europe/Berlin:20261005T193000
UID:2601713003-20261005T180000@DÜSSELDORF ASG-BILDUNGSFORUM
SUMMARY:Denken hilft - Philosophische Lebenskunst heute Philosophie als Werkzeug gegen Stress, Unsicherheit und Überforderung (2601713003) 
LOCATION:ASG-G90;2.01, Gerresheimer Straße 90, 40233 Düsseldorf
END:VEVENT
BEGIN:VEVENT
DTSTAMP:20260422T003110
DTSTART;TZID=Europe/Berlin:20261012T180000
DTEND;TZID=Europe/Berlin:20261012T193000
UID:2601713003-20261012T180000@DÜSSELDORF ASG-BILDUNGSFORUM
SUMMARY:Denken hilft - Philosophische Lebenskunst heute Philosophie als Werkzeug gegen Stress, Unsicherheit und Überforderung (2601713003) 
LOCATION:ASG-G90;2.01, Gerresheimer Straße 90, 40233 Düsseldorf
END:VEVENT
BEGIN:VEVENT
DTSTAMP:20260422T003110
DTSTART;TZID=Europe/Berlin:20261102T180000
DTEND;TZID=Europe/Berlin:20261102T193000
UID:2601713003-20261102T180000@DÜSSELDORF ASG-BILDUNGSFORUM
SUMMARY:Denken hilft - Philosophische Lebenskunst heute Philosophie als Werkzeug gegen Stress, Unsicherheit und Überforderung (2601713003) 
LOCATION:ASG-G90;2.01, Gerresheimer Straße 90, 40233 Düsseldorf
END:VEVENT
BEGIN:VEVENT
DTSTAMP:20260422T003110
DTSTART;TZID=Europe/Berlin:20261116T180000
DTEND;TZID=Europe/Berlin:20261116T193000
UID:2601713003-20261116T180000@DÜSSELDORF ASG-BILDUNGSFORUM
SUMMARY:Denken hilft - Philosophische Lebenskunst heute Philosophie als Werkzeug gegen Stress, Unsicherheit und Überforderung (2601713003) 
LOCATION:ASG-G90;2.01, Gerresheimer Straße 90, 40233 Düsseldorf
END:VEVENT
BEGIN:VEVENT
DTSTAMP:20260422T003110
DTSTART;TZID=Europe/Berlin:20261123T180000
DTEND;TZID=Europe/Berlin:20261123T193000
UID:2601713003-20261123T180000@DÜSSELDORF ASG-BILDUNGSFORUM
SUMMARY:Denken hilft - Philosophische Lebenskunst heute Philosophie als Werkzeug gegen Stress, Unsicherheit und Überforderung (2601713003) 
LOCATION:ASG-G90;2.01, Gerresheimer Straße 90, 40233 Düsseldorf
END:VEVENT
BEGIN:VEVENT
DTSTAMP:20260422T003110
DTSTART;TZID=Europe/Berlin:20261130T180000
DTEND;TZID=Europe/Berlin:20261130T193000
UID:2601713003-20261130T180000@DÜSSELDORF ASG-BILDUNGSFORUM
SUMMARY:Denken hilft - Philosophische Lebenskunst heute Philosophie als Werkzeug gegen Stress, Unsicherheit und Überforderung (2601713003) 
LOCATION:ASG-G90;2.01, Gerresheimer Straße 90, 40233 Düsseldorf
END:VEVENT
BEGIN:VEVENT
DTSTAMP:20260422T003110
DTSTART;TZID=Europe/Berlin:20261207T180000
DTEND;TZID=Europe/Berlin:20261207T193000
UID:2601713003-20261207T180000@DÜSSELDORF ASG-BILDUNGSFORUM
SUMMARY:Denken hilft - Philosophische Lebenskunst heute Philosophie als Werkzeug gegen Stress, Unsicherheit und Überforderung (2601713003) 
LOCATION:ASG-G90;2.01, Gerresheimer Straße 90, 40233 Düsseldorf
END:VEVENT
END:VCALENDAR