BEGIN:VCALENDAR
VERSION:2.0
PRODID:https://www.kufer.de/kuferweb / DE
METHOD:PUBLISH
CALSCALE:GREGORIAN
X-WR-TIMEZONE:Europe/Berlin
BEGIN:VTIMEZONE
TZID:Europe/Berlin
X-LIC-LOCATION:Europe/Berlin
BEGIN:DAYLIGHT
TZOFFSETFROM:+0100
TZOFFSETTO:+0200
TZNAME:CEST
DTSTART:19700329T020000
RRULE:FREQ=YEARLY;INTERVAL=1;BYDAY=-1SU;BYMONTH=3
END:DAYLIGHT
BEGIN:STANDARD
TZOFFSETFROM:+0200
TZOFFSETTO:+0100
TZNAME:CET
DTSTART:19701025T030000
RRULE:FREQ=YEARLY;INTERVAL=1;BYDAY=-1SU;BYMONTH=10
END:STANDARD
END:VTIMEZONE
BEGIN:VEVENT
DTSTAMP:20260421T183851
DTSTART;TZID=Europe/Berlin:20260422T140000
DTEND;TZID=Europe/Berlin:20260422T144500
UID:2601761128-20260422T140000@DÜSSELDORF ASG-BILDUNGSFORUM
SUMMARY:Gitarre-Einzelunterricht, Kurs 10 (2601761128) 
LOCATION:ASG-G90;2.04, Gerresheimer Straße 90, 40233 Düsseldorf
END:VEVENT
BEGIN:VEVENT
DTSTAMP:20260421T183851
DTSTART;TZID=Europe/Berlin:20260429T140000
DTEND;TZID=Europe/Berlin:20260429T144500
UID:2601761128-20260429T140000@DÜSSELDORF ASG-BILDUNGSFORUM
SUMMARY:Gitarre-Einzelunterricht, Kurs 10 (2601761128) 
LOCATION:ASG-G90;2.04, Gerresheimer Straße 90, 40233 Düsseldorf
END:VEVENT
BEGIN:VEVENT
DTSTAMP:20260421T183851
DTSTART;TZID=Europe/Berlin:20260506T140000
DTEND;TZID=Europe/Berlin:20260506T144500
UID:2601761128-20260506T140000@DÜSSELDORF ASG-BILDUNGSFORUM
SUMMARY:Gitarre-Einzelunterricht, Kurs 10 (2601761128) 
LOCATION:ASG-G90;2.04, Gerresheimer Straße 90, 40233 Düsseldorf
END:VEVENT
BEGIN:VEVENT
DTSTAMP:20260421T183851
DTSTART;TZID=Europe/Berlin:20260513T140000
DTEND;TZID=Europe/Berlin:20260513T144500
UID:2601761128-20260513T140000@DÜSSELDORF ASG-BILDUNGSFORUM
SUMMARY:Gitarre-Einzelunterricht, Kurs 10 (2601761128) 
LOCATION:ASG-G90;2.04, Gerresheimer Straße 90, 40233 Düsseldorf
END:VEVENT
BEGIN:VEVENT
DTSTAMP:20260421T183851
DTSTART;TZID=Europe/Berlin:20260520T140000
DTEND;TZID=Europe/Berlin:20260520T144500
UID:2601761128-20260520T140000@DÜSSELDORF ASG-BILDUNGSFORUM
SUMMARY:Gitarre-Einzelunterricht, Kurs 10 (2601761128) 
LOCATION:ASG-G90;2.04, Gerresheimer Straße 90, 40233 Düsseldorf
END:VEVENT
BEGIN:VEVENT
DTSTAMP:20260421T183851
DTSTART;TZID=Europe/Berlin:20260527T140000
DTEND;TZID=Europe/Berlin:20260527T144500
UID:2601761128-20260527T140000@DÜSSELDORF ASG-BILDUNGSFORUM
SUMMARY:Gitarre-Einzelunterricht, Kurs 10 (2601761128) 
LOCATION:ASG-G90;2.04, Gerresheimer Straße 90, 40233 Düsseldorf
END:VEVENT
BEGIN:VEVENT
DTSTAMP:20260421T183851
DTSTART;TZID=Europe/Berlin:20260603T140000
DTEND;TZID=Europe/Berlin:20260603T144500
UID:2601761128-20260603T140000@DÜSSELDORF ASG-BILDUNGSFORUM
SUMMARY:Gitarre-Einzelunterricht, Kurs 10 (2601761128) 
LOCATION:ASG-G90;2.04, Gerresheimer Straße 90, 40233 Düsseldorf
END:VEVENT
BEGIN:VEVENT
DTSTAMP:20260421T183851
DTSTART;TZID=Europe/Berlin:20260610T140000
DTEND;TZID=Europe/Berlin:20260610T144500
UID:2601761128-20260610T140000@DÜSSELDORF ASG-BILDUNGSFORUM
SUMMARY:Gitarre-Einzelunterricht, Kurs 10 (2601761128) 
LOCATION:ASG-G90;2.04, Gerresheimer Straße 90, 40233 Düsseldorf
END:VEVENT
BEGIN:VEVENT
DTSTAMP:20260421T183851
DTSTART;TZID=Europe/Berlin:20260617T140000
DTEND;TZID=Europe/Berlin:20260617T144500
UID:2601761128-20260617T140000@DÜSSELDORF ASG-BILDUNGSFORUM
SUMMARY:Gitarre-Einzelunterricht, Kurs 10 (2601761128) 
LOCATION:ASG-G90;2.04, Gerresheimer Straße 90, 40233 Düsseldorf
END:VEVENT
BEGIN:VEVENT
DTSTAMP:20260421T183851
DTSTART;TZID=Europe/Berlin:20260624T140000
DTEND;TZID=Europe/Berlin:20260624T144500
UID:2601761128-20260624T140000@DÜSSELDORF ASG-BILDUNGSFORUM
SUMMARY:Gitarre-Einzelunterricht, Kurs 10 (2601761128) 
LOCATION:ASG-G90;2.04, Gerresheimer Straße 90, 40233 Düsseldorf
END:VEVENT
BEGIN:VEVENT
DTSTAMP:20260421T183851
DTSTART;TZID=Europe/Berlin:20260701T140000
DTEND;TZID=Europe/Berlin:20260701T144500
UID:2601761128-20260701T140000@DÜSSELDORF ASG-BILDUNGSFORUM
SUMMARY:Gitarre-Einzelunterricht, Kurs 10 (2601761128) 
LOCATION:ASG-G90;2.04, Gerresheimer Straße 90, 40233 Düsseldorf
END:VEVENT
BEGIN:VEVENT
DTSTAMP:20260421T183851
DTSTART;TZID=Europe/Berlin:20260708T140000
DTEND;TZID=Europe/Berlin:20260708T144500
UID:2601761128-20260708T140000@DÜSSELDORF ASG-BILDUNGSFORUM
SUMMARY:Gitarre-Einzelunterricht, Kurs 10 (2601761128) 
LOCATION:ASG-G90;2.04, Gerresheimer Straße 90, 40233 Düsseldorf
END:VEVENT
BEGIN:VEVENT
DTSTAMP:20260421T183851
DTSTART;TZID=Europe/Berlin:20260715T140000
DTEND;TZID=Europe/Berlin:20260715T144500
UID:2601761128-20260715T140000@DÜSSELDORF ASG-BILDUNGSFORUM
SUMMARY:Gitarre-Einzelunterricht, Kurs 10 (2601761128) 
LOCATION:ASG-G90;2.04, Gerresheimer Straße 90, 40233 Düsseldorf
END:VEVENT
END:VCALENDAR