BEGIN:VCALENDAR
VERSION:2.0
PRODID:https://www.kufer.de/kuferweb / DE
METHOD:PUBLISH
CALSCALE:GREGORIAN
X-WR-TIMEZONE:Europe/Berlin
BEGIN:VTIMEZONE
TZID:Europe/Berlin
X-LIC-LOCATION:Europe/Berlin
BEGIN:DAYLIGHT
TZOFFSETFROM:+0100
TZOFFSETTO:+0200
TZNAME:CEST
DTSTART:19700329T020000
RRULE:FREQ=YEARLY;INTERVAL=1;BYDAY=-1SU;BYMONTH=3
END:DAYLIGHT
BEGIN:STANDARD
TZOFFSETFROM:+0200
TZOFFSETTO:+0100
TZNAME:CET
DTSTART:19701025T030000
RRULE:FREQ=YEARLY;INTERVAL=1;BYDAY=-1SU;BYMONTH=10
END:STANDARD
END:VTIMEZONE
BEGIN:VEVENT
DTSTAMP:20260421T200558
DTSTART;TZID=Europe/Berlin:20260430T100000
DTEND;TZID=Europe/Berlin:20260430T104500
UID:2601761146-20260430T100000@DÜSSELDORF ASG-BILDUNGSFORUM
SUMMARY:Gesang-Einzelunterricht, Kurs 7 mit Caroline Jahns (2601761146) 
LOCATION:ASG-G90;2.04, Gerresheimer Straße 90, 40233 Düsseldorf
END:VEVENT
BEGIN:VEVENT
DTSTAMP:20260421T200558
DTSTART;TZID=Europe/Berlin:20260507T100000
DTEND;TZID=Europe/Berlin:20260507T104500
UID:2601761146-20260507T100000@DÜSSELDORF ASG-BILDUNGSFORUM
SUMMARY:Gesang-Einzelunterricht, Kurs 7 mit Caroline Jahns (2601761146) 
LOCATION:ASG-G90;2.04, Gerresheimer Straße 90, 40233 Düsseldorf
END:VEVENT
BEGIN:VEVENT
DTSTAMP:20260421T200558
DTSTART;TZID=Europe/Berlin:20260528T100000
DTEND;TZID=Europe/Berlin:20260528T104500
UID:2601761146-20260528T100000@DÜSSELDORF ASG-BILDUNGSFORUM
DESCRIPTION:untere Turnhalle belegt
SUMMARY:Gesang-Einzelunterricht, Kurs 7 mit Caroline Jahns (2601761146) 
LOCATION:ASG-G90;2.04, Gerresheimer Straße 90, 40233 Düsseldorf
END:VEVENT
BEGIN:VEVENT
DTSTAMP:20260421T200558
DTSTART;TZID=Europe/Berlin:20260611T100000
DTEND;TZID=Europe/Berlin:20260611T104500
UID:2601761146-20260611T100000@DÜSSELDORF ASG-BILDUNGSFORUM
SUMMARY:Gesang-Einzelunterricht, Kurs 7 mit Caroline Jahns (2601761146) 
LOCATION:ASG-G90;2.04, Gerresheimer Straße 90, 40233 Düsseldorf
END:VEVENT
BEGIN:VEVENT
DTSTAMP:20260421T200558
DTSTART;TZID=Europe/Berlin:20260625T100000
DTEND;TZID=Europe/Berlin:20260625T104500
UID:2601761146-20260625T100000@DÜSSELDORF ASG-BILDUNGSFORUM
DESCRIPTION:untere Turnhalle belegt
SUMMARY:Gesang-Einzelunterricht, Kurs 7 mit Caroline Jahns (2601761146) 
LOCATION:ASG-G90;2.04, Gerresheimer Straße 90, 40233 Düsseldorf
END:VEVENT
BEGIN:VEVENT
DTSTAMP:20260421T200558
DTSTART;TZID=Europe/Berlin:20260709T100000
DTEND;TZID=Europe/Berlin:20260709T104500
UID:2601761146-20260709T100000@DÜSSELDORF ASG-BILDUNGSFORUM
SUMMARY:Gesang-Einzelunterricht, Kurs 7 mit Caroline Jahns (2601761146) 
LOCATION:ASG-G90;2.04, Gerresheimer Straße 90, 40233 Düsseldorf
END:VEVENT
END:VCALENDAR