BEGIN:VCALENDAR
VERSION:2.0
PRODID:https://www.kufer.de/kuferweb / DE
METHOD:PUBLISH
CALSCALE:GREGORIAN
X-WR-TIMEZONE:Europe/Berlin
BEGIN:VTIMEZONE
TZID:Europe/Berlin
X-LIC-LOCATION:Europe/Berlin
BEGIN:DAYLIGHT
TZOFFSETFROM:+0100
TZOFFSETTO:+0200
TZNAME:CEST
DTSTART:19700329T020000
RRULE:FREQ=YEARLY;INTERVAL=1;BYDAY=-1SU;BYMONTH=3
END:DAYLIGHT
BEGIN:STANDARD
TZOFFSETFROM:+0200
TZOFFSETTO:+0100
TZNAME:CET
DTSTART:19701025T030000
RRULE:FREQ=YEARLY;INTERVAL=1;BYDAY=-1SU;BYMONTH=10
END:STANDARD
END:VTIMEZONE
BEGIN:VEVENT
DTSTAMP:20260421T175730
DTSTART;TZID=Europe/Berlin:20260423T104500
DTEND;TZID=Europe/Berlin:20260423T113000
UID:2601761147-20260423T104500@DÜSSELDORF ASG-BILDUNGSFORUM
DESCRIPTION:untere Halle belegt
SUMMARY:Gesang-Einzelunterricht, Kurs 8 mit Caroline Jahns (2601761147) 
LOCATION:ASG-G90;2.04, Gerresheimer Straße 90, 40233 Düsseldorf
END:VEVENT
BEGIN:VEVENT
DTSTAMP:20260421T175730
DTSTART;TZID=Europe/Berlin:20260430T104500
DTEND;TZID=Europe/Berlin:20260430T113000
UID:2601761147-20260430T104500@DÜSSELDORF ASG-BILDUNGSFORUM
SUMMARY:Gesang-Einzelunterricht, Kurs 8 mit Caroline Jahns (2601761147) 
LOCATION:ASG-G90;2.04, Gerresheimer Straße 90, 40233 Düsseldorf
END:VEVENT
BEGIN:VEVENT
DTSTAMP:20260421T175730
DTSTART;TZID=Europe/Berlin:20260507T104500
DTEND;TZID=Europe/Berlin:20260507T113000
UID:2601761147-20260507T104500@DÜSSELDORF ASG-BILDUNGSFORUM
SUMMARY:Gesang-Einzelunterricht, Kurs 8 mit Caroline Jahns (2601761147) 
LOCATION:ASG-G90;2.04, Gerresheimer Straße 90, 40233 Düsseldorf
END:VEVENT
BEGIN:VEVENT
DTSTAMP:20260421T175730
DTSTART;TZID=Europe/Berlin:20260521T104500
DTEND;TZID=Europe/Berlin:20260521T113000
UID:2601761147-20260521T104500@DÜSSELDORF ASG-BILDUNGSFORUM
SUMMARY:Gesang-Einzelunterricht, Kurs 8 mit Caroline Jahns (2601761147) 
LOCATION:ASG-G90;2.04, Gerresheimer Straße 90, 40233 Düsseldorf
END:VEVENT
BEGIN:VEVENT
DTSTAMP:20260421T175730
DTSTART;TZID=Europe/Berlin:20260528T104500
DTEND;TZID=Europe/Berlin:20260528T113000
UID:2601761147-20260528T104500@DÜSSELDORF ASG-BILDUNGSFORUM
DESCRIPTION:untere Halle belegt
SUMMARY:Gesang-Einzelunterricht, Kurs 8 mit Caroline Jahns (2601761147) 
LOCATION:ASG-G90;2.04, Gerresheimer Straße 90, 40233 Düsseldorf
END:VEVENT
BEGIN:VEVENT
DTSTAMP:20260421T175730
DTSTART;TZID=Europe/Berlin:20260611T104500
DTEND;TZID=Europe/Berlin:20260611T113000
UID:2601761147-20260611T104500@DÜSSELDORF ASG-BILDUNGSFORUM
SUMMARY:Gesang-Einzelunterricht, Kurs 8 mit Caroline Jahns (2601761147) 
LOCATION:ASG-G90;U1.01, Gerresheimer Straße 90, 40233 Düsseldorf
END:VEVENT
BEGIN:VEVENT
DTSTAMP:20260421T175730
DTSTART;TZID=Europe/Berlin:20260618T104500
DTEND;TZID=Europe/Berlin:20260618T113000
UID:2601761147-20260618T104500@DÜSSELDORF ASG-BILDUNGSFORUM
SUMMARY:Gesang-Einzelunterricht, Kurs 8 mit Caroline Jahns (2601761147) 
LOCATION:ASG-G90;U1.01, Gerresheimer Straße 90, 40233 Düsseldorf
END:VEVENT
BEGIN:VEVENT
DTSTAMP:20260421T175730
DTSTART;TZID=Europe/Berlin:20260625T104500
DTEND;TZID=Europe/Berlin:20260625T113000
UID:2601761147-20260625T104500@DÜSSELDORF ASG-BILDUNGSFORUM
DESCRIPTION:untere Halle belegt
SUMMARY:Gesang-Einzelunterricht, Kurs 8 mit Caroline Jahns (2601761147) 
LOCATION:ASG-G90;2.04, Gerresheimer Straße 90, 40233 Düsseldorf
END:VEVENT
BEGIN:VEVENT
DTSTAMP:20260421T175730
DTSTART;TZID=Europe/Berlin:20260702T104500
DTEND;TZID=Europe/Berlin:20260702T113000
UID:2601761147-20260702T104500@DÜSSELDORF ASG-BILDUNGSFORUM
SUMMARY:Gesang-Einzelunterricht, Kurs 8 mit Caroline Jahns (2601761147) 
LOCATION:ASG-G90;2.04, Gerresheimer Straße 90, 40233 Düsseldorf
END:VEVENT
BEGIN:VEVENT
DTSTAMP:20260421T175730
DTSTART;TZID=Europe/Berlin:20260709T104500
DTEND;TZID=Europe/Berlin:20260709T113000
UID:2601761147-20260709T104500@DÜSSELDORF ASG-BILDUNGSFORUM
SUMMARY:Gesang-Einzelunterricht, Kurs 8 mit Caroline Jahns (2601761147) 
LOCATION:ASG-G90;2.04, Gerresheimer Straße 90, 40233 Düsseldorf
END:VEVENT
BEGIN:VEVENT
DTSTAMP:20260421T175730
DTSTART;TZID=Europe/Berlin:20260716T104500
DTEND;TZID=Europe/Berlin:20260716T113000
UID:2601761147-20260716T104500@DÜSSELDORF ASG-BILDUNGSFORUM
DESCRIPTION:untere Halle belegt
SUMMARY:Gesang-Einzelunterricht, Kurs 8 mit Caroline Jahns (2601761147) 
LOCATION:ASG-G90;2.04, Gerresheimer Straße 90, 40233 Düsseldorf
END:VEVENT
END:VCALENDAR