BEGIN:VCALENDAR
VERSION:2.0
PRODID:https://www.kufer.de/kuferweb / DE
METHOD:PUBLISH
CALSCALE:GREGORIAN
X-WR-TIMEZONE:Europe/Berlin
BEGIN:VTIMEZONE
TZID:Europe/Berlin
X-LIC-LOCATION:Europe/Berlin
BEGIN:DAYLIGHT
TZOFFSETFROM:+0100
TZOFFSETTO:+0200
TZNAME:CEST
DTSTART:19700329T020000
RRULE:FREQ=YEARLY;INTERVAL=1;BYDAY=-1SU;BYMONTH=3
END:DAYLIGHT
BEGIN:STANDARD
TZOFFSETFROM:+0200
TZOFFSETTO:+0100
TZNAME:CET
DTSTART:19701025T030000
RRULE:FREQ=YEARLY;INTERVAL=1;BYDAY=-1SU;BYMONTH=10
END:STANDARD
END:VTIMEZONE
BEGIN:VEVENT
DTSTAMP:20260421T173428
DTSTART;TZID=Europe/Berlin:20260423T154500
DTEND;TZID=Europe/Berlin:20260423T163000
UID:2601761149-20260423T154500@DÜSSELDORF ASG-BILDUNGSFORUM
DESCRIPTION:untere Halle belegt
SUMMARY:Gesang-Einzelunterricht, Kurs 10 mit Caroline Jahns (2601761149) 
LOCATION:ASG-G90;2.04, Gerresheimer Straße 90, 40233 Düsseldorf
END:VEVENT
BEGIN:VEVENT
DTSTAMP:20260421T173428
DTSTART;TZID=Europe/Berlin:20260430T154500
DTEND;TZID=Europe/Berlin:20260430T163000
UID:2601761149-20260430T154500@DÜSSELDORF ASG-BILDUNGSFORUM
SUMMARY:Gesang-Einzelunterricht, Kurs 10 mit Caroline Jahns (2601761149) 
LOCATION:ASG-G90;2.04, Gerresheimer Straße 90, 40233 Düsseldorf
END:VEVENT
BEGIN:VEVENT
DTSTAMP:20260421T173428
DTSTART;TZID=Europe/Berlin:20260507T154500
DTEND;TZID=Europe/Berlin:20260507T163000
UID:2601761149-20260507T154500@DÜSSELDORF ASG-BILDUNGSFORUM
SUMMARY:Gesang-Einzelunterricht, Kurs 10 mit Caroline Jahns (2601761149) 
LOCATION:ASG-G90;2.04, Gerresheimer Straße 90, 40233 Düsseldorf
END:VEVENT
BEGIN:VEVENT
DTSTAMP:20260421T173428
DTSTART;TZID=Europe/Berlin:20260521T154500
DTEND;TZID=Europe/Berlin:20260521T163000
UID:2601761149-20260521T154500@DÜSSELDORF ASG-BILDUNGSFORUM
SUMMARY:Gesang-Einzelunterricht, Kurs 10 mit Caroline Jahns (2601761149) 
LOCATION:ASG-G90;2.04, Gerresheimer Straße 90, 40233 Düsseldorf
END:VEVENT
BEGIN:VEVENT
DTSTAMP:20260421T173428
DTSTART;TZID=Europe/Berlin:20260528T154500
DTEND;TZID=Europe/Berlin:20260528T163000
UID:2601761149-20260528T154500@DÜSSELDORF ASG-BILDUNGSFORUM
DESCRIPTION:untere Halle belegt
SUMMARY:Gesang-Einzelunterricht, Kurs 10 mit Caroline Jahns (2601761149) 
LOCATION:ASG-G90;2.04, Gerresheimer Straße 90, 40233 Düsseldorf
END:VEVENT
BEGIN:VEVENT
DTSTAMP:20260421T173428
DTSTART;TZID=Europe/Berlin:20260611T154500
DTEND;TZID=Europe/Berlin:20260611T163000
UID:2601761149-20260611T154500@DÜSSELDORF ASG-BILDUNGSFORUM
SUMMARY:Gesang-Einzelunterricht, Kurs 10 mit Caroline Jahns (2601761149) 
LOCATION:ASG-G90;U1.01, Gerresheimer Straße 90, 40233 Düsseldorf
END:VEVENT
BEGIN:VEVENT
DTSTAMP:20260421T173428
DTSTART;TZID=Europe/Berlin:20260618T154500
DTEND;TZID=Europe/Berlin:20260618T163000
UID:2601761149-20260618T154500@DÜSSELDORF ASG-BILDUNGSFORUM
SUMMARY:Gesang-Einzelunterricht, Kurs 10 mit Caroline Jahns (2601761149) 
LOCATION:ASG-G90;U1.01, Gerresheimer Straße 90, 40233 Düsseldorf
END:VEVENT
BEGIN:VEVENT
DTSTAMP:20260421T173428
DTSTART;TZID=Europe/Berlin:20260625T154500
DTEND;TZID=Europe/Berlin:20260625T163000
UID:2601761149-20260625T154500@DÜSSELDORF ASG-BILDUNGSFORUM
DESCRIPTION:untere Halle belegt
SUMMARY:Gesang-Einzelunterricht, Kurs 10 mit Caroline Jahns (2601761149) 
LOCATION:ASG-G90;2.04, Gerresheimer Straße 90, 40233 Düsseldorf
END:VEVENT
BEGIN:VEVENT
DTSTAMP:20260421T173428
DTSTART;TZID=Europe/Berlin:20260702T154500
DTEND;TZID=Europe/Berlin:20260702T163000
UID:2601761149-20260702T154500@DÜSSELDORF ASG-BILDUNGSFORUM
SUMMARY:Gesang-Einzelunterricht, Kurs 10 mit Caroline Jahns (2601761149) 
LOCATION:ASG-G90;2.04, Gerresheimer Straße 90, 40233 Düsseldorf
END:VEVENT
BEGIN:VEVENT
DTSTAMP:20260421T173428
DTSTART;TZID=Europe/Berlin:20260709T154500
DTEND;TZID=Europe/Berlin:20260709T163000
UID:2601761149-20260709T154500@DÜSSELDORF ASG-BILDUNGSFORUM
SUMMARY:Gesang-Einzelunterricht, Kurs 10 mit Caroline Jahns (2601761149) 
LOCATION:ASG-G90;2.04, Gerresheimer Straße 90, 40233 Düsseldorf
END:VEVENT
BEGIN:VEVENT
DTSTAMP:20260421T173428
DTSTART;TZID=Europe/Berlin:20260716T154500
DTEND;TZID=Europe/Berlin:20260716T163000
UID:2601761149-20260716T154500@DÜSSELDORF ASG-BILDUNGSFORUM
DESCRIPTION:untere Halle belegt
SUMMARY:Gesang-Einzelunterricht, Kurs 10 mit Caroline Jahns (2601761149) 
LOCATION:ASG-G90;2.04, Gerresheimer Straße 90, 40233 Düsseldorf
END:VEVENT
END:VCALENDAR