BEGIN:VCALENDAR
VERSION:2.0
PRODID:https://www.kufer.de/kuferweb / DE
METHOD:PUBLISH
CALSCALE:GREGORIAN
X-WR-TIMEZONE:Europe/Berlin
BEGIN:VTIMEZONE
TZID:Europe/Berlin
X-LIC-LOCATION:Europe/Berlin
BEGIN:DAYLIGHT
TZOFFSETFROM:+0100
TZOFFSETTO:+0200
TZNAME:CEST
DTSTART:19700329T020000
RRULE:FREQ=YEARLY;INTERVAL=1;BYDAY=-1SU;BYMONTH=3
END:DAYLIGHT
BEGIN:STANDARD
TZOFFSETFROM:+0200
TZOFFSETTO:+0100
TZNAME:CET
DTSTART:19701025T030000
RRULE:FREQ=YEARLY;INTERVAL=1;BYDAY=-1SU;BYMONTH=10
END:STANDARD
END:VTIMEZONE
BEGIN:VEVENT
DTSTAMP:20260421T154434
DTSTART;TZID=Europe/Berlin:20260423T164500
DTEND;TZID=Europe/Berlin:20260423T173000
UID:2601761150-20260423T164500@DÜSSELDORF ASG-BILDUNGSFORUM
DESCRIPTION:untere Halle belegt
SUMMARY:Gesang-Einzelunterricht, Kurs 11 mit Caroline Jahns (2601761150) 
LOCATION:ASG-G90;2.04, Gerresheimer Straße 90, 40233 Düsseldorf
END:VEVENT
BEGIN:VEVENT
DTSTAMP:20260421T154434
DTSTART;TZID=Europe/Berlin:20260430T164500
DTEND;TZID=Europe/Berlin:20260430T173000
UID:2601761150-20260430T164500@DÜSSELDORF ASG-BILDUNGSFORUM
SUMMARY:Gesang-Einzelunterricht, Kurs 11 mit Caroline Jahns (2601761150) 
LOCATION:ASG-G90;2.04, Gerresheimer Straße 90, 40233 Düsseldorf
END:VEVENT
BEGIN:VEVENT
DTSTAMP:20260421T154434
DTSTART;TZID=Europe/Berlin:20260507T164500
DTEND;TZID=Europe/Berlin:20260507T173000
UID:2601761150-20260507T164500@DÜSSELDORF ASG-BILDUNGSFORUM
SUMMARY:Gesang-Einzelunterricht, Kurs 11 mit Caroline Jahns (2601761150) 
LOCATION:ASG-G90;2.04, Gerresheimer Straße 90, 40233 Düsseldorf
END:VEVENT
BEGIN:VEVENT
DTSTAMP:20260421T154434
DTSTART;TZID=Europe/Berlin:20260521T164500
DTEND;TZID=Europe/Berlin:20260521T173000
UID:2601761150-20260521T164500@DÜSSELDORF ASG-BILDUNGSFORUM
SUMMARY:Gesang-Einzelunterricht, Kurs 11 mit Caroline Jahns (2601761150) 
LOCATION:ASG-G90;U1.01, Gerresheimer Straße 90, 40233 Düsseldorf
END:VEVENT
BEGIN:VEVENT
DTSTAMP:20260421T154434
DTSTART;TZID=Europe/Berlin:20260528T164500
DTEND;TZID=Europe/Berlin:20260528T173000
UID:2601761150-20260528T164500@DÜSSELDORF ASG-BILDUNGSFORUM
DESCRIPTION:untere Halle belegt
SUMMARY:Gesang-Einzelunterricht, Kurs 11 mit Caroline Jahns (2601761150) 
LOCATION:ASG-G90;2.04, Gerresheimer Straße 90, 40233 Düsseldorf
END:VEVENT
BEGIN:VEVENT
DTSTAMP:20260421T154434
DTSTART;TZID=Europe/Berlin:20260611T164500
DTEND;TZID=Europe/Berlin:20260611T173000
UID:2601761150-20260611T164500@DÜSSELDORF ASG-BILDUNGSFORUM
SUMMARY:Gesang-Einzelunterricht, Kurs 11 mit Caroline Jahns (2601761150) 
LOCATION:ASG-G90;U1.01, Gerresheimer Straße 90, 40233 Düsseldorf
END:VEVENT
BEGIN:VEVENT
DTSTAMP:20260421T154434
DTSTART;TZID=Europe/Berlin:20260618T164500
DTEND;TZID=Europe/Berlin:20260618T173000
UID:2601761150-20260618T164500@DÜSSELDORF ASG-BILDUNGSFORUM
SUMMARY:Gesang-Einzelunterricht, Kurs 11 mit Caroline Jahns (2601761150) 
LOCATION:ASG-G90;U1.01, Gerresheimer Straße 90, 40233 Düsseldorf
END:VEVENT
BEGIN:VEVENT
DTSTAMP:20260421T154434
DTSTART;TZID=Europe/Berlin:20260625T164500
DTEND;TZID=Europe/Berlin:20260625T173000
UID:2601761150-20260625T164500@DÜSSELDORF ASG-BILDUNGSFORUM
DESCRIPTION:untere Halle belegt
SUMMARY:Gesang-Einzelunterricht, Kurs 11 mit Caroline Jahns (2601761150) 
LOCATION:ASG-G90;2.04, Gerresheimer Straße 90, 40233 Düsseldorf
END:VEVENT
BEGIN:VEVENT
DTSTAMP:20260421T154434
DTSTART;TZID=Europe/Berlin:20260702T164500
DTEND;TZID=Europe/Berlin:20260702T173000
UID:2601761150-20260702T164500@DÜSSELDORF ASG-BILDUNGSFORUM
SUMMARY:Gesang-Einzelunterricht, Kurs 11 mit Caroline Jahns (2601761150) 
LOCATION:ASG-G90;U1.01, Gerresheimer Straße 90, 40233 Düsseldorf
END:VEVENT
BEGIN:VEVENT
DTSTAMP:20260421T154434
DTSTART;TZID=Europe/Berlin:20260709T164500
DTEND;TZID=Europe/Berlin:20260709T173000
UID:2601761150-20260709T164500@DÜSSELDORF ASG-BILDUNGSFORUM
SUMMARY:Gesang-Einzelunterricht, Kurs 11 mit Caroline Jahns (2601761150) 
LOCATION:ASG-G90;U1.01, Gerresheimer Straße 90, 40233 Düsseldorf
END:VEVENT
BEGIN:VEVENT
DTSTAMP:20260421T154434
DTSTART;TZID=Europe/Berlin:20260716T164500
DTEND;TZID=Europe/Berlin:20260716T173000
UID:2601761150-20260716T164500@DÜSSELDORF ASG-BILDUNGSFORUM
DESCRIPTION:untere Halle belegt
SUMMARY:Gesang-Einzelunterricht, Kurs 11 mit Caroline Jahns (2601761150) 
LOCATION:ASG-G90;2.04, Gerresheimer Straße 90, 40233 Düsseldorf
END:VEVENT
END:VCALENDAR