BEGIN:VCALENDAR
VERSION:2.0
PRODID:https://www.kufer.de/kuferweb / DE
METHOD:PUBLISH
CALSCALE:GREGORIAN
X-WR-TIMEZONE:Europe/Berlin
BEGIN:VTIMEZONE
TZID:Europe/Berlin
X-LIC-LOCATION:Europe/Berlin
BEGIN:DAYLIGHT
TZOFFSETFROM:+0100
TZOFFSETTO:+0200
TZNAME:CEST
DTSTART:19700329T020000
RRULE:FREQ=YEARLY;INTERVAL=1;BYDAY=-1SU;BYMONTH=3
END:DAYLIGHT
BEGIN:STANDARD
TZOFFSETFROM:+0200
TZOFFSETTO:+0100
TZNAME:CET
DTSTART:19701025T030000
RRULE:FREQ=YEARLY;INTERVAL=1;BYDAY=-1SU;BYMONTH=10
END:STANDARD
END:VTIMEZONE
BEGIN:VEVENT
DTSTAMP:20260421T202307
DTSTART;TZID=Europe/Berlin:20260508T090000
DTEND;TZID=Europe/Berlin:20260508T094500
UID:2601761233-20260508T090000@DÜSSELDORF ASG-BILDUNGSFORUM
SUMMARY:Klavier-Einzelunterricht, Kurs 12 mit Shu Fei Lu (2601761233) 
LOCATION:ASG-G90;2.04, Gerresheimer Straße 90, 40233 Düsseldorf
END:VEVENT
BEGIN:VEVENT
DTSTAMP:20260421T202307
DTSTART;TZID=Europe/Berlin:20260515T090000
DTEND;TZID=Europe/Berlin:20260515T094500
UID:2601761233-20260515T090000@DÜSSELDORF ASG-BILDUNGSFORUM
SUMMARY:Klavier-Einzelunterricht, Kurs 12 mit Shu Fei Lu (2601761233) 
LOCATION:ASG-G90;2.04, Gerresheimer Straße 90, 40233 Düsseldorf
END:VEVENT
BEGIN:VEVENT
DTSTAMP:20260421T202307
DTSTART;TZID=Europe/Berlin:20260522T090000
DTEND;TZID=Europe/Berlin:20260522T094500
UID:2601761233-20260522T090000@DÜSSELDORF ASG-BILDUNGSFORUM
SUMMARY:Klavier-Einzelunterricht, Kurs 12 mit Shu Fei Lu (2601761233) 
LOCATION:ASG-G90;2.04, Gerresheimer Straße 90, 40233 Düsseldorf
END:VEVENT
BEGIN:VEVENT
DTSTAMP:20260421T202307
DTSTART;TZID=Europe/Berlin:20260529T090000
DTEND;TZID=Europe/Berlin:20260529T094500
UID:2601761233-20260529T090000@DÜSSELDORF ASG-BILDUNGSFORUM
SUMMARY:Klavier-Einzelunterricht, Kurs 12 mit Shu Fei Lu (2601761233) 
LOCATION:ASG-G90;2.04, Gerresheimer Straße 90, 40233 Düsseldorf
END:VEVENT
BEGIN:VEVENT
DTSTAMP:20260421T202307
DTSTART;TZID=Europe/Berlin:20260605T090000
DTEND;TZID=Europe/Berlin:20260605T094500
UID:2601761233-20260605T090000@DÜSSELDORF ASG-BILDUNGSFORUM
SUMMARY:Klavier-Einzelunterricht, Kurs 12 mit Shu Fei Lu (2601761233) 
LOCATION:ASG-G90;2.04, Gerresheimer Straße 90, 40233 Düsseldorf
END:VEVENT
BEGIN:VEVENT
DTSTAMP:20260421T202307
DTSTART;TZID=Europe/Berlin:20260612T090000
DTEND;TZID=Europe/Berlin:20260612T094500
UID:2601761233-20260612T090000@DÜSSELDORF ASG-BILDUNGSFORUM
SUMMARY:Klavier-Einzelunterricht, Kurs 12 mit Shu Fei Lu (2601761233) 
LOCATION:ASG-G90;2.04, Gerresheimer Straße 90, 40233 Düsseldorf
END:VEVENT
BEGIN:VEVENT
DTSTAMP:20260421T202307
DTSTART;TZID=Europe/Berlin:20260619T090000
DTEND;TZID=Europe/Berlin:20260619T094500
UID:2601761233-20260619T090000@DÜSSELDORF ASG-BILDUNGSFORUM
SUMMARY:Klavier-Einzelunterricht, Kurs 12 mit Shu Fei Lu (2601761233) 
LOCATION:ASG-G90;2.04, Gerresheimer Straße 90, 40233 Düsseldorf
END:VEVENT
BEGIN:VEVENT
DTSTAMP:20260421T202307
DTSTART;TZID=Europe/Berlin:20260626T090000
DTEND;TZID=Europe/Berlin:20260626T094500
UID:2601761233-20260626T090000@DÜSSELDORF ASG-BILDUNGSFORUM
SUMMARY:Klavier-Einzelunterricht, Kurs 12 mit Shu Fei Lu (2601761233) 
LOCATION:ASG-G90;2.04, Gerresheimer Straße 90, 40233 Düsseldorf
END:VEVENT
BEGIN:VEVENT
DTSTAMP:20260421T202307
DTSTART;TZID=Europe/Berlin:20260703T090000
DTEND;TZID=Europe/Berlin:20260703T094500
UID:2601761233-20260703T090000@DÜSSELDORF ASG-BILDUNGSFORUM
SUMMARY:Klavier-Einzelunterricht, Kurs 12 mit Shu Fei Lu (2601761233) 
LOCATION:ASG-G90;2.04, Gerresheimer Straße 90, 40233 Düsseldorf
END:VEVENT
BEGIN:VEVENT
DTSTAMP:20260421T202307
DTSTART;TZID=Europe/Berlin:20260710T090000
DTEND;TZID=Europe/Berlin:20260710T094500
UID:2601761233-20260710T090000@DÜSSELDORF ASG-BILDUNGSFORUM
SUMMARY:Klavier-Einzelunterricht, Kurs 12 mit Shu Fei Lu (2601761233) 
LOCATION:ASG-G90;2.04, Gerresheimer Straße 90, 40233 Düsseldorf
END:VEVENT
BEGIN:VEVENT
DTSTAMP:20260421T202307
DTSTART;TZID=Europe/Berlin:20260717T090000
DTEND;TZID=Europe/Berlin:20260717T094500
UID:2601761233-20260717T090000@DÜSSELDORF ASG-BILDUNGSFORUM
SUMMARY:Klavier-Einzelunterricht, Kurs 12 mit Shu Fei Lu (2601761233) 
LOCATION:ASG-G90;2.04, Gerresheimer Straße 90, 40233 Düsseldorf
END:VEVENT
END:VCALENDAR