BEGIN:VCALENDAR
VERSION:2.0
PRODID:https://www.kufer.de/kuferweb / DE
METHOD:PUBLISH
CALSCALE:GREGORIAN
X-WR-TIMEZONE:Europe/Berlin
BEGIN:VTIMEZONE
TZID:Europe/Berlin
X-LIC-LOCATION:Europe/Berlin
BEGIN:DAYLIGHT
TZOFFSETFROM:+0100
TZOFFSETTO:+0200
TZNAME:CEST
DTSTART:19700329T020000
RRULE:FREQ=YEARLY;INTERVAL=1;BYDAY=-1SU;BYMONTH=3
END:DAYLIGHT
BEGIN:STANDARD
TZOFFSETFROM:+0200
TZOFFSETTO:+0100
TZNAME:CET
DTSTART:19701025T030000
RRULE:FREQ=YEARLY;INTERVAL=1;BYDAY=-1SU;BYMONTH=10
END:STANDARD
END:VTIMEZONE
BEGIN:VEVENT
DTSTAMP:20260421T201838
DTSTART;TZID=Europe/Berlin:20260508T130000
DTEND;TZID=Europe/Berlin:20260508T134500
UID:2601761236-20260508T130000@DÜSSELDORF ASG-BILDUNGSFORUM
SUMMARY:Klavier-Einzelunterricht, Kurs 15 mit Shu Fei Lu (2601761236) 
LOCATION:ASG-G90;2.04, Gerresheimer Straße 90, 40233 Düsseldorf
END:VEVENT
BEGIN:VEVENT
DTSTAMP:20260421T201838
DTSTART;TZID=Europe/Berlin:20260515T130000
DTEND;TZID=Europe/Berlin:20260515T134500
UID:2601761236-20260515T130000@DÜSSELDORF ASG-BILDUNGSFORUM
SUMMARY:Klavier-Einzelunterricht, Kurs 15 mit Shu Fei Lu (2601761236) 
LOCATION:ASG-G90;2.04, Gerresheimer Straße 90, 40233 Düsseldorf
END:VEVENT
BEGIN:VEVENT
DTSTAMP:20260421T201838
DTSTART;TZID=Europe/Berlin:20260522T130000
DTEND;TZID=Europe/Berlin:20260522T134500
UID:2601761236-20260522T130000@DÜSSELDORF ASG-BILDUNGSFORUM
SUMMARY:Klavier-Einzelunterricht, Kurs 15 mit Shu Fei Lu (2601761236) 
LOCATION:ASG-G90;2.04, Gerresheimer Straße 90, 40233 Düsseldorf
END:VEVENT
BEGIN:VEVENT
DTSTAMP:20260421T201838
DTSTART;TZID=Europe/Berlin:20260529T130000
DTEND;TZID=Europe/Berlin:20260529T134500
UID:2601761236-20260529T130000@DÜSSELDORF ASG-BILDUNGSFORUM
SUMMARY:Klavier-Einzelunterricht, Kurs 15 mit Shu Fei Lu (2601761236) 
LOCATION:ASG-G90;2.04, Gerresheimer Straße 90, 40233 Düsseldorf
END:VEVENT
BEGIN:VEVENT
DTSTAMP:20260421T201838
DTSTART;TZID=Europe/Berlin:20260605T130000
DTEND;TZID=Europe/Berlin:20260605T134500
UID:2601761236-20260605T130000@DÜSSELDORF ASG-BILDUNGSFORUM
SUMMARY:Klavier-Einzelunterricht, Kurs 15 mit Shu Fei Lu (2601761236) 
LOCATION:ASG-G90;2.04, Gerresheimer Straße 90, 40233 Düsseldorf
END:VEVENT
BEGIN:VEVENT
DTSTAMP:20260421T201838
DTSTART;TZID=Europe/Berlin:20260612T130000
DTEND;TZID=Europe/Berlin:20260612T134500
UID:2601761236-20260612T130000@DÜSSELDORF ASG-BILDUNGSFORUM
SUMMARY:Klavier-Einzelunterricht, Kurs 15 mit Shu Fei Lu (2601761236) 
LOCATION:ASG-G90;2.04, Gerresheimer Straße 90, 40233 Düsseldorf
END:VEVENT
BEGIN:VEVENT
DTSTAMP:20260421T201838
DTSTART;TZID=Europe/Berlin:20260619T130000
DTEND;TZID=Europe/Berlin:20260619T134500
UID:2601761236-20260619T130000@DÜSSELDORF ASG-BILDUNGSFORUM
SUMMARY:Klavier-Einzelunterricht, Kurs 15 mit Shu Fei Lu (2601761236) 
LOCATION:ASG-G90;2.04, Gerresheimer Straße 90, 40233 Düsseldorf
END:VEVENT
BEGIN:VEVENT
DTSTAMP:20260421T201838
DTSTART;TZID=Europe/Berlin:20260626T130000
DTEND;TZID=Europe/Berlin:20260626T134500
UID:2601761236-20260626T130000@DÜSSELDORF ASG-BILDUNGSFORUM
SUMMARY:Klavier-Einzelunterricht, Kurs 15 mit Shu Fei Lu (2601761236) 
LOCATION:ASG-G90;2.04, Gerresheimer Straße 90, 40233 Düsseldorf
END:VEVENT
BEGIN:VEVENT
DTSTAMP:20260421T201838
DTSTART;TZID=Europe/Berlin:20260703T130000
DTEND;TZID=Europe/Berlin:20260703T134500
UID:2601761236-20260703T130000@DÜSSELDORF ASG-BILDUNGSFORUM
SUMMARY:Klavier-Einzelunterricht, Kurs 15 mit Shu Fei Lu (2601761236) 
LOCATION:ASG-G90;2.04, Gerresheimer Straße 90, 40233 Düsseldorf
END:VEVENT
BEGIN:VEVENT
DTSTAMP:20260421T201838
DTSTART;TZID=Europe/Berlin:20260710T130000
DTEND;TZID=Europe/Berlin:20260710T134500
UID:2601761236-20260710T130000@DÜSSELDORF ASG-BILDUNGSFORUM
SUMMARY:Klavier-Einzelunterricht, Kurs 15 mit Shu Fei Lu (2601761236) 
LOCATION:ASG-G90;2.04, Gerresheimer Straße 90, 40233 Düsseldorf
END:VEVENT
BEGIN:VEVENT
DTSTAMP:20260421T201838
DTSTART;TZID=Europe/Berlin:20260717T130000
DTEND;TZID=Europe/Berlin:20260717T134500
UID:2601761236-20260717T130000@DÜSSELDORF ASG-BILDUNGSFORUM
SUMMARY:Klavier-Einzelunterricht, Kurs 15 mit Shu Fei Lu (2601761236) 
LOCATION:ASG-G90;2.04, Gerresheimer Straße 90, 40233 Düsseldorf
END:VEVENT
END:VCALENDAR