BEGIN:VCALENDAR
VERSION:2.0
PRODID:https://www.kufer.de/kuferweb / DE
METHOD:PUBLISH
CALSCALE:GREGORIAN
X-WR-TIMEZONE:Europe/Berlin
BEGIN:VTIMEZONE
TZID:Europe/Berlin
X-LIC-LOCATION:Europe/Berlin
BEGIN:DAYLIGHT
TZOFFSETFROM:+0100
TZOFFSETTO:+0200
TZNAME:CEST
DTSTART:19700329T020000
RRULE:FREQ=YEARLY;INTERVAL=1;BYDAY=-1SU;BYMONTH=3
END:DAYLIGHT
BEGIN:STANDARD
TZOFFSETFROM:+0200
TZOFFSETTO:+0100
TZNAME:CET
DTSTART:19701025T030000
RRULE:FREQ=YEARLY;INTERVAL=1;BYDAY=-1SU;BYMONTH=10
END:STANDARD
END:VTIMEZONE
BEGIN:VEVENT
DTSTAMP:20260421T230342
DTSTART;TZID=Europe/Berlin:20260508T134500
DTEND;TZID=Europe/Berlin:20260508T143000
UID:2601761238-20260508T134500@DÜSSELDORF ASG-BILDUNGSFORUM
SUMMARY:Klavier-Einzelunterricht, Kurs 16 mit Shu Fei Lu (2601761238) 
LOCATION:ASG-G90;2.04, Gerresheimer Straße 90, 40233 Düsseldorf
END:VEVENT
BEGIN:VEVENT
DTSTAMP:20260421T230342
DTSTART;TZID=Europe/Berlin:20260515T134500
DTEND;TZID=Europe/Berlin:20260515T143000
UID:2601761238-20260515T134500@DÜSSELDORF ASG-BILDUNGSFORUM
SUMMARY:Klavier-Einzelunterricht, Kurs 16 mit Shu Fei Lu (2601761238) 
LOCATION:ASG-G90;2.04, Gerresheimer Straße 90, 40233 Düsseldorf
END:VEVENT
BEGIN:VEVENT
DTSTAMP:20260421T230342
DTSTART;TZID=Europe/Berlin:20260522T134500
DTEND;TZID=Europe/Berlin:20260522T143000
UID:2601761238-20260522T134500@DÜSSELDORF ASG-BILDUNGSFORUM
SUMMARY:Klavier-Einzelunterricht, Kurs 16 mit Shu Fei Lu (2601761238) 
LOCATION:ASG-G90;2.04, Gerresheimer Straße 90, 40233 Düsseldorf
END:VEVENT
BEGIN:VEVENT
DTSTAMP:20260421T230342
DTSTART;TZID=Europe/Berlin:20260529T134500
DTEND;TZID=Europe/Berlin:20260529T143000
UID:2601761238-20260529T134500@DÜSSELDORF ASG-BILDUNGSFORUM
SUMMARY:Klavier-Einzelunterricht, Kurs 16 mit Shu Fei Lu (2601761238) 
LOCATION:ASG-G90;2.04, Gerresheimer Straße 90, 40233 Düsseldorf
END:VEVENT
BEGIN:VEVENT
DTSTAMP:20260421T230342
DTSTART;TZID=Europe/Berlin:20260605T134500
DTEND;TZID=Europe/Berlin:20260605T143000
UID:2601761238-20260605T134500@DÜSSELDORF ASG-BILDUNGSFORUM
SUMMARY:Klavier-Einzelunterricht, Kurs 16 mit Shu Fei Lu (2601761238) 
LOCATION:ASG-G90;2.04, Gerresheimer Straße 90, 40233 Düsseldorf
END:VEVENT
BEGIN:VEVENT
DTSTAMP:20260421T230342
DTSTART;TZID=Europe/Berlin:20260612T134500
DTEND;TZID=Europe/Berlin:20260612T143000
UID:2601761238-20260612T134500@DÜSSELDORF ASG-BILDUNGSFORUM
SUMMARY:Klavier-Einzelunterricht, Kurs 16 mit Shu Fei Lu (2601761238) 
LOCATION:ASG-G90;2.04, Gerresheimer Straße 90, 40233 Düsseldorf
END:VEVENT
BEGIN:VEVENT
DTSTAMP:20260421T230342
DTSTART;TZID=Europe/Berlin:20260619T134500
DTEND;TZID=Europe/Berlin:20260619T143000
UID:2601761238-20260619T134500@DÜSSELDORF ASG-BILDUNGSFORUM
SUMMARY:Klavier-Einzelunterricht, Kurs 16 mit Shu Fei Lu (2601761238) 
LOCATION:ASG-G90;2.04, Gerresheimer Straße 90, 40233 Düsseldorf
END:VEVENT
BEGIN:VEVENT
DTSTAMP:20260421T230342
DTSTART;TZID=Europe/Berlin:20260626T134500
DTEND;TZID=Europe/Berlin:20260626T143000
UID:2601761238-20260626T134500@DÜSSELDORF ASG-BILDUNGSFORUM
SUMMARY:Klavier-Einzelunterricht, Kurs 16 mit Shu Fei Lu (2601761238) 
LOCATION:ASG-G90;2.04, Gerresheimer Straße 90, 40233 Düsseldorf
END:VEVENT
BEGIN:VEVENT
DTSTAMP:20260421T230342
DTSTART;TZID=Europe/Berlin:20260703T134500
DTEND;TZID=Europe/Berlin:20260703T143000
UID:2601761238-20260703T134500@DÜSSELDORF ASG-BILDUNGSFORUM
SUMMARY:Klavier-Einzelunterricht, Kurs 16 mit Shu Fei Lu (2601761238) 
LOCATION:ASG-G90;2.04, Gerresheimer Straße 90, 40233 Düsseldorf
END:VEVENT
BEGIN:VEVENT
DTSTAMP:20260421T230342
DTSTART;TZID=Europe/Berlin:20260710T134500
DTEND;TZID=Europe/Berlin:20260710T143000
UID:2601761238-20260710T134500@DÜSSELDORF ASG-BILDUNGSFORUM
SUMMARY:Klavier-Einzelunterricht, Kurs 16 mit Shu Fei Lu (2601761238) 
LOCATION:ASG-G90;2.04, Gerresheimer Straße 90, 40233 Düsseldorf
END:VEVENT
BEGIN:VEVENT
DTSTAMP:20260421T230342
DTSTART;TZID=Europe/Berlin:20260717T134500
DTEND;TZID=Europe/Berlin:20260717T143000
UID:2601761238-20260717T134500@DÜSSELDORF ASG-BILDUNGSFORUM
SUMMARY:Klavier-Einzelunterricht, Kurs 16 mit Shu Fei Lu (2601761238) 
LOCATION:ASG-G90;2.04, Gerresheimer Straße 90, 40233 Düsseldorf
END:VEVENT
END:VCALENDAR