BEGIN:VCALENDAR
VERSION:2.0
PRODID:https://www.kufer.de/kuferweb / DE
METHOD:PUBLISH
CALSCALE:GREGORIAN
X-WR-TIMEZONE:Europe/Berlin
BEGIN:VTIMEZONE
TZID:Europe/Berlin
X-LIC-LOCATION:Europe/Berlin
BEGIN:DAYLIGHT
TZOFFSETFROM:+0100
TZOFFSETTO:+0200
TZNAME:CEST
DTSTART:19700329T020000
RRULE:FREQ=YEARLY;INTERVAL=1;BYDAY=-1SU;BYMONTH=3
END:DAYLIGHT
BEGIN:STANDARD
TZOFFSETFROM:+0200
TZOFFSETTO:+0100
TZNAME:CET
DTSTART:19701025T030000
RRULE:FREQ=YEARLY;INTERVAL=1;BYDAY=-1SU;BYMONTH=10
END:STANDARD
END:VTIMEZONE
BEGIN:VEVENT
DTSTAMP:20260421T213207
DTSTART;TZID=Europe/Berlin:20260421T163000
DTEND;TZID=Europe/Berlin:20260421T171500
UID:2601761276-20260421T163000@DÜSSELDORF ASG-BILDUNGSFORUM
SUMMARY:Keyboard -Einzelunterricht  Kurs 7 mit Said Suma (2601761276) 
LOCATION:ASG-G90;2.04, Gerresheimer Straße 90, 40233 Düsseldorf
END:VEVENT
BEGIN:VEVENT
DTSTAMP:20260421T213207
DTSTART;TZID=Europe/Berlin:20260505T163000
DTEND;TZID=Europe/Berlin:20260505T171500
UID:2601761276-20260505T163000@DÜSSELDORF ASG-BILDUNGSFORUM
SUMMARY:Keyboard -Einzelunterricht  Kurs 7 mit Said Suma (2601761276) 
LOCATION:ASG-G90;2.04, Gerresheimer Straße 90, 40233 Düsseldorf
END:VEVENT
BEGIN:VEVENT
DTSTAMP:20260421T213207
DTSTART;TZID=Europe/Berlin:20260519T163000
DTEND;TZID=Europe/Berlin:20260519T171500
UID:2601761276-20260519T163000@DÜSSELDORF ASG-BILDUNGSFORUM
SUMMARY:Keyboard -Einzelunterricht  Kurs 7 mit Said Suma (2601761276) 
LOCATION:ASG-G90;2.04, Gerresheimer Straße 90, 40233 Düsseldorf
END:VEVENT
BEGIN:VEVENT
DTSTAMP:20260421T213207
DTSTART;TZID=Europe/Berlin:20260602T163000
DTEND;TZID=Europe/Berlin:20260602T171500
UID:2601761276-20260602T163000@DÜSSELDORF ASG-BILDUNGSFORUM
SUMMARY:Keyboard -Einzelunterricht  Kurs 7 mit Said Suma (2601761276) 
LOCATION:ASG-G90;2.04, Gerresheimer Straße 90, 40233 Düsseldorf
END:VEVENT
BEGIN:VEVENT
DTSTAMP:20260421T213207
DTSTART;TZID=Europe/Berlin:20260616T163000
DTEND;TZID=Europe/Berlin:20260616T171500
UID:2601761276-20260616T163000@DÜSSELDORF ASG-BILDUNGSFORUM
SUMMARY:Keyboard -Einzelunterricht  Kurs 7 mit Said Suma (2601761276) 
LOCATION:ASG-G90;2.04, Gerresheimer Straße 90, 40233 Düsseldorf
END:VEVENT
BEGIN:VEVENT
DTSTAMP:20260421T213207
DTSTART;TZID=Europe/Berlin:20260630T163000
DTEND;TZID=Europe/Berlin:20260630T171500
UID:2601761276-20260630T163000@DÜSSELDORF ASG-BILDUNGSFORUM
SUMMARY:Keyboard -Einzelunterricht  Kurs 7 mit Said Suma (2601761276) 
LOCATION:ASG-G90;2.04, Gerresheimer Straße 90, 40233 Düsseldorf
END:VEVENT
BEGIN:VEVENT
DTSTAMP:20260421T213207
DTSTART;TZID=Europe/Berlin:20260714T163000
DTEND;TZID=Europe/Berlin:20260714T171500
UID:2601761276-20260714T163000@DÜSSELDORF ASG-BILDUNGSFORUM
SUMMARY:Keyboard -Einzelunterricht  Kurs 7 mit Said Suma (2601761276) 
LOCATION:ASG-G90;2.04, Gerresheimer Straße 90, 40233 Düsseldorf
END:VEVENT
END:VCALENDAR