BEGIN:VCALENDAR
VERSION:2.0
PRODID:https://www.kufer.de/kuferweb / DE
METHOD:PUBLISH
CALSCALE:GREGORIAN
X-WR-TIMEZONE:Europe/Berlin
BEGIN:VTIMEZONE
TZID:Europe/Berlin
X-LIC-LOCATION:Europe/Berlin
BEGIN:DAYLIGHT
TZOFFSETFROM:+0100
TZOFFSETTO:+0200
TZNAME:CEST
DTSTART:19700329T020000
RRULE:FREQ=YEARLY;INTERVAL=1;BYDAY=-1SU;BYMONTH=3
END:DAYLIGHT
BEGIN:STANDARD
TZOFFSETFROM:+0200
TZOFFSETTO:+0100
TZNAME:CET
DTSTART:19701025T030000
RRULE:FREQ=YEARLY;INTERVAL=1;BYDAY=-1SU;BYMONTH=10
END:STANDARD
END:VTIMEZONE
BEGIN:VEVENT
DTSTAMP:20260421T171352
DTSTART;TZID=Europe/Berlin:20260508T190000
DTEND;TZID=Europe/Berlin:20260508T194500
UID:2601761298-20260508T190000@DÜSSELDORF ASG-BILDUNGSFORUM
SUMMARY:Klavier-Einzelunterricht, Kurs 22a  mit Shu Fei Lu (2601761298) 
LOCATION:ASG-G90;2.04, Gerresheimer Straße 90, 40233 Düsseldorf
END:VEVENT
BEGIN:VEVENT
DTSTAMP:20260421T171352
DTSTART;TZID=Europe/Berlin:20260515T190000
DTEND;TZID=Europe/Berlin:20260515T194500
UID:2601761298-20260515T190000@DÜSSELDORF ASG-BILDUNGSFORUM
SUMMARY:Klavier-Einzelunterricht, Kurs 22a  mit Shu Fei Lu (2601761298) 
LOCATION:ASG-G90;2.04, Gerresheimer Straße 90, 40233 Düsseldorf
END:VEVENT
BEGIN:VEVENT
DTSTAMP:20260421T171352
DTSTART;TZID=Europe/Berlin:20260522T190000
DTEND;TZID=Europe/Berlin:20260522T194500
UID:2601761298-20260522T190000@DÜSSELDORF ASG-BILDUNGSFORUM
SUMMARY:Klavier-Einzelunterricht, Kurs 22a  mit Shu Fei Lu (2601761298) 
LOCATION:ASG-G90;2.04, Gerresheimer Straße 90, 40233 Düsseldorf
END:VEVENT
BEGIN:VEVENT
DTSTAMP:20260421T171352
DTSTART;TZID=Europe/Berlin:20260529T190000
DTEND;TZID=Europe/Berlin:20260529T194500
UID:2601761298-20260529T190000@DÜSSELDORF ASG-BILDUNGSFORUM
SUMMARY:Klavier-Einzelunterricht, Kurs 22a  mit Shu Fei Lu (2601761298) 
LOCATION:ASG-G90;2.04, Gerresheimer Straße 90, 40233 Düsseldorf
END:VEVENT
BEGIN:VEVENT
DTSTAMP:20260421T171352
DTSTART;TZID=Europe/Berlin:20260605T190000
DTEND;TZID=Europe/Berlin:20260605T194500
UID:2601761298-20260605T190000@DÜSSELDORF ASG-BILDUNGSFORUM
SUMMARY:Klavier-Einzelunterricht, Kurs 22a  mit Shu Fei Lu (2601761298) 
LOCATION:ASG-G90;2.04, Gerresheimer Straße 90, 40233 Düsseldorf
END:VEVENT
BEGIN:VEVENT
DTSTAMP:20260421T171352
DTSTART;TZID=Europe/Berlin:20260612T190000
DTEND;TZID=Europe/Berlin:20260612T194500
UID:2601761298-20260612T190000@DÜSSELDORF ASG-BILDUNGSFORUM
SUMMARY:Klavier-Einzelunterricht, Kurs 22a  mit Shu Fei Lu (2601761298) 
LOCATION:ASG-G90;2.04, Gerresheimer Straße 90, 40233 Düsseldorf
END:VEVENT
BEGIN:VEVENT
DTSTAMP:20260421T171352
DTSTART;TZID=Europe/Berlin:20260619T190000
DTEND;TZID=Europe/Berlin:20260619T194500
UID:2601761298-20260619T190000@DÜSSELDORF ASG-BILDUNGSFORUM
SUMMARY:Klavier-Einzelunterricht, Kurs 22a  mit Shu Fei Lu (2601761298) 
LOCATION:ASG-G90;2.04, Gerresheimer Straße 90, 40233 Düsseldorf
END:VEVENT
BEGIN:VEVENT
DTSTAMP:20260421T171352
DTSTART;TZID=Europe/Berlin:20260626T190000
DTEND;TZID=Europe/Berlin:20260626T194500
UID:2601761298-20260626T190000@DÜSSELDORF ASG-BILDUNGSFORUM
SUMMARY:Klavier-Einzelunterricht, Kurs 22a  mit Shu Fei Lu (2601761298) 
LOCATION:ASG-G90;2.04, Gerresheimer Straße 90, 40233 Düsseldorf
END:VEVENT
BEGIN:VEVENT
DTSTAMP:20260421T171352
DTSTART;TZID=Europe/Berlin:20260703T190000
DTEND;TZID=Europe/Berlin:20260703T194500
UID:2601761298-20260703T190000@DÜSSELDORF ASG-BILDUNGSFORUM
SUMMARY:Klavier-Einzelunterricht, Kurs 22a  mit Shu Fei Lu (2601761298) 
LOCATION:ASG-G90;2.04, Gerresheimer Straße 90, 40233 Düsseldorf
END:VEVENT
BEGIN:VEVENT
DTSTAMP:20260421T171352
DTSTART;TZID=Europe/Berlin:20260710T190000
DTEND;TZID=Europe/Berlin:20260710T194500
UID:2601761298-20260710T190000@DÜSSELDORF ASG-BILDUNGSFORUM
SUMMARY:Klavier-Einzelunterricht, Kurs 22a  mit Shu Fei Lu (2601761298) 
LOCATION:ASG-G90;2.04, Gerresheimer Straße 90, 40233 Düsseldorf
END:VEVENT
BEGIN:VEVENT
DTSTAMP:20260421T171352
DTSTART;TZID=Europe/Berlin:20260717T190000
DTEND;TZID=Europe/Berlin:20260717T194500
UID:2601761298-20260717T190000@DÜSSELDORF ASG-BILDUNGSFORUM
SUMMARY:Klavier-Einzelunterricht, Kurs 22a  mit Shu Fei Lu (2601761298) 
LOCATION:ASG-G90;2.04, Gerresheimer Straße 90, 40233 Düsseldorf
END:VEVENT
END:VCALENDAR