BEGIN:VCALENDAR
VERSION:2.0
PRODID:https://www.kufer.de/kuferweb / DE
METHOD:PUBLISH
CALSCALE:GREGORIAN
X-WR-TIMEZONE:Europe/Berlin
BEGIN:VTIMEZONE
TZID:Europe/Berlin
X-LIC-LOCATION:Europe/Berlin
BEGIN:DAYLIGHT
TZOFFSETFROM:+0100
TZOFFSETTO:+0200
TZNAME:CEST
DTSTART:19700329T020000
RRULE:FREQ=YEARLY;INTERVAL=1;BYDAY=-1SU;BYMONTH=3
END:DAYLIGHT
BEGIN:STANDARD
TZOFFSETFROM:+0200
TZOFFSETTO:+0100
TZNAME:CET
DTSTART:19701025T030000
RRULE:FREQ=YEARLY;INTERVAL=1;BYDAY=-1SU;BYMONTH=10
END:STANDARD
END:VTIMEZONE
BEGIN:VEVENT
DTSTAMP:20260420T033720
DTSTART;TZID=Europe/Berlin:20260711T150000
DTEND;TZID=Europe/Berlin:20260711T190000
UID:2601771007-20260711T150000@DÜSSELDORF ASG-BILDUNGSFORUM
SUMMARY:Aquarellmalerei  Workshop am Wochenende (2601771007) 
LOCATION:ASG-G90;3.01, Gerresheimer Straße 90, 40233 Düsseldorf
END:VEVENT
BEGIN:VEVENT
DTSTAMP:20260420T033720
DTSTART;TZID=Europe/Berlin:20260712T100000
DTEND;TZID=Europe/Berlin:20260712T140000
UID:2601771007-20260712T100000@DÜSSELDORF ASG-BILDUNGSFORUM
SUMMARY:Aquarellmalerei  Workshop am Wochenende (2601771007) 
LOCATION:ASG-G90;3.01, Gerresheimer Straße 90, 40233 Düsseldorf
END:VEVENT
END:VCALENDAR