BEGIN:VCALENDAR
VERSION:2.0
PRODID:https://www.kufer.de/kuferweb / DE
METHOD:PUBLISH
CALSCALE:GREGORIAN
X-WR-TIMEZONE:Europe/Berlin
BEGIN:VTIMEZONE
TZID:Europe/Berlin
X-LIC-LOCATION:Europe/Berlin
BEGIN:DAYLIGHT
TZOFFSETFROM:+0100
TZOFFSETTO:+0200
TZNAME:CEST
DTSTART:19700329T020000
RRULE:FREQ=YEARLY;INTERVAL=1;BYDAY=-1SU;BYMONTH=3
END:DAYLIGHT
BEGIN:STANDARD
TZOFFSETFROM:+0200
TZOFFSETTO:+0100
TZNAME:CET
DTSTART:19701025T030000
RRULE:FREQ=YEARLY;INTERVAL=1;BYDAY=-1SU;BYMONTH=10
END:STANDARD
END:VTIMEZONE
BEGIN:VEVENT
DTSTAMP:20260422T111806
DTSTART;TZID=Europe/Berlin:20260423T191500
DTEND;TZID=Europe/Berlin:20260423T213000
UID:2601771012-20260423T191500@DÜSSELDORF ASG-BILDUNGSFORUM
SUMMARY:Grundlagen des Zeichnens Grundkurs (2601771012) 
LOCATION:ASG-G90;5.02, Gerresheimer Straße 90, 40233 Düsseldorf
END:VEVENT
BEGIN:VEVENT
DTSTAMP:20260422T111806
DTSTART;TZID=Europe/Berlin:20260430T191500
DTEND;TZID=Europe/Berlin:20260430T213000
UID:2601771012-20260430T191500@DÜSSELDORF ASG-BILDUNGSFORUM
SUMMARY:Grundlagen des Zeichnens Grundkurs (2601771012) 
LOCATION:ASG-G90;5.02, Gerresheimer Straße 90, 40233 Düsseldorf
END:VEVENT
BEGIN:VEVENT
DTSTAMP:20260422T111806
DTSTART;TZID=Europe/Berlin:20260507T191500
DTEND;TZID=Europe/Berlin:20260507T213000
UID:2601771012-20260507T191500@DÜSSELDORF ASG-BILDUNGSFORUM
SUMMARY:Grundlagen des Zeichnens Grundkurs (2601771012) 
LOCATION:ASG-G90;5.02, Gerresheimer Straße 90, 40233 Düsseldorf
END:VEVENT
BEGIN:VEVENT
DTSTAMP:20260422T111806
DTSTART;TZID=Europe/Berlin:20260521T191500
DTEND;TZID=Europe/Berlin:20260521T213000
UID:2601771012-20260521T191500@DÜSSELDORF ASG-BILDUNGSFORUM
SUMMARY:Grundlagen des Zeichnens Grundkurs (2601771012) 
LOCATION:ASG-G90;5.02, Gerresheimer Straße 90, 40233 Düsseldorf
END:VEVENT
BEGIN:VEVENT
DTSTAMP:20260422T111806
DTSTART;TZID=Europe/Berlin:20260528T191500
DTEND;TZID=Europe/Berlin:20260528T213000
UID:2601771012-20260528T191500@DÜSSELDORF ASG-BILDUNGSFORUM
SUMMARY:Grundlagen des Zeichnens Grundkurs (2601771012) 
LOCATION:ASG-G90;5.02, Gerresheimer Straße 90, 40233 Düsseldorf
END:VEVENT
BEGIN:VEVENT
DTSTAMP:20260422T111806
DTSTART;TZID=Europe/Berlin:20260611T191500
DTEND;TZID=Europe/Berlin:20260611T213000
UID:2601771012-20260611T191500@DÜSSELDORF ASG-BILDUNGSFORUM
SUMMARY:Grundlagen des Zeichnens Grundkurs (2601771012) 
LOCATION:ASG-G90;5.02, Gerresheimer Straße 90, 40233 Düsseldorf
END:VEVENT
END:VCALENDAR