BEGIN:VCALENDAR
VERSION:2.0
PRODID:https://www.kufer.de/kuferweb / DE
METHOD:PUBLISH
CALSCALE:GREGORIAN
X-WR-TIMEZONE:Europe/Berlin
BEGIN:VTIMEZONE
TZID:Europe/Berlin
X-LIC-LOCATION:Europe/Berlin
BEGIN:DAYLIGHT
TZOFFSETFROM:+0100
TZOFFSETTO:+0200
TZNAME:CEST
DTSTART:19700329T020000
RRULE:FREQ=YEARLY;INTERVAL=1;BYDAY=-1SU;BYMONTH=3
END:DAYLIGHT
BEGIN:STANDARD
TZOFFSETFROM:+0200
TZOFFSETTO:+0100
TZNAME:CET
DTSTART:19701025T030000
RRULE:FREQ=YEARLY;INTERVAL=1;BYDAY=-1SU;BYMONTH=10
END:STANDARD
END:VTIMEZONE
BEGIN:VEVENT
DTSTAMP:20260420T031527
DTSTART;TZID=Europe/Berlin:20260505T190000
DTEND;TZID=Europe/Berlin:20260505T211500
UID:2601771086-20260505T190000@DÜSSELDORF ASG-BILDUNGSFORUM
SUMMARY:Goldschmiede-Werkstatt für Einsteiger:innen Grundkurs (2601771086) 
LOCATION:ASG-G90;1.04, Gerresheimer Straße 90, 40233 Düsseldorf
END:VEVENT
BEGIN:VEVENT
DTSTAMP:20260420T031527
DTSTART;TZID=Europe/Berlin:20260512T190000
DTEND;TZID=Europe/Berlin:20260512T211500
UID:2601771086-20260512T190000@DÜSSELDORF ASG-BILDUNGSFORUM
SUMMARY:Goldschmiede-Werkstatt für Einsteiger:innen Grundkurs (2601771086) 
LOCATION:ASG-G90;1.04, Gerresheimer Straße 90, 40233 Düsseldorf
END:VEVENT
BEGIN:VEVENT
DTSTAMP:20260420T031527
DTSTART;TZID=Europe/Berlin:20260519T190000
DTEND;TZID=Europe/Berlin:20260519T211500
UID:2601771086-20260519T190000@DÜSSELDORF ASG-BILDUNGSFORUM
SUMMARY:Goldschmiede-Werkstatt für Einsteiger:innen Grundkurs (2601771086) 
LOCATION:ASG-G90;1.04, Gerresheimer Straße 90, 40233 Düsseldorf
END:VEVENT
BEGIN:VEVENT
DTSTAMP:20260420T031527
DTSTART;TZID=Europe/Berlin:20260526T190000
DTEND;TZID=Europe/Berlin:20260526T211500
UID:2601771086-20260526T190000@DÜSSELDORF ASG-BILDUNGSFORUM
SUMMARY:Goldschmiede-Werkstatt für Einsteiger:innen Grundkurs (2601771086) 
LOCATION:ASG-G90;1.04, Gerresheimer Straße 90, 40233 Düsseldorf
END:VEVENT
BEGIN:VEVENT
DTSTAMP:20260420T031527
DTSTART;TZID=Europe/Berlin:20260616T190000
DTEND;TZID=Europe/Berlin:20260616T211500
UID:2601771086-20260616T190000@DÜSSELDORF ASG-BILDUNGSFORUM
SUMMARY:Goldschmiede-Werkstatt für Einsteiger:innen Grundkurs (2601771086) 
LOCATION:ASG-G90;1.04, Gerresheimer Straße 90, 40233 Düsseldorf
END:VEVENT
BEGIN:VEVENT
DTSTAMP:20260420T031527
DTSTART;TZID=Europe/Berlin:20260623T190000
DTEND;TZID=Europe/Berlin:20260623T211500
UID:2601771086-20260623T190000@DÜSSELDORF ASG-BILDUNGSFORUM
SUMMARY:Goldschmiede-Werkstatt für Einsteiger:innen Grundkurs (2601771086) 
LOCATION:ASG-G90;1.04, Gerresheimer Straße 90, 40233 Düsseldorf
END:VEVENT
BEGIN:VEVENT
DTSTAMP:20260420T031527
DTSTART;TZID=Europe/Berlin:20260630T190000
DTEND;TZID=Europe/Berlin:20260630T211500
UID:2601771086-20260630T190000@DÜSSELDORF ASG-BILDUNGSFORUM
SUMMARY:Goldschmiede-Werkstatt für Einsteiger:innen Grundkurs (2601771086) 
LOCATION:ASG-G90;1.04, Gerresheimer Straße 90, 40233 Düsseldorf
END:VEVENT
BEGIN:VEVENT
DTSTAMP:20260420T031527
DTSTART;TZID=Europe/Berlin:20260707T190000
DTEND;TZID=Europe/Berlin:20260707T211500
UID:2601771086-20260707T190000@DÜSSELDORF ASG-BILDUNGSFORUM
SUMMARY:Goldschmiede-Werkstatt für Einsteiger:innen Grundkurs (2601771086) 
LOCATION:ASG-G90;1.04, Gerresheimer Straße 90, 40233 Düsseldorf
END:VEVENT
BEGIN:VEVENT
DTSTAMP:20260420T031527
DTSTART;TZID=Europe/Berlin:20260714T190000
DTEND;TZID=Europe/Berlin:20260714T211500
UID:2601771086-20260714T190000@DÜSSELDORF ASG-BILDUNGSFORUM
SUMMARY:Goldschmiede-Werkstatt für Einsteiger:innen Grundkurs (2601771086) 
LOCATION:ASG-G90;1.04, Gerresheimer Straße 90, 40233 Düsseldorf
END:VEVENT
BEGIN:VEVENT
DTSTAMP:20260420T031527
DTSTART;TZID=Europe/Berlin:20260721T190000
DTEND;TZID=Europe/Berlin:20260721T211500
UID:2601771086-20260721T190000@DÜSSELDORF ASG-BILDUNGSFORUM
SUMMARY:Goldschmiede-Werkstatt für Einsteiger:innen Grundkurs (2601771086) 
LOCATION:ASG-G90;1.04, Gerresheimer Straße 90, 40233 Düsseldorf
END:VEVENT
END:VCALENDAR