BEGIN:VCALENDAR
VERSION:2.0
PRODID:https://www.kufer.de/kuferweb / DE
METHOD:PUBLISH
CALSCALE:GREGORIAN
X-WR-TIMEZONE:Europe/Berlin
BEGIN:VTIMEZONE
TZID:Europe/Berlin
X-LIC-LOCATION:Europe/Berlin
BEGIN:DAYLIGHT
TZOFFSETFROM:+0100
TZOFFSETTO:+0200
TZNAME:CEST
DTSTART:19700329T020000
RRULE:FREQ=YEARLY;INTERVAL=1;BYDAY=-1SU;BYMONTH=3
END:DAYLIGHT
BEGIN:STANDARD
TZOFFSETFROM:+0200
TZOFFSETTO:+0100
TZNAME:CET
DTSTART:19701025T030000
RRULE:FREQ=YEARLY;INTERVAL=1;BYDAY=-1SU;BYMONTH=10
END:STANDARD
END:VTIMEZONE
BEGIN:VEVENT
DTSTAMP:20260420T031832
DTSTART;TZID=Europe/Berlin:20260928T104500
DTEND;TZID=Europe/Berlin:20260928T130000
UID:2601772001-20260928T104500@DÜSSELDORF ASG-BILDUNGSFORUM
SUMMARY:Malen am Vormittag - für regelmäßige Kunstpraxis (2601772001) 
LOCATION:ASG-G90;5.02, Gerresheimer Straße 90, 40233 Düsseldorf
END:VEVENT
BEGIN:VEVENT
DTSTAMP:20260420T031832
DTSTART;TZID=Europe/Berlin:20261005T104500
DTEND;TZID=Europe/Berlin:20261005T130000
UID:2601772001-20261005T104500@DÜSSELDORF ASG-BILDUNGSFORUM
SUMMARY:Malen am Vormittag - für regelmäßige Kunstpraxis (2601772001) 
LOCATION:ASG-G90;5.02, Gerresheimer Straße 90, 40233 Düsseldorf
END:VEVENT
BEGIN:VEVENT
DTSTAMP:20260420T031832
DTSTART;TZID=Europe/Berlin:20261012T104500
DTEND;TZID=Europe/Berlin:20261012T130000
UID:2601772001-20261012T104500@DÜSSELDORF ASG-BILDUNGSFORUM
SUMMARY:Malen am Vormittag - für regelmäßige Kunstpraxis (2601772001) 
LOCATION:ASG-G90;5.02, Gerresheimer Straße 90, 40233 Düsseldorf
END:VEVENT
BEGIN:VEVENT
DTSTAMP:20260420T031832
DTSTART;TZID=Europe/Berlin:20261019T104500
DTEND;TZID=Europe/Berlin:20261019T130000
UID:2601772001-20261019T104500@DÜSSELDORF ASG-BILDUNGSFORUM
SUMMARY:Malen am Vormittag - für regelmäßige Kunstpraxis (2601772001) 
LOCATION:ASG-G90;5.02, Gerresheimer Straße 90, 40233 Düsseldorf
END:VEVENT
BEGIN:VEVENT
DTSTAMP:20260420T031832
DTSTART;TZID=Europe/Berlin:20261026T104500
DTEND;TZID=Europe/Berlin:20261026T130000
UID:2601772001-20261026T104500@DÜSSELDORF ASG-BILDUNGSFORUM
SUMMARY:Malen am Vormittag - für regelmäßige Kunstpraxis (2601772001) 
LOCATION:ASG-G90;5.02, Gerresheimer Straße 90, 40233 Düsseldorf
END:VEVENT
BEGIN:VEVENT
DTSTAMP:20260420T031832
DTSTART;TZID=Europe/Berlin:20261102T104500
DTEND;TZID=Europe/Berlin:20261102T130000
UID:2601772001-20261102T104500@DÜSSELDORF ASG-BILDUNGSFORUM
SUMMARY:Malen am Vormittag - für regelmäßige Kunstpraxis (2601772001) 
LOCATION:ASG-G90;5.02, Gerresheimer Straße 90, 40233 Düsseldorf
END:VEVENT
BEGIN:VEVENT
DTSTAMP:20260420T031832
DTSTART;TZID=Europe/Berlin:20261109T104500
DTEND;TZID=Europe/Berlin:20261109T130000
UID:2601772001-20261109T104500@DÜSSELDORF ASG-BILDUNGSFORUM
SUMMARY:Malen am Vormittag - für regelmäßige Kunstpraxis (2601772001) 
LOCATION:ASG-G90;5.02, Gerresheimer Straße 90, 40233 Düsseldorf
END:VEVENT
BEGIN:VEVENT
DTSTAMP:20260420T031832
DTSTART;TZID=Europe/Berlin:20261116T104500
DTEND;TZID=Europe/Berlin:20261116T130000
UID:2601772001-20261116T104500@DÜSSELDORF ASG-BILDUNGSFORUM
SUMMARY:Malen am Vormittag - für regelmäßige Kunstpraxis (2601772001) 
LOCATION:ASG-G90;5.02, Gerresheimer Straße 90, 40233 Düsseldorf
END:VEVENT
BEGIN:VEVENT
DTSTAMP:20260420T031832
DTSTART;TZID=Europe/Berlin:20261123T104500
DTEND;TZID=Europe/Berlin:20261123T130000
UID:2601772001-20261123T104500@DÜSSELDORF ASG-BILDUNGSFORUM
SUMMARY:Malen am Vormittag - für regelmäßige Kunstpraxis (2601772001) 
LOCATION:ASG-G90;5.02, Gerresheimer Straße 90, 40233 Düsseldorf
END:VEVENT
BEGIN:VEVENT
DTSTAMP:20260420T031832
DTSTART;TZID=Europe/Berlin:20261130T104500
DTEND;TZID=Europe/Berlin:20261130T130000
UID:2601772001-20261130T104500@DÜSSELDORF ASG-BILDUNGSFORUM
SUMMARY:Malen am Vormittag - für regelmäßige Kunstpraxis (2601772001) 
LOCATION:ASG-G90;5.02, Gerresheimer Straße 90, 40233 Düsseldorf
END:VEVENT
END:VCALENDAR