BEGIN:VCALENDAR
VERSION:2.0
PRODID:https://www.kufer.de/kuferweb / DE
METHOD:PUBLISH
CALSCALE:GREGORIAN
X-WR-TIMEZONE:Europe/Berlin
BEGIN:VTIMEZONE
TZID:Europe/Berlin
X-LIC-LOCATION:Europe/Berlin
BEGIN:DAYLIGHT
TZOFFSETFROM:+0100
TZOFFSETTO:+0200
TZNAME:CEST
DTSTART:19700329T020000
RRULE:FREQ=YEARLY;INTERVAL=1;BYDAY=-1SU;BYMONTH=3
END:DAYLIGHT
BEGIN:STANDARD
TZOFFSETFROM:+0200
TZOFFSETTO:+0100
TZNAME:CET
DTSTART:19701025T030000
RRULE:FREQ=YEARLY;INTERVAL=1;BYDAY=-1SU;BYMONTH=10
END:STANDARD
END:VTIMEZONE
BEGIN:VEVENT
DTSTAMP:20260423T003510
DTSTART;TZID=Europe/Berlin:20260928T084500
DTEND;TZID=Europe/Berlin:20260928T124500
UID:2601813709-20260928T084500@DÜSSELDORF ASG-BILDUNGSFORUM
SUMMARY:Deutsch Alpha-Kurs Leben in Deutschland (2601813709) 
LOCATION:ASG-W4;1.19, Werdener Straße 4, 40227 Düsseldorf
END:VEVENT
BEGIN:VEVENT
DTSTAMP:20260423T003510
DTSTART;TZID=Europe/Berlin:20260929T084500
DTEND;TZID=Europe/Berlin:20260929T124500
UID:2601813709-20260929T084500@DÜSSELDORF ASG-BILDUNGSFORUM
SUMMARY:Deutsch Alpha-Kurs Leben in Deutschland (2601813709) 
LOCATION:ASG-W4;1.19, Werdener Straße 4, 40227 Düsseldorf
END:VEVENT
BEGIN:VEVENT
DTSTAMP:20260423T003510
DTSTART;TZID=Europe/Berlin:20260930T084500
DTEND;TZID=Europe/Berlin:20260930T124500
UID:2601813709-20260930T084500@DÜSSELDORF ASG-BILDUNGSFORUM
SUMMARY:Deutsch Alpha-Kurs Leben in Deutschland (2601813709) 
LOCATION:ASG-W4;1.19, Werdener Straße 4, 40227 Düsseldorf
END:VEVENT
BEGIN:VEVENT
DTSTAMP:20260423T003510
DTSTART;TZID=Europe/Berlin:20261001T084500
DTEND;TZID=Europe/Berlin:20261001T124500
UID:2601813709-20261001T084500@DÜSSELDORF ASG-BILDUNGSFORUM
SUMMARY:Deutsch Alpha-Kurs Leben in Deutschland (2601813709) 
LOCATION:ASG-W4;1.19, Werdener Straße 4, 40227 Düsseldorf
END:VEVENT
BEGIN:VEVENT
DTSTAMP:20260423T003510
DTSTART;TZID=Europe/Berlin:20261005T084500
DTEND;TZID=Europe/Berlin:20261005T124500
UID:2601813709-20261005T084500@DÜSSELDORF ASG-BILDUNGSFORUM
SUMMARY:Deutsch Alpha-Kurs Leben in Deutschland (2601813709) 
LOCATION:ASG-W4;1.19, Werdener Straße 4, 40227 Düsseldorf
END:VEVENT
BEGIN:VEVENT
DTSTAMP:20260423T003510
DTSTART;TZID=Europe/Berlin:20261006T084500
DTEND;TZID=Europe/Berlin:20261006T124500
UID:2601813709-20261006T084500@DÜSSELDORF ASG-BILDUNGSFORUM
SUMMARY:Deutsch Alpha-Kurs Leben in Deutschland (2601813709) 
LOCATION:ASG-W4;1.19, Werdener Straße 4, 40227 Düsseldorf
END:VEVENT
BEGIN:VEVENT
DTSTAMP:20260423T003510
DTSTART;TZID=Europe/Berlin:20261007T084500
DTEND;TZID=Europe/Berlin:20261007T124500
UID:2601813709-20261007T084500@DÜSSELDORF ASG-BILDUNGSFORUM
SUMMARY:Deutsch Alpha-Kurs Leben in Deutschland (2601813709) 
LOCATION:ASG-W4;1.19, Werdener Straße 4, 40227 Düsseldorf
END:VEVENT
BEGIN:VEVENT
DTSTAMP:20260423T003510
DTSTART;TZID=Europe/Berlin:20261008T084500
DTEND;TZID=Europe/Berlin:20261008T124500
UID:2601813709-20261008T084500@DÜSSELDORF ASG-BILDUNGSFORUM
SUMMARY:Deutsch Alpha-Kurs Leben in Deutschland (2601813709) 
LOCATION:ASG-W4;1.19, Werdener Straße 4, 40227 Düsseldorf
END:VEVENT
BEGIN:VEVENT
DTSTAMP:20260423T003510
DTSTART;TZID=Europe/Berlin:20261012T084500
DTEND;TZID=Europe/Berlin:20261012T124500
UID:2601813709-20261012T084500@DÜSSELDORF ASG-BILDUNGSFORUM
SUMMARY:Deutsch Alpha-Kurs Leben in Deutschland (2601813709) 
LOCATION:ASG-W4;1.19, Werdener Straße 4, 40227 Düsseldorf
END:VEVENT
BEGIN:VEVENT
DTSTAMP:20260423T003510
DTSTART;TZID=Europe/Berlin:20261013T084500
DTEND;TZID=Europe/Berlin:20261013T124500
UID:2601813709-20261013T084500@DÜSSELDORF ASG-BILDUNGSFORUM
SUMMARY:Deutsch Alpha-Kurs Leben in Deutschland (2601813709) 
LOCATION:ASG-W4;1.19, Werdener Straße 4, 40227 Düsseldorf
END:VEVENT
BEGIN:VEVENT
DTSTAMP:20260423T003510
DTSTART;TZID=Europe/Berlin:20261014T084500
DTEND;TZID=Europe/Berlin:20261014T124500
UID:2601813709-20261014T084500@DÜSSELDORF ASG-BILDUNGSFORUM
SUMMARY:Deutsch Alpha-Kurs Leben in Deutschland (2601813709) 
LOCATION:ASG-W4;1.19, Werdener Straße 4, 40227 Düsseldorf
END:VEVENT
BEGIN:VEVENT
DTSTAMP:20260423T003510
DTSTART;TZID=Europe/Berlin:20261015T084500
DTEND;TZID=Europe/Berlin:20261015T124500
UID:2601813709-20261015T084500@DÜSSELDORF ASG-BILDUNGSFORUM
SUMMARY:Deutsch Alpha-Kurs Leben in Deutschland (2601813709) 
LOCATION:ASG-W4;1.19, Werdener Straße 4, 40227 Düsseldorf
END:VEVENT
BEGIN:VEVENT
DTSTAMP:20260423T003510
DTSTART;TZID=Europe/Berlin:20261102T084500
DTEND;TZID=Europe/Berlin:20261102T124500
UID:2601813709-20261102T084500@DÜSSELDORF ASG-BILDUNGSFORUM
SUMMARY:Deutsch Alpha-Kurs Leben in Deutschland (2601813709) 
LOCATION:ASG-W4;1.19, Werdener Straße 4, 40227 Düsseldorf
END:VEVENT
BEGIN:VEVENT
DTSTAMP:20260423T003510
DTSTART;TZID=Europe/Berlin:20261103T084500
DTEND;TZID=Europe/Berlin:20261103T124500
UID:2601813709-20261103T084500@DÜSSELDORF ASG-BILDUNGSFORUM
SUMMARY:Deutsch Alpha-Kurs Leben in Deutschland (2601813709) 
LOCATION:ASG-W4;1.19, Werdener Straße 4, 40227 Düsseldorf
END:VEVENT
BEGIN:VEVENT
DTSTAMP:20260423T003510
DTSTART;TZID=Europe/Berlin:20261104T084500
DTEND;TZID=Europe/Berlin:20261104T124500
UID:2601813709-20261104T084500@DÜSSELDORF ASG-BILDUNGSFORUM
SUMMARY:Deutsch Alpha-Kurs Leben in Deutschland (2601813709) 
LOCATION:ASG-W4;1.19, Werdener Straße 4, 40227 Düsseldorf
END:VEVENT
BEGIN:VEVENT
DTSTAMP:20260423T003510
DTSTART;TZID=Europe/Berlin:20261105T084500
DTEND;TZID=Europe/Berlin:20261105T124500
UID:2601813709-20261105T084500@DÜSSELDORF ASG-BILDUNGSFORUM
SUMMARY:Deutsch Alpha-Kurs Leben in Deutschland (2601813709) 
LOCATION:ASG-W4;1.19, Werdener Straße 4, 40227 Düsseldorf
END:VEVENT
BEGIN:VEVENT
DTSTAMP:20260423T003510
DTSTART;TZID=Europe/Berlin:20261109T084500
DTEND;TZID=Europe/Berlin:20261109T124500
UID:2601813709-20261109T084500@DÜSSELDORF ASG-BILDUNGSFORUM
SUMMARY:Deutsch Alpha-Kurs Leben in Deutschland (2601813709) 
LOCATION:ASG-W4;1.19, Werdener Straße 4, 40227 Düsseldorf
END:VEVENT
BEGIN:VEVENT
DTSTAMP:20260423T003510
DTSTART;TZID=Europe/Berlin:20261110T084500
DTEND;TZID=Europe/Berlin:20261110T124500
UID:2601813709-20261110T084500@DÜSSELDORF ASG-BILDUNGSFORUM
SUMMARY:Deutsch Alpha-Kurs Leben in Deutschland (2601813709) 
LOCATION:ASG-W4;1.19, Werdener Straße 4, 40227 Düsseldorf
END:VEVENT
BEGIN:VEVENT
DTSTAMP:20260423T003510
DTSTART;TZID=Europe/Berlin:20261111T084500
DTEND;TZID=Europe/Berlin:20261111T124500
UID:2601813709-20261111T084500@DÜSSELDORF ASG-BILDUNGSFORUM
SUMMARY:Deutsch Alpha-Kurs Leben in Deutschland (2601813709) 
LOCATION:ASG-W4;1.19, Werdener Straße 4, 40227 Düsseldorf
END:VEVENT
BEGIN:VEVENT
DTSTAMP:20260423T003510
DTSTART;TZID=Europe/Berlin:20261112T084500
DTEND;TZID=Europe/Berlin:20261112T124500
UID:2601813709-20261112T084500@DÜSSELDORF ASG-BILDUNGSFORUM
SUMMARY:Deutsch Alpha-Kurs Leben in Deutschland (2601813709) 
LOCATION:ASG-W4;1.19, Werdener Straße 4, 40227 Düsseldorf
END:VEVENT
END:VCALENDAR