BEGIN:VCALENDAR
VERSION:2.0
PRODID:https://www.kufer.de/kuferweb / DE
METHOD:PUBLISH
CALSCALE:GREGORIAN
X-WR-TIMEZONE:Europe/Berlin
BEGIN:VTIMEZONE
TZID:Europe/Berlin
X-LIC-LOCATION:Europe/Berlin
BEGIN:DAYLIGHT
TZOFFSETFROM:+0100
TZOFFSETTO:+0200
TZNAME:CEST
DTSTART:19700329T020000
RRULE:FREQ=YEARLY;INTERVAL=1;BYDAY=-1SU;BYMONTH=3
END:DAYLIGHT
BEGIN:STANDARD
TZOFFSETFROM:+0200
TZOFFSETTO:+0100
TZNAME:CET
DTSTART:19701025T030000
RRULE:FREQ=YEARLY;INTERVAL=1;BYDAY=-1SU;BYMONTH=10
END:STANDARD
END:VTIMEZONE
BEGIN:VEVENT
DTSTAMP:20260423T031443
DTSTART;TZID=Europe/Berlin:20260727T090000
DTEND;TZID=Europe/Berlin:20260727T130000
UID:2601813749-20260727T090000@DÜSSELDORF ASG-BILDUNGSFORUM
SUMMARY:Deutsch Alpha-Kurs Modul 9 (2601813749) 
LOCATION:ASG-W4;1.19, Werdener Straße 4, 40227 Düsseldorf
END:VEVENT
BEGIN:VEVENT
DTSTAMP:20260423T031443
DTSTART;TZID=Europe/Berlin:20260728T090000
DTEND;TZID=Europe/Berlin:20260728T130000
UID:2601813749-20260728T090000@DÜSSELDORF ASG-BILDUNGSFORUM
SUMMARY:Deutsch Alpha-Kurs Modul 9 (2601813749) 
LOCATION:ASG-W4;1.19, Werdener Straße 4, 40227 Düsseldorf
END:VEVENT
BEGIN:VEVENT
DTSTAMP:20260423T031443
DTSTART;TZID=Europe/Berlin:20260729T090000
DTEND;TZID=Europe/Berlin:20260729T130000
UID:2601813749-20260729T090000@DÜSSELDORF ASG-BILDUNGSFORUM
SUMMARY:Deutsch Alpha-Kurs Modul 9 (2601813749) 
LOCATION:ASG-W4;1.19, Werdener Straße 4, 40227 Düsseldorf
END:VEVENT
BEGIN:VEVENT
DTSTAMP:20260423T031443
DTSTART;TZID=Europe/Berlin:20260730T090000
DTEND;TZID=Europe/Berlin:20260730T130000
UID:2601813749-20260730T090000@DÜSSELDORF ASG-BILDUNGSFORUM
SUMMARY:Deutsch Alpha-Kurs Modul 9 (2601813749) 
LOCATION:ASG-W4;1.19, Werdener Straße 4, 40227 Düsseldorf
END:VEVENT
BEGIN:VEVENT
DTSTAMP:20260423T031443
DTSTART;TZID=Europe/Berlin:20260831T090000
DTEND;TZID=Europe/Berlin:20260831T130000
UID:2601813749-20260831T090000@DÜSSELDORF ASG-BILDUNGSFORUM
SUMMARY:Deutsch Alpha-Kurs Modul 9 (2601813749) 
LOCATION:ASG-W4;1.19, Werdener Straße 4, 40227 Düsseldorf
END:VEVENT
BEGIN:VEVENT
DTSTAMP:20260423T031443
DTSTART;TZID=Europe/Berlin:20260901T090000
DTEND;TZID=Europe/Berlin:20260901T130000
UID:2601813749-20260901T090000@DÜSSELDORF ASG-BILDUNGSFORUM
SUMMARY:Deutsch Alpha-Kurs Modul 9 (2601813749) 
LOCATION:ASG-W4;1.19, Werdener Straße 4, 40227 Düsseldorf
END:VEVENT
BEGIN:VEVENT
DTSTAMP:20260423T031443
DTSTART;TZID=Europe/Berlin:20260902T090000
DTEND;TZID=Europe/Berlin:20260902T130000
UID:2601813749-20260902T090000@DÜSSELDORF ASG-BILDUNGSFORUM
SUMMARY:Deutsch Alpha-Kurs Modul 9 (2601813749) 
LOCATION:ASG-W4;1.19, Werdener Straße 4, 40227 Düsseldorf
END:VEVENT
BEGIN:VEVENT
DTSTAMP:20260423T031443
DTSTART;TZID=Europe/Berlin:20260903T090000
DTEND;TZID=Europe/Berlin:20260903T130000
UID:2601813749-20260903T090000@DÜSSELDORF ASG-BILDUNGSFORUM
SUMMARY:Deutsch Alpha-Kurs Modul 9 (2601813749) 
LOCATION:ASG-W4;1.19, Werdener Straße 4, 40227 Düsseldorf
END:VEVENT
BEGIN:VEVENT
DTSTAMP:20260423T031443
DTSTART;TZID=Europe/Berlin:20260907T090000
DTEND;TZID=Europe/Berlin:20260907T130000
UID:2601813749-20260907T090000@DÜSSELDORF ASG-BILDUNGSFORUM
SUMMARY:Deutsch Alpha-Kurs Modul 9 (2601813749) 
LOCATION:ASG-W4;1.19, Werdener Straße 4, 40227 Düsseldorf
END:VEVENT
BEGIN:VEVENT
DTSTAMP:20260423T031443
DTSTART;TZID=Europe/Berlin:20260908T090000
DTEND;TZID=Europe/Berlin:20260908T130000
UID:2601813749-20260908T090000@DÜSSELDORF ASG-BILDUNGSFORUM
SUMMARY:Deutsch Alpha-Kurs Modul 9 (2601813749) 
LOCATION:ASG-W4;1.19, Werdener Straße 4, 40227 Düsseldorf
END:VEVENT
BEGIN:VEVENT
DTSTAMP:20260423T031443
DTSTART;TZID=Europe/Berlin:20260909T090000
DTEND;TZID=Europe/Berlin:20260909T130000
UID:2601813749-20260909T090000@DÜSSELDORF ASG-BILDUNGSFORUM
SUMMARY:Deutsch Alpha-Kurs Modul 9 (2601813749) 
LOCATION:ASG-W4;1.19, Werdener Straße 4, 40227 Düsseldorf
END:VEVENT
BEGIN:VEVENT
DTSTAMP:20260423T031443
DTSTART;TZID=Europe/Berlin:20260910T090000
DTEND;TZID=Europe/Berlin:20260910T130000
UID:2601813749-20260910T090000@DÜSSELDORF ASG-BILDUNGSFORUM
SUMMARY:Deutsch Alpha-Kurs Modul 9 (2601813749) 
LOCATION:ASG-W4;1.19, Werdener Straße 4, 40227 Düsseldorf
END:VEVENT
BEGIN:VEVENT
DTSTAMP:20260423T031443
DTSTART;TZID=Europe/Berlin:20260914T090000
DTEND;TZID=Europe/Berlin:20260914T130000
UID:2601813749-20260914T090000@DÜSSELDORF ASG-BILDUNGSFORUM
SUMMARY:Deutsch Alpha-Kurs Modul 9 (2601813749) 
LOCATION:ASG-W4;1.19, Werdener Straße 4, 40227 Düsseldorf
END:VEVENT
BEGIN:VEVENT
DTSTAMP:20260423T031443
DTSTART;TZID=Europe/Berlin:20260915T090000
DTEND;TZID=Europe/Berlin:20260915T130000
UID:2601813749-20260915T090000@DÜSSELDORF ASG-BILDUNGSFORUM
SUMMARY:Deutsch Alpha-Kurs Modul 9 (2601813749) 
LOCATION:ASG-W4;1.19, Werdener Straße 4, 40227 Düsseldorf
END:VEVENT
BEGIN:VEVENT
DTSTAMP:20260423T031443
DTSTART;TZID=Europe/Berlin:20260916T090000
DTEND;TZID=Europe/Berlin:20260916T130000
UID:2601813749-20260916T090000@DÜSSELDORF ASG-BILDUNGSFORUM
SUMMARY:Deutsch Alpha-Kurs Modul 9 (2601813749) 
LOCATION:ASG-W4;1.19, Werdener Straße 4, 40227 Düsseldorf
END:VEVENT
BEGIN:VEVENT
DTSTAMP:20260423T031443
DTSTART;TZID=Europe/Berlin:20260917T090000
DTEND;TZID=Europe/Berlin:20260917T130000
UID:2601813749-20260917T090000@DÜSSELDORF ASG-BILDUNGSFORUM
SUMMARY:Deutsch Alpha-Kurs Modul 9 (2601813749) 
LOCATION:ASG-W4;1.19, Werdener Straße 4, 40227 Düsseldorf
END:VEVENT
BEGIN:VEVENT
DTSTAMP:20260423T031443
DTSTART;TZID=Europe/Berlin:20260921T090000
DTEND;TZID=Europe/Berlin:20260921T130000
UID:2601813749-20260921T090000@DÜSSELDORF ASG-BILDUNGSFORUM
SUMMARY:Deutsch Alpha-Kurs Modul 9 (2601813749) 
LOCATION:ASG-W4;1.19, Werdener Straße 4, 40227 Düsseldorf
END:VEVENT
BEGIN:VEVENT
DTSTAMP:20260423T031443
DTSTART;TZID=Europe/Berlin:20260922T090000
DTEND;TZID=Europe/Berlin:20260922T130000
UID:2601813749-20260922T090000@DÜSSELDORF ASG-BILDUNGSFORUM
SUMMARY:Deutsch Alpha-Kurs Modul 9 (2601813749) 
LOCATION:ASG-W4;1.19, Werdener Straße 4, 40227 Düsseldorf
END:VEVENT
BEGIN:VEVENT
DTSTAMP:20260423T031443
DTSTART;TZID=Europe/Berlin:20260923T090000
DTEND;TZID=Europe/Berlin:20260923T130000
UID:2601813749-20260923T090000@DÜSSELDORF ASG-BILDUNGSFORUM
SUMMARY:Deutsch Alpha-Kurs Modul 9 (2601813749) 
LOCATION:ASG-W4;1.19, Werdener Straße 4, 40227 Düsseldorf
END:VEVENT
BEGIN:VEVENT
DTSTAMP:20260423T031443
DTSTART;TZID=Europe/Berlin:20260924T090000
DTEND;TZID=Europe/Berlin:20260924T130000
UID:2601813749-20260924T090000@DÜSSELDORF ASG-BILDUNGSFORUM
SUMMARY:Deutsch Alpha-Kurs Modul 9 (2601813749) 
LOCATION:ASG-W4;1.19, Werdener Straße 4, 40227 Düsseldorf
END:VEVENT
END:VCALENDAR