BEGIN:VCALENDAR
VERSION:2.0
PRODID:https://www.kufer.de/kuferweb / DE
METHOD:PUBLISH
CALSCALE:GREGORIAN
X-WR-TIMEZONE:Europe/Berlin
BEGIN:VTIMEZONE
TZID:Europe/Berlin
X-LIC-LOCATION:Europe/Berlin
BEGIN:DAYLIGHT
TZOFFSETFROM:+0100
TZOFFSETTO:+0200
TZNAME:CEST
DTSTART:19700329T020000
RRULE:FREQ=YEARLY;INTERVAL=1;BYDAY=-1SU;BYMONTH=3
END:DAYLIGHT
BEGIN:STANDARD
TZOFFSETFROM:+0200
TZOFFSETTO:+0100
TZNAME:CET
DTSTART:19701025T030000
RRULE:FREQ=YEARLY;INTERVAL=1;BYDAY=-1SU;BYMONTH=10
END:STANDARD
END:VTIMEZONE
BEGIN:VEVENT
DTSTAMP:20260423T031724
DTSTART;TZID=Europe/Berlin:20260511T090000
DTEND;TZID=Europe/Berlin:20260511T130000
UID:2601813823-20260511T090000@DÜSSELDORF ASG-BILDUNGSFORUM
SUMMARY:Geringliteralisiertenkurs Modul 3 (2601813823) 
LOCATION:ASG-W4;1.07, Werdener Straße 4, 40227 Düsseldorf
END:VEVENT
BEGIN:VEVENT
DTSTAMP:20260423T031724
DTSTART;TZID=Europe/Berlin:20260512T090000
DTEND;TZID=Europe/Berlin:20260512T130000
UID:2601813823-20260512T090000@DÜSSELDORF ASG-BILDUNGSFORUM
SUMMARY:Geringliteralisiertenkurs Modul 3 (2601813823) 
LOCATION:ASG-W4;1.07, Werdener Straße 4, 40227 Düsseldorf
END:VEVENT
BEGIN:VEVENT
DTSTAMP:20260423T031724
DTSTART;TZID=Europe/Berlin:20260513T090000
DTEND;TZID=Europe/Berlin:20260513T130000
UID:2601813823-20260513T090000@DÜSSELDORF ASG-BILDUNGSFORUM
SUMMARY:Geringliteralisiertenkurs Modul 3 (2601813823) 
LOCATION:ASG-W4;1.07, Werdener Straße 4, 40227 Düsseldorf
END:VEVENT
BEGIN:VEVENT
DTSTAMP:20260423T031724
DTSTART;TZID=Europe/Berlin:20260518T090000
DTEND;TZID=Europe/Berlin:20260518T130000
UID:2601813823-20260518T090000@DÜSSELDORF ASG-BILDUNGSFORUM
SUMMARY:Geringliteralisiertenkurs Modul 3 (2601813823) 
LOCATION:ASG-W4;1.07, Werdener Straße 4, 40227 Düsseldorf
END:VEVENT
BEGIN:VEVENT
DTSTAMP:20260423T031724
DTSTART;TZID=Europe/Berlin:20260519T090000
DTEND;TZID=Europe/Berlin:20260519T130000
UID:2601813823-20260519T090000@DÜSSELDORF ASG-BILDUNGSFORUM
SUMMARY:Geringliteralisiertenkurs Modul 3 (2601813823) 
LOCATION:ASG-W4;1.07, Werdener Straße 4, 40227 Düsseldorf
END:VEVENT
BEGIN:VEVENT
DTSTAMP:20260423T031724
DTSTART;TZID=Europe/Berlin:20260520T090000
DTEND;TZID=Europe/Berlin:20260520T130000
UID:2601813823-20260520T090000@DÜSSELDORF ASG-BILDUNGSFORUM
SUMMARY:Geringliteralisiertenkurs Modul 3 (2601813823) 
LOCATION:ASG-W4;1.07, Werdener Straße 4, 40227 Düsseldorf
END:VEVENT
BEGIN:VEVENT
DTSTAMP:20260423T031724
DTSTART;TZID=Europe/Berlin:20260521T090000
DTEND;TZID=Europe/Berlin:20260521T130000
UID:2601813823-20260521T090000@DÜSSELDORF ASG-BILDUNGSFORUM
SUMMARY:Geringliteralisiertenkurs Modul 3 (2601813823) 
LOCATION:ASG-W4;1.07, Werdener Straße 4, 40227 Düsseldorf
END:VEVENT
BEGIN:VEVENT
DTSTAMP:20260423T031724
DTSTART;TZID=Europe/Berlin:20260527T090000
DTEND;TZID=Europe/Berlin:20260527T130000
UID:2601813823-20260527T090000@DÜSSELDORF ASG-BILDUNGSFORUM
SUMMARY:Geringliteralisiertenkurs Modul 3 (2601813823) 
LOCATION:ASG-W4;1.07, Werdener Straße 4, 40227 Düsseldorf
END:VEVENT
BEGIN:VEVENT
DTSTAMP:20260423T031724
DTSTART;TZID=Europe/Berlin:20260528T090000
DTEND;TZID=Europe/Berlin:20260528T130000
UID:2601813823-20260528T090000@DÜSSELDORF ASG-BILDUNGSFORUM
SUMMARY:Geringliteralisiertenkurs Modul 3 (2601813823) 
LOCATION:ASG-W4;1.07, Werdener Straße 4, 40227 Düsseldorf
END:VEVENT
BEGIN:VEVENT
DTSTAMP:20260423T031724
DTSTART;TZID=Europe/Berlin:20260601T090000
DTEND;TZID=Europe/Berlin:20260601T130000
UID:2601813823-20260601T090000@DÜSSELDORF ASG-BILDUNGSFORUM
SUMMARY:Geringliteralisiertenkurs Modul 3 (2601813823) 
LOCATION:ASG-W4;1.07, Werdener Straße 4, 40227 Düsseldorf
END:VEVENT
BEGIN:VEVENT
DTSTAMP:20260423T031724
DTSTART;TZID=Europe/Berlin:20260602T090000
DTEND;TZID=Europe/Berlin:20260602T130000
UID:2601813823-20260602T090000@DÜSSELDORF ASG-BILDUNGSFORUM
SUMMARY:Geringliteralisiertenkurs Modul 3 (2601813823) 
LOCATION:ASG-W4;1.07, Werdener Straße 4, 40227 Düsseldorf
END:VEVENT
BEGIN:VEVENT
DTSTAMP:20260423T031724
DTSTART;TZID=Europe/Berlin:20260603T090000
DTEND;TZID=Europe/Berlin:20260603T130000
UID:2601813823-20260603T090000@DÜSSELDORF ASG-BILDUNGSFORUM
SUMMARY:Geringliteralisiertenkurs Modul 3 (2601813823) 
LOCATION:ASG-W4;1.07, Werdener Straße 4, 40227 Düsseldorf
END:VEVENT
BEGIN:VEVENT
DTSTAMP:20260423T031724
DTSTART;TZID=Europe/Berlin:20260608T090000
DTEND;TZID=Europe/Berlin:20260608T130000
UID:2601813823-20260608T090000@DÜSSELDORF ASG-BILDUNGSFORUM
SUMMARY:Geringliteralisiertenkurs Modul 3 (2601813823) 
LOCATION:ASG-W4;1.07, Werdener Straße 4, 40227 Düsseldorf
END:VEVENT
BEGIN:VEVENT
DTSTAMP:20260423T031724
DTSTART;TZID=Europe/Berlin:20260609T090000
DTEND;TZID=Europe/Berlin:20260609T130000
UID:2601813823-20260609T090000@DÜSSELDORF ASG-BILDUNGSFORUM
SUMMARY:Geringliteralisiertenkurs Modul 3 (2601813823) 
LOCATION:ASG-W4;1.07, Werdener Straße 4, 40227 Düsseldorf
END:VEVENT
BEGIN:VEVENT
DTSTAMP:20260423T031724
DTSTART;TZID=Europe/Berlin:20260610T090000
DTEND;TZID=Europe/Berlin:20260610T130000
UID:2601813823-20260610T090000@DÜSSELDORF ASG-BILDUNGSFORUM
SUMMARY:Geringliteralisiertenkurs Modul 3 (2601813823) 
LOCATION:ASG-W4;1.07, Werdener Straße 4, 40227 Düsseldorf
END:VEVENT
BEGIN:VEVENT
DTSTAMP:20260423T031724
DTSTART;TZID=Europe/Berlin:20260611T090000
DTEND;TZID=Europe/Berlin:20260611T130000
UID:2601813823-20260611T090000@DÜSSELDORF ASG-BILDUNGSFORUM
SUMMARY:Geringliteralisiertenkurs Modul 3 (2601813823) 
LOCATION:ASG-W4;1.07, Werdener Straße 4, 40227 Düsseldorf
END:VEVENT
BEGIN:VEVENT
DTSTAMP:20260423T031724
DTSTART;TZID=Europe/Berlin:20260615T090000
DTEND;TZID=Europe/Berlin:20260615T130000
UID:2601813823-20260615T090000@DÜSSELDORF ASG-BILDUNGSFORUM
SUMMARY:Geringliteralisiertenkurs Modul 3 (2601813823) 
LOCATION:ASG-W4;1.07, Werdener Straße 4, 40227 Düsseldorf
END:VEVENT
BEGIN:VEVENT
DTSTAMP:20260423T031724
DTSTART;TZID=Europe/Berlin:20260616T090000
DTEND;TZID=Europe/Berlin:20260616T130000
UID:2601813823-20260616T090000@DÜSSELDORF ASG-BILDUNGSFORUM
SUMMARY:Geringliteralisiertenkurs Modul 3 (2601813823) 
LOCATION:ASG-W4;1.07, Werdener Straße 4, 40227 Düsseldorf
END:VEVENT
BEGIN:VEVENT
DTSTAMP:20260423T031724
DTSTART;TZID=Europe/Berlin:20260617T090000
DTEND;TZID=Europe/Berlin:20260617T130000
UID:2601813823-20260617T090000@DÜSSELDORF ASG-BILDUNGSFORUM
SUMMARY:Geringliteralisiertenkurs Modul 3 (2601813823) 
LOCATION:ASG-W4;1.07, Werdener Straße 4, 40227 Düsseldorf
END:VEVENT
BEGIN:VEVENT
DTSTAMP:20260423T031724
DTSTART;TZID=Europe/Berlin:20260618T090000
DTEND;TZID=Europe/Berlin:20260618T130000
UID:2601813823-20260618T090000@DÜSSELDORF ASG-BILDUNGSFORUM
SUMMARY:Geringliteralisiertenkurs Modul 3 (2601813823) 
LOCATION:ASG-W4;1.07, Werdener Straße 4, 40227 Düsseldorf
END:VEVENT
END:VCALENDAR