BEGIN:VCALENDAR
VERSION:2.0
PRODID:https://www.kufer.de/kuferweb / DE
METHOD:PUBLISH
CALSCALE:GREGORIAN
X-WR-TIMEZONE:Europe/Berlin
BEGIN:VTIMEZONE
TZID:Europe/Berlin
X-LIC-LOCATION:Europe/Berlin
BEGIN:DAYLIGHT
TZOFFSETFROM:+0100
TZOFFSETTO:+0200
TZNAME:CEST
DTSTART:19700329T020000
RRULE:FREQ=YEARLY;INTERVAL=1;BYDAY=-1SU;BYMONTH=3
END:DAYLIGHT
BEGIN:STANDARD
TZOFFSETFROM:+0200
TZOFFSETTO:+0100
TZNAME:CET
DTSTART:19701025T030000
RRULE:FREQ=YEARLY;INTERVAL=1;BYDAY=-1SU;BYMONTH=10
END:STANDARD
END:VTIMEZONE
BEGIN:VEVENT
DTSTAMP:20260423T031659
DTSTART;TZID=Europe/Berlin:20261116T090000
DTEND;TZID=Europe/Berlin:20261116T130000
UID:2601813827-20261116T090000@DÜSSELDORF ASG-BILDUNGSFORUM
SUMMARY:Geringliteralisiertenkurs Modul 7 (2601813827) 
LOCATION:ASG-W4;1.26, Werdener Straße 4, 40227 Düsseldorf
END:VEVENT
BEGIN:VEVENT
DTSTAMP:20260423T031659
DTSTART;TZID=Europe/Berlin:20261117T090000
DTEND;TZID=Europe/Berlin:20261117T130000
UID:2601813827-20261117T090000@DÜSSELDORF ASG-BILDUNGSFORUM
SUMMARY:Geringliteralisiertenkurs Modul 7 (2601813827) 
LOCATION:ASG-W4;1.26, Werdener Straße 4, 40227 Düsseldorf
END:VEVENT
BEGIN:VEVENT
DTSTAMP:20260423T031659
DTSTART;TZID=Europe/Berlin:20261118T090000
DTEND;TZID=Europe/Berlin:20261118T130000
UID:2601813827-20261118T090000@DÜSSELDORF ASG-BILDUNGSFORUM
SUMMARY:Geringliteralisiertenkurs Modul 7 (2601813827) 
LOCATION:ASG-W4;1.26, Werdener Straße 4, 40227 Düsseldorf
END:VEVENT
BEGIN:VEVENT
DTSTAMP:20260423T031659
DTSTART;TZID=Europe/Berlin:20261119T090000
DTEND;TZID=Europe/Berlin:20261119T130000
UID:2601813827-20261119T090000@DÜSSELDORF ASG-BILDUNGSFORUM
SUMMARY:Geringliteralisiertenkurs Modul 7 (2601813827) 
LOCATION:ASG-W4;1.26, Werdener Straße 4, 40227 Düsseldorf
END:VEVENT
BEGIN:VEVENT
DTSTAMP:20260423T031659
DTSTART;TZID=Europe/Berlin:20261123T090000
DTEND;TZID=Europe/Berlin:20261123T130000
UID:2601813827-20261123T090000@DÜSSELDORF ASG-BILDUNGSFORUM
SUMMARY:Geringliteralisiertenkurs Modul 7 (2601813827) 
LOCATION:ASG-W4;1.26, Werdener Straße 4, 40227 Düsseldorf
END:VEVENT
BEGIN:VEVENT
DTSTAMP:20260423T031659
DTSTART;TZID=Europe/Berlin:20261124T090000
DTEND;TZID=Europe/Berlin:20261124T130000
UID:2601813827-20261124T090000@DÜSSELDORF ASG-BILDUNGSFORUM
SUMMARY:Geringliteralisiertenkurs Modul 7 (2601813827) 
LOCATION:ASG-W4;1.26, Werdener Straße 4, 40227 Düsseldorf
END:VEVENT
BEGIN:VEVENT
DTSTAMP:20260423T031659
DTSTART;TZID=Europe/Berlin:20261125T090000
DTEND;TZID=Europe/Berlin:20261125T130000
UID:2601813827-20261125T090000@DÜSSELDORF ASG-BILDUNGSFORUM
SUMMARY:Geringliteralisiertenkurs Modul 7 (2601813827) 
LOCATION:ASG-W4;1.26, Werdener Straße 4, 40227 Düsseldorf
END:VEVENT
BEGIN:VEVENT
DTSTAMP:20260423T031659
DTSTART;TZID=Europe/Berlin:20261126T090000
DTEND;TZID=Europe/Berlin:20261126T130000
UID:2601813827-20261126T090000@DÜSSELDORF ASG-BILDUNGSFORUM
SUMMARY:Geringliteralisiertenkurs Modul 7 (2601813827) 
LOCATION:ASG-W4;1.26, Werdener Straße 4, 40227 Düsseldorf
END:VEVENT
BEGIN:VEVENT
DTSTAMP:20260423T031659
DTSTART;TZID=Europe/Berlin:20261130T090000
DTEND;TZID=Europe/Berlin:20261130T130000
UID:2601813827-20261130T090000@DÜSSELDORF ASG-BILDUNGSFORUM
SUMMARY:Geringliteralisiertenkurs Modul 7 (2601813827) 
LOCATION:ASG-W4;1.26, Werdener Straße 4, 40227 Düsseldorf
END:VEVENT
BEGIN:VEVENT
DTSTAMP:20260423T031659
DTSTART;TZID=Europe/Berlin:20261201T090000
DTEND;TZID=Europe/Berlin:20261201T130000
UID:2601813827-20261201T090000@DÜSSELDORF ASG-BILDUNGSFORUM
SUMMARY:Geringliteralisiertenkurs Modul 7 (2601813827) 
LOCATION:ASG-W4;1.26, Werdener Straße 4, 40227 Düsseldorf
END:VEVENT
BEGIN:VEVENT
DTSTAMP:20260423T031659
DTSTART;TZID=Europe/Berlin:20261202T090000
DTEND;TZID=Europe/Berlin:20261202T130000
UID:2601813827-20261202T090000@DÜSSELDORF ASG-BILDUNGSFORUM
SUMMARY:Geringliteralisiertenkurs Modul 7 (2601813827) 
LOCATION:ASG-W4;1.26, Werdener Straße 4, 40227 Düsseldorf
END:VEVENT
BEGIN:VEVENT
DTSTAMP:20260423T031659
DTSTART;TZID=Europe/Berlin:20261203T090000
DTEND;TZID=Europe/Berlin:20261203T130000
UID:2601813827-20261203T090000@DÜSSELDORF ASG-BILDUNGSFORUM
SUMMARY:Geringliteralisiertenkurs Modul 7 (2601813827) 
LOCATION:ASG-W4;1.26, Werdener Straße 4, 40227 Düsseldorf
END:VEVENT
BEGIN:VEVENT
DTSTAMP:20260423T031659
DTSTART;TZID=Europe/Berlin:20261207T090000
DTEND;TZID=Europe/Berlin:20261207T130000
UID:2601813827-20261207T090000@DÜSSELDORF ASG-BILDUNGSFORUM
SUMMARY:Geringliteralisiertenkurs Modul 7 (2601813827) 
LOCATION:ASG-W4;1.26, Werdener Straße 4, 40227 Düsseldorf
END:VEVENT
BEGIN:VEVENT
DTSTAMP:20260423T031659
DTSTART;TZID=Europe/Berlin:20261208T090000
DTEND;TZID=Europe/Berlin:20261208T130000
UID:2601813827-20261208T090000@DÜSSELDORF ASG-BILDUNGSFORUM
SUMMARY:Geringliteralisiertenkurs Modul 7 (2601813827) 
LOCATION:ASG-W4;1.26, Werdener Straße 4, 40227 Düsseldorf
END:VEVENT
BEGIN:VEVENT
DTSTAMP:20260423T031659
DTSTART;TZID=Europe/Berlin:20261209T090000
DTEND;TZID=Europe/Berlin:20261209T130000
UID:2601813827-20261209T090000@DÜSSELDORF ASG-BILDUNGSFORUM
SUMMARY:Geringliteralisiertenkurs Modul 7 (2601813827) 
LOCATION:ASG-W4;1.26, Werdener Straße 4, 40227 Düsseldorf
END:VEVENT
BEGIN:VEVENT
DTSTAMP:20260423T031659
DTSTART;TZID=Europe/Berlin:20261210T090000
DTEND;TZID=Europe/Berlin:20261210T130000
UID:2601813827-20261210T090000@DÜSSELDORF ASG-BILDUNGSFORUM
SUMMARY:Geringliteralisiertenkurs Modul 7 (2601813827) 
LOCATION:ASG-W4;1.26, Werdener Straße 4, 40227 Düsseldorf
END:VEVENT
BEGIN:VEVENT
DTSTAMP:20260423T031659
DTSTART;TZID=Europe/Berlin:20261214T090000
DTEND;TZID=Europe/Berlin:20261214T130000
UID:2601813827-20261214T090000@DÜSSELDORF ASG-BILDUNGSFORUM
SUMMARY:Geringliteralisiertenkurs Modul 7 (2601813827) 
LOCATION:ASG-W4;1.26, Werdener Straße 4, 40227 Düsseldorf
END:VEVENT
BEGIN:VEVENT
DTSTAMP:20260423T031659
DTSTART;TZID=Europe/Berlin:20261215T090000
DTEND;TZID=Europe/Berlin:20261215T130000
UID:2601813827-20261215T090000@DÜSSELDORF ASG-BILDUNGSFORUM
SUMMARY:Geringliteralisiertenkurs Modul 7 (2601813827) 
LOCATION:ASG-W4;1.26, Werdener Straße 4, 40227 Düsseldorf
END:VEVENT
BEGIN:VEVENT
DTSTAMP:20260423T031659
DTSTART;TZID=Europe/Berlin:20261216T090000
DTEND;TZID=Europe/Berlin:20261216T130000
UID:2601813827-20261216T090000@DÜSSELDORF ASG-BILDUNGSFORUM
SUMMARY:Geringliteralisiertenkurs Modul 7 (2601813827) 
LOCATION:ASG-W4;1.26, Werdener Straße 4, 40227 Düsseldorf
END:VEVENT
BEGIN:VEVENT
DTSTAMP:20260423T031659
DTSTART;TZID=Europe/Berlin:20261217T090000
DTEND;TZID=Europe/Berlin:20261217T130000
UID:2601813827-20261217T090000@DÜSSELDORF ASG-BILDUNGSFORUM
SUMMARY:Geringliteralisiertenkurs Modul 7 (2601813827) 
LOCATION:ASG-W4;1.26, Werdener Straße 4, 40227 Düsseldorf
END:VEVENT
END:VCALENDAR