BEGIN:VCALENDAR
VERSION:2.0
PRODID:https://www.kufer.de/kuferweb / DE
METHOD:PUBLISH
CALSCALE:GREGORIAN
X-WR-TIMEZONE:Europe/Berlin
BEGIN:VTIMEZONE
TZID:Europe/Berlin
X-LIC-LOCATION:Europe/Berlin
BEGIN:DAYLIGHT
TZOFFSETFROM:+0100
TZOFFSETTO:+0200
TZNAME:CEST
DTSTART:19700329T020000
RRULE:FREQ=YEARLY;INTERVAL=1;BYDAY=-1SU;BYMONTH=3
END:DAYLIGHT
BEGIN:STANDARD
TZOFFSETFROM:+0200
TZOFFSETTO:+0100
TZNAME:CET
DTSTART:19701025T030000
RRULE:FREQ=YEARLY;INTERVAL=1;BYDAY=-1SU;BYMONTH=10
END:STANDARD
END:VTIMEZONE
BEGIN:VEVENT
DTSTAMP:20260423T004541
DTSTART;TZID=Europe/Berlin:20260622T090000
DTEND;TZID=Europe/Berlin:20260622T130000
UID:2601813847-20260622T090000@DÜSSELDORF ASG-BILDUNGSFORUM
SUMMARY:Deutsch als Fremdsprache Orientierungskurs (2601813847) 
LOCATION:ASG-W4;1.29, Werdener Straße 4, 40227 Düsseldorf
END:VEVENT
BEGIN:VEVENT
DTSTAMP:20260423T004541
DTSTART;TZID=Europe/Berlin:20260623T090000
DTEND;TZID=Europe/Berlin:20260623T130000
UID:2601813847-20260623T090000@DÜSSELDORF ASG-BILDUNGSFORUM
SUMMARY:Deutsch als Fremdsprache Orientierungskurs (2601813847) 
LOCATION:ASG-W4;1.29, Werdener Straße 4, 40227 Düsseldorf
END:VEVENT
BEGIN:VEVENT
DTSTAMP:20260423T004541
DTSTART;TZID=Europe/Berlin:20260624T090000
DTEND;TZID=Europe/Berlin:20260624T130000
UID:2601813847-20260624T090000@DÜSSELDORF ASG-BILDUNGSFORUM
SUMMARY:Deutsch als Fremdsprache Orientierungskurs (2601813847) 
LOCATION:ASG-W4;1.29, Werdener Straße 4, 40227 Düsseldorf
END:VEVENT
BEGIN:VEVENT
DTSTAMP:20260423T004541
DTSTART;TZID=Europe/Berlin:20260625T090000
DTEND;TZID=Europe/Berlin:20260625T130000
UID:2601813847-20260625T090000@DÜSSELDORF ASG-BILDUNGSFORUM
SUMMARY:Deutsch als Fremdsprache Orientierungskurs (2601813847) 
LOCATION:ASG-W4;1.29, Werdener Straße 4, 40227 Düsseldorf
END:VEVENT
BEGIN:VEVENT
DTSTAMP:20260423T004541
DTSTART;TZID=Europe/Berlin:20260629T090000
DTEND;TZID=Europe/Berlin:20260629T130000
UID:2601813847-20260629T090000@DÜSSELDORF ASG-BILDUNGSFORUM
SUMMARY:Deutsch als Fremdsprache Orientierungskurs (2601813847) 
LOCATION:ASG-W4;1.29, Werdener Straße 4, 40227 Düsseldorf
END:VEVENT
BEGIN:VEVENT
DTSTAMP:20260423T004541
DTSTART;TZID=Europe/Berlin:20260630T090000
DTEND;TZID=Europe/Berlin:20260630T130000
UID:2601813847-20260630T090000@DÜSSELDORF ASG-BILDUNGSFORUM
SUMMARY:Deutsch als Fremdsprache Orientierungskurs (2601813847) 
LOCATION:ASG-W4;1.29, Werdener Straße 4, 40227 Düsseldorf
END:VEVENT
BEGIN:VEVENT
DTSTAMP:20260423T004541
DTSTART;TZID=Europe/Berlin:20260701T090000
DTEND;TZID=Europe/Berlin:20260701T130000
UID:2601813847-20260701T090000@DÜSSELDORF ASG-BILDUNGSFORUM
SUMMARY:Deutsch als Fremdsprache Orientierungskurs (2601813847) 
LOCATION:ASG-W4;1.29, Werdener Straße 4, 40227 Düsseldorf
END:VEVENT
BEGIN:VEVENT
DTSTAMP:20260423T004541
DTSTART;TZID=Europe/Berlin:20260702T090000
DTEND;TZID=Europe/Berlin:20260702T130000
UID:2601813847-20260702T090000@DÜSSELDORF ASG-BILDUNGSFORUM
SUMMARY:Deutsch als Fremdsprache Orientierungskurs (2601813847) 
LOCATION:ASG-W4;1.29, Werdener Straße 4, 40227 Düsseldorf
END:VEVENT
BEGIN:VEVENT
DTSTAMP:20260423T004541
DTSTART;TZID=Europe/Berlin:20260706T090000
DTEND;TZID=Europe/Berlin:20260706T130000
UID:2601813847-20260706T090000@DÜSSELDORF ASG-BILDUNGSFORUM
SUMMARY:Deutsch als Fremdsprache Orientierungskurs (2601813847) 
LOCATION:ASG-W4;1.29, Werdener Straße 4, 40227 Düsseldorf
END:VEVENT
BEGIN:VEVENT
DTSTAMP:20260423T004541
DTSTART;TZID=Europe/Berlin:20260707T090000
DTEND;TZID=Europe/Berlin:20260707T130000
UID:2601813847-20260707T090000@DÜSSELDORF ASG-BILDUNGSFORUM
SUMMARY:Deutsch als Fremdsprache Orientierungskurs (2601813847) 
LOCATION:ASG-W4;1.29, Werdener Straße 4, 40227 Düsseldorf
END:VEVENT
BEGIN:VEVENT
DTSTAMP:20260423T004541
DTSTART;TZID=Europe/Berlin:20260708T090000
DTEND;TZID=Europe/Berlin:20260708T130000
UID:2601813847-20260708T090000@DÜSSELDORF ASG-BILDUNGSFORUM
SUMMARY:Deutsch als Fremdsprache Orientierungskurs (2601813847) 
LOCATION:ASG-W4;1.29, Werdener Straße 4, 40227 Düsseldorf
END:VEVENT
BEGIN:VEVENT
DTSTAMP:20260423T004541
DTSTART;TZID=Europe/Berlin:20260709T090000
DTEND;TZID=Europe/Berlin:20260709T130000
UID:2601813847-20260709T090000@DÜSSELDORF ASG-BILDUNGSFORUM
SUMMARY:Deutsch als Fremdsprache Orientierungskurs (2601813847) 
LOCATION:ASG-W4;1.29, Werdener Straße 4, 40227 Düsseldorf
END:VEVENT
BEGIN:VEVENT
DTSTAMP:20260423T004541
DTSTART;TZID=Europe/Berlin:20260713T090000
DTEND;TZID=Europe/Berlin:20260713T130000
UID:2601813847-20260713T090000@DÜSSELDORF ASG-BILDUNGSFORUM
SUMMARY:Deutsch als Fremdsprache Orientierungskurs (2601813847) 
LOCATION:ASG-W4;1.29, Werdener Straße 4, 40227 Düsseldorf
END:VEVENT
BEGIN:VEVENT
DTSTAMP:20260423T004541
DTSTART;TZID=Europe/Berlin:20260714T090000
DTEND;TZID=Europe/Berlin:20260714T130000
UID:2601813847-20260714T090000@DÜSSELDORF ASG-BILDUNGSFORUM
SUMMARY:Deutsch als Fremdsprache Orientierungskurs (2601813847) 
LOCATION:ASG-W4;1.29, Werdener Straße 4, 40227 Düsseldorf
END:VEVENT
BEGIN:VEVENT
DTSTAMP:20260423T004541
DTSTART;TZID=Europe/Berlin:20260715T090000
DTEND;TZID=Europe/Berlin:20260715T130000
UID:2601813847-20260715T090000@DÜSSELDORF ASG-BILDUNGSFORUM
SUMMARY:Deutsch als Fremdsprache Orientierungskurs (2601813847) 
LOCATION:ASG-W4;1.29, Werdener Straße 4, 40227 Düsseldorf
END:VEVENT
BEGIN:VEVENT
DTSTAMP:20260423T004541
DTSTART;TZID=Europe/Berlin:20260716T090000
DTEND;TZID=Europe/Berlin:20260716T130000
UID:2601813847-20260716T090000@DÜSSELDORF ASG-BILDUNGSFORUM
SUMMARY:Deutsch als Fremdsprache Orientierungskurs (2601813847) 
LOCATION:ASG-W4;1.29, Werdener Straße 4, 40227 Düsseldorf
END:VEVENT
BEGIN:VEVENT
DTSTAMP:20260423T004541
DTSTART;TZID=Europe/Berlin:20260720T090000
DTEND;TZID=Europe/Berlin:20260720T130000
UID:2601813847-20260720T090000@DÜSSELDORF ASG-BILDUNGSFORUM
SUMMARY:Deutsch als Fremdsprache Orientierungskurs (2601813847) 
LOCATION:ASG-W4;1.29, Werdener Straße 4, 40227 Düsseldorf
END:VEVENT
BEGIN:VEVENT
DTSTAMP:20260423T004541
DTSTART;TZID=Europe/Berlin:20260721T090000
DTEND;TZID=Europe/Berlin:20260721T130000
UID:2601813847-20260721T090000@DÜSSELDORF ASG-BILDUNGSFORUM
SUMMARY:Deutsch als Fremdsprache Orientierungskurs (2601813847) 
LOCATION:ASG-W4;1.29, Werdener Straße 4, 40227 Düsseldorf
END:VEVENT
BEGIN:VEVENT
DTSTAMP:20260423T004541
DTSTART;TZID=Europe/Berlin:20260722T090000
DTEND;TZID=Europe/Berlin:20260722T130000
UID:2601813847-20260722T090000@DÜSSELDORF ASG-BILDUNGSFORUM
SUMMARY:Deutsch als Fremdsprache Orientierungskurs (2601813847) 
LOCATION:ASG-W4;1.29, Werdener Straße 4, 40227 Düsseldorf
END:VEVENT
BEGIN:VEVENT
DTSTAMP:20260423T004541
DTSTART;TZID=Europe/Berlin:20260723T090000
DTEND;TZID=Europe/Berlin:20260723T130000
UID:2601813847-20260723T090000@DÜSSELDORF ASG-BILDUNGSFORUM
SUMMARY:Deutsch als Fremdsprache Orientierungskurs (2601813847) 
LOCATION:ASG-W4;1.29, Werdener Straße 4, 40227 Düsseldorf
END:VEVENT
END:VCALENDAR