BEGIN:VCALENDAR
VERSION:2.0
PRODID:https://www.kufer.de/kuferweb / DE
METHOD:PUBLISH
CALSCALE:GREGORIAN
X-WR-TIMEZONE:Europe/Berlin
BEGIN:VTIMEZONE
TZID:Europe/Berlin
X-LIC-LOCATION:Europe/Berlin
BEGIN:DAYLIGHT
TZOFFSETFROM:+0100
TZOFFSETTO:+0200
TZNAME:CEST
DTSTART:19700329T020000
RRULE:FREQ=YEARLY;INTERVAL=1;BYDAY=-1SU;BYMONTH=3
END:DAYLIGHT
BEGIN:STANDARD
TZOFFSETFROM:+0200
TZOFFSETTO:+0100
TZNAME:CET
DTSTART:19701025T030000
RRULE:FREQ=YEARLY;INTERVAL=1;BYDAY=-1SU;BYMONTH=10
END:STANDARD
END:VTIMEZONE
BEGIN:VEVENT
DTSTAMP:20260422T232732
DTSTART;TZID=Europe/Berlin:20260629T180000
DTEND;TZID=Europe/Berlin:20260629T211500
UID:2601813854-20260629T180000@DÜSSELDORF ASG-BILDUNGSFORUM
SUMMARY:Deutsch als Fremdsprache Aufbaukurs I  Abendkurs (2601813854) 
LOCATION:ASG-W4;1.06, Werdener Straße 4, 40227 Düsseldorf
END:VEVENT
BEGIN:VEVENT
DTSTAMP:20260422T232732
DTSTART;TZID=Europe/Berlin:20260630T180000
DTEND;TZID=Europe/Berlin:20260630T211500
UID:2601813854-20260630T180000@DÜSSELDORF ASG-BILDUNGSFORUM
SUMMARY:Deutsch als Fremdsprache Aufbaukurs I  Abendkurs (2601813854) 
LOCATION:ASG-W4;1.06, Werdener Straße 4, 40227 Düsseldorf
END:VEVENT
BEGIN:VEVENT
DTSTAMP:20260422T232732
DTSTART;TZID=Europe/Berlin:20260701T180000
DTEND;TZID=Europe/Berlin:20260701T211500
UID:2601813854-20260701T180000@DÜSSELDORF ASG-BILDUNGSFORUM
SUMMARY:Deutsch als Fremdsprache Aufbaukurs I  Abendkurs (2601813854) 
LOCATION:ASG-W4;1.06, Werdener Straße 4, 40227 Düsseldorf
END:VEVENT
BEGIN:VEVENT
DTSTAMP:20260422T232732
DTSTART;TZID=Europe/Berlin:20260706T180000
DTEND;TZID=Europe/Berlin:20260706T211500
UID:2601813854-20260706T180000@DÜSSELDORF ASG-BILDUNGSFORUM
SUMMARY:Deutsch als Fremdsprache Aufbaukurs I  Abendkurs (2601813854) 
LOCATION:ASG-W4;1.06, Werdener Straße 4, 40227 Düsseldorf
END:VEVENT
BEGIN:VEVENT
DTSTAMP:20260422T232732
DTSTART;TZID=Europe/Berlin:20260707T180000
DTEND;TZID=Europe/Berlin:20260707T211500
UID:2601813854-20260707T180000@DÜSSELDORF ASG-BILDUNGSFORUM
SUMMARY:Deutsch als Fremdsprache Aufbaukurs I  Abendkurs (2601813854) 
LOCATION:ASG-W4;1.06, Werdener Straße 4, 40227 Düsseldorf
END:VEVENT
BEGIN:VEVENT
DTSTAMP:20260422T232732
DTSTART;TZID=Europe/Berlin:20260708T180000
DTEND;TZID=Europe/Berlin:20260708T211500
UID:2601813854-20260708T180000@DÜSSELDORF ASG-BILDUNGSFORUM
SUMMARY:Deutsch als Fremdsprache Aufbaukurs I  Abendkurs (2601813854) 
LOCATION:ASG-W4;1.06, Werdener Straße 4, 40227 Düsseldorf
END:VEVENT
BEGIN:VEVENT
DTSTAMP:20260422T232732
DTSTART;TZID=Europe/Berlin:20260713T180000
DTEND;TZID=Europe/Berlin:20260713T211500
UID:2601813854-20260713T180000@DÜSSELDORF ASG-BILDUNGSFORUM
SUMMARY:Deutsch als Fremdsprache Aufbaukurs I  Abendkurs (2601813854) 
LOCATION:ASG-W4;1.06, Werdener Straße 4, 40227 Düsseldorf
END:VEVENT
BEGIN:VEVENT
DTSTAMP:20260422T232732
DTSTART;TZID=Europe/Berlin:20260714T180000
DTEND;TZID=Europe/Berlin:20260714T211500
UID:2601813854-20260714T180000@DÜSSELDORF ASG-BILDUNGSFORUM
SUMMARY:Deutsch als Fremdsprache Aufbaukurs I  Abendkurs (2601813854) 
LOCATION:ASG-W4;1.06, Werdener Straße 4, 40227 Düsseldorf
END:VEVENT
BEGIN:VEVENT
DTSTAMP:20260422T232732
DTSTART;TZID=Europe/Berlin:20260715T180000
DTEND;TZID=Europe/Berlin:20260715T211500
UID:2601813854-20260715T180000@DÜSSELDORF ASG-BILDUNGSFORUM
SUMMARY:Deutsch als Fremdsprache Aufbaukurs I  Abendkurs (2601813854) 
LOCATION:ASG-W4;1.06, Werdener Straße 4, 40227 Düsseldorf
END:VEVENT
BEGIN:VEVENT
DTSTAMP:20260422T232732
DTSTART;TZID=Europe/Berlin:20260720T180000
DTEND;TZID=Europe/Berlin:20260720T211500
UID:2601813854-20260720T180000@DÜSSELDORF ASG-BILDUNGSFORUM
SUMMARY:Deutsch als Fremdsprache Aufbaukurs I  Abendkurs (2601813854) 
LOCATION:ASG-W4;1.06, Werdener Straße 4, 40227 Düsseldorf
END:VEVENT
BEGIN:VEVENT
DTSTAMP:20260422T232732
DTSTART;TZID=Europe/Berlin:20260721T180000
DTEND;TZID=Europe/Berlin:20260721T211500
UID:2601813854-20260721T180000@DÜSSELDORF ASG-BILDUNGSFORUM
SUMMARY:Deutsch als Fremdsprache Aufbaukurs I  Abendkurs (2601813854) 
LOCATION:ASG-W4;1.06, Werdener Straße 4, 40227 Düsseldorf
END:VEVENT
BEGIN:VEVENT
DTSTAMP:20260422T232732
DTSTART;TZID=Europe/Berlin:20260722T180000
DTEND;TZID=Europe/Berlin:20260722T211500
UID:2601813854-20260722T180000@DÜSSELDORF ASG-BILDUNGSFORUM
SUMMARY:Deutsch als Fremdsprache Aufbaukurs I  Abendkurs (2601813854) 
LOCATION:ASG-W4;1.06, Werdener Straße 4, 40227 Düsseldorf
END:VEVENT
BEGIN:VEVENT
DTSTAMP:20260422T232732
DTSTART;TZID=Europe/Berlin:20260727T180000
DTEND;TZID=Europe/Berlin:20260727T211500
UID:2601813854-20260727T180000@DÜSSELDORF ASG-BILDUNGSFORUM
SUMMARY:Deutsch als Fremdsprache Aufbaukurs I  Abendkurs (2601813854) 
LOCATION:ASG-W4;1.06, Werdener Straße 4, 40227 Düsseldorf
END:VEVENT
BEGIN:VEVENT
DTSTAMP:20260422T232732
DTSTART;TZID=Europe/Berlin:20260728T180000
DTEND;TZID=Europe/Berlin:20260728T211500
UID:2601813854-20260728T180000@DÜSSELDORF ASG-BILDUNGSFORUM
SUMMARY:Deutsch als Fremdsprache Aufbaukurs I  Abendkurs (2601813854) 
LOCATION:ASG-W4;1.06, Werdener Straße 4, 40227 Düsseldorf
END:VEVENT
BEGIN:VEVENT
DTSTAMP:20260422T232732
DTSTART;TZID=Europe/Berlin:20260729T180000
DTEND;TZID=Europe/Berlin:20260729T211500
UID:2601813854-20260729T180000@DÜSSELDORF ASG-BILDUNGSFORUM
SUMMARY:Deutsch als Fremdsprache Aufbaukurs I  Abendkurs (2601813854) 
LOCATION:ASG-W4;1.06, Werdener Straße 4, 40227 Düsseldorf
END:VEVENT
BEGIN:VEVENT
DTSTAMP:20260422T232732
DTSTART;TZID=Europe/Berlin:20260831T180000
DTEND;TZID=Europe/Berlin:20260831T211500
UID:2601813854-20260831T180000@DÜSSELDORF ASG-BILDUNGSFORUM
SUMMARY:Deutsch als Fremdsprache Aufbaukurs I  Abendkurs (2601813854) 
LOCATION:ASG-W4;1.06, Werdener Straße 4, 40227 Düsseldorf
END:VEVENT
BEGIN:VEVENT
DTSTAMP:20260422T232732
DTSTART;TZID=Europe/Berlin:20260901T180000
DTEND;TZID=Europe/Berlin:20260901T211500
UID:2601813854-20260901T180000@DÜSSELDORF ASG-BILDUNGSFORUM
SUMMARY:Deutsch als Fremdsprache Aufbaukurs I  Abendkurs (2601813854) 
LOCATION:ASG-W4;1.06, Werdener Straße 4, 40227 Düsseldorf
END:VEVENT
BEGIN:VEVENT
DTSTAMP:20260422T232732
DTSTART;TZID=Europe/Berlin:20260902T180000
DTEND;TZID=Europe/Berlin:20260902T211500
UID:2601813854-20260902T180000@DÜSSELDORF ASG-BILDUNGSFORUM
SUMMARY:Deutsch als Fremdsprache Aufbaukurs I  Abendkurs (2601813854) 
LOCATION:ASG-W4;1.06, Werdener Straße 4, 40227 Düsseldorf
END:VEVENT
BEGIN:VEVENT
DTSTAMP:20260422T232732
DTSTART;TZID=Europe/Berlin:20260907T180000
DTEND;TZID=Europe/Berlin:20260907T211500
UID:2601813854-20260907T180000@DÜSSELDORF ASG-BILDUNGSFORUM
SUMMARY:Deutsch als Fremdsprache Aufbaukurs I  Abendkurs (2601813854) 
LOCATION:ASG-W4;1.06, Werdener Straße 4, 40227 Düsseldorf
END:VEVENT
BEGIN:VEVENT
DTSTAMP:20260422T232732
DTSTART;TZID=Europe/Berlin:20260908T180000
DTEND;TZID=Europe/Berlin:20260908T211500
UID:2601813854-20260908T180000@DÜSSELDORF ASG-BILDUNGSFORUM
SUMMARY:Deutsch als Fremdsprache Aufbaukurs I  Abendkurs (2601813854) 
LOCATION:ASG-W4;1.06, Werdener Straße 4, 40227 Düsseldorf
END:VEVENT
BEGIN:VEVENT
DTSTAMP:20260422T232732
DTSTART;TZID=Europe/Berlin:20260909T180000
DTEND;TZID=Europe/Berlin:20260909T211500
UID:2601813854-20260909T180000@DÜSSELDORF ASG-BILDUNGSFORUM
SUMMARY:Deutsch als Fremdsprache Aufbaukurs I  Abendkurs (2601813854) 
LOCATION:ASG-W4;1.06, Werdener Straße 4, 40227 Düsseldorf
END:VEVENT
BEGIN:VEVENT
DTSTAMP:20260422T232732
DTSTART;TZID=Europe/Berlin:20260914T180000
DTEND;TZID=Europe/Berlin:20260914T211500
UID:2601813854-20260914T180000@DÜSSELDORF ASG-BILDUNGSFORUM
SUMMARY:Deutsch als Fremdsprache Aufbaukurs I  Abendkurs (2601813854) 
LOCATION:ASG-W4;1.06, Werdener Straße 4, 40227 Düsseldorf
END:VEVENT
BEGIN:VEVENT
DTSTAMP:20260422T232732
DTSTART;TZID=Europe/Berlin:20260915T180000
DTEND;TZID=Europe/Berlin:20260915T211500
UID:2601813854-20260915T180000@DÜSSELDORF ASG-BILDUNGSFORUM
SUMMARY:Deutsch als Fremdsprache Aufbaukurs I  Abendkurs (2601813854) 
LOCATION:ASG-W4;1.06, Werdener Straße 4, 40227 Düsseldorf
END:VEVENT
BEGIN:VEVENT
DTSTAMP:20260422T232732
DTSTART;TZID=Europe/Berlin:20260916T180000
DTEND;TZID=Europe/Berlin:20260916T211500
UID:2601813854-20260916T180000@DÜSSELDORF ASG-BILDUNGSFORUM
SUMMARY:Deutsch als Fremdsprache Aufbaukurs I  Abendkurs (2601813854) 
LOCATION:ASG-W4;1.06, Werdener Straße 4, 40227 Düsseldorf
END:VEVENT
BEGIN:VEVENT
DTSTAMP:20260422T232732
DTSTART;TZID=Europe/Berlin:20260921T180000
DTEND;TZID=Europe/Berlin:20260921T211500
UID:2601813854-20260921T180000@DÜSSELDORF ASG-BILDUNGSFORUM
SUMMARY:Deutsch als Fremdsprache Aufbaukurs I  Abendkurs (2601813854) 
LOCATION:ASG-W4;1.06, Werdener Straße 4, 40227 Düsseldorf
END:VEVENT
END:VCALENDAR