BEGIN:VCALENDAR
VERSION:2.0
PRODID:https://www.kufer.de/kuferweb / DE
METHOD:PUBLISH
CALSCALE:GREGORIAN
X-WR-TIMEZONE:Europe/Berlin
BEGIN:VTIMEZONE
TZID:Europe/Berlin
X-LIC-LOCATION:Europe/Berlin
BEGIN:DAYLIGHT
TZOFFSETFROM:+0100
TZOFFSETTO:+0200
TZNAME:CEST
DTSTART:19700329T020000
RRULE:FREQ=YEARLY;INTERVAL=1;BYDAY=-1SU;BYMONTH=3
END:DAYLIGHT
BEGIN:STANDARD
TZOFFSETFROM:+0200
TZOFFSETTO:+0100
TZNAME:CET
DTSTART:19701025T030000
RRULE:FREQ=YEARLY;INTERVAL=1;BYDAY=-1SU;BYMONTH=10
END:STANDARD
END:VTIMEZONE
BEGIN:VEVENT
DTSTAMP:20260422T203748
DTSTART;TZID=Europe/Berlin:20261202T180000
DTEND;TZID=Europe/Berlin:20261202T211500
UID:2601813856-20261202T180000@DÜSSELDORF ASG-BILDUNGSFORUM
SUMMARY:Deutsch als Fremdsprache Aufbaukurs III  Abendkurs (2601813856) 
LOCATION:ASG-W4;1.06, Werdener Straße 4, 40227 Düsseldorf
END:VEVENT
BEGIN:VEVENT
DTSTAMP:20260422T203748
DTSTART;TZID=Europe/Berlin:20261207T180000
DTEND;TZID=Europe/Berlin:20261207T211500
UID:2601813856-20261207T180000@DÜSSELDORF ASG-BILDUNGSFORUM
SUMMARY:Deutsch als Fremdsprache Aufbaukurs III  Abendkurs (2601813856) 
LOCATION:ASG-W4;1.06, Werdener Straße 4, 40227 Düsseldorf
END:VEVENT
BEGIN:VEVENT
DTSTAMP:20260422T203748
DTSTART;TZID=Europe/Berlin:20261208T180000
DTEND;TZID=Europe/Berlin:20261208T211500
UID:2601813856-20261208T180000@DÜSSELDORF ASG-BILDUNGSFORUM
SUMMARY:Deutsch als Fremdsprache Aufbaukurs III  Abendkurs (2601813856) 
LOCATION:ASG-W4;1.06, Werdener Straße 4, 40227 Düsseldorf
END:VEVENT
BEGIN:VEVENT
DTSTAMP:20260422T203748
DTSTART;TZID=Europe/Berlin:20261209T180000
DTEND;TZID=Europe/Berlin:20261209T211500
UID:2601813856-20261209T180000@DÜSSELDORF ASG-BILDUNGSFORUM
SUMMARY:Deutsch als Fremdsprache Aufbaukurs III  Abendkurs (2601813856) 
LOCATION:ASG-W4;1.06, Werdener Straße 4, 40227 Düsseldorf
END:VEVENT
BEGIN:VEVENT
DTSTAMP:20260422T203748
DTSTART;TZID=Europe/Berlin:20261214T180000
DTEND;TZID=Europe/Berlin:20261214T211500
UID:2601813856-20261214T180000@DÜSSELDORF ASG-BILDUNGSFORUM
SUMMARY:Deutsch als Fremdsprache Aufbaukurs III  Abendkurs (2601813856) 
LOCATION:ASG-W4;1.06, Werdener Straße 4, 40227 Düsseldorf
END:VEVENT
BEGIN:VEVENT
DTSTAMP:20260422T203748
DTSTART;TZID=Europe/Berlin:20261215T180000
DTEND;TZID=Europe/Berlin:20261215T211500
UID:2601813856-20261215T180000@DÜSSELDORF ASG-BILDUNGSFORUM
SUMMARY:Deutsch als Fremdsprache Aufbaukurs III  Abendkurs (2601813856) 
LOCATION:ASG-W4;1.06, Werdener Straße 4, 40227 Düsseldorf
END:VEVENT
BEGIN:VEVENT
DTSTAMP:20260422T203748
DTSTART;TZID=Europe/Berlin:20261216T180000
DTEND;TZID=Europe/Berlin:20261216T211500
UID:2601813856-20261216T180000@DÜSSELDORF ASG-BILDUNGSFORUM
SUMMARY:Deutsch als Fremdsprache Aufbaukurs III  Abendkurs (2601813856) 
LOCATION:ASG-W4;1.06, Werdener Straße 4, 40227 Düsseldorf
END:VEVENT
BEGIN:VEVENT
DTSTAMP:20260422T203748
DTSTART;TZID=Europe/Berlin:20270111T180000
DTEND;TZID=Europe/Berlin:20270111T211500
UID:2601813856-20270111T180000@DÜSSELDORF ASG-BILDUNGSFORUM
SUMMARY:Deutsch als Fremdsprache Aufbaukurs III  Abendkurs (2601813856) 
LOCATION:ASG-W4;1.06, Werdener Straße 4, 40227 Düsseldorf
END:VEVENT
BEGIN:VEVENT
DTSTAMP:20260422T203748
DTSTART;TZID=Europe/Berlin:20270112T180000
DTEND;TZID=Europe/Berlin:20270112T211500
UID:2601813856-20270112T180000@DÜSSELDORF ASG-BILDUNGSFORUM
SUMMARY:Deutsch als Fremdsprache Aufbaukurs III  Abendkurs (2601813856) 
LOCATION:ASG-W4;1.06, Werdener Straße 4, 40227 Düsseldorf
END:VEVENT
BEGIN:VEVENT
DTSTAMP:20260422T203748
DTSTART;TZID=Europe/Berlin:20270113T180000
DTEND;TZID=Europe/Berlin:20270113T211500
UID:2601813856-20270113T180000@DÜSSELDORF ASG-BILDUNGSFORUM
SUMMARY:Deutsch als Fremdsprache Aufbaukurs III  Abendkurs (2601813856) 
LOCATION:ASG-W4;1.06, Werdener Straße 4, 40227 Düsseldorf
END:VEVENT
BEGIN:VEVENT
DTSTAMP:20260422T203748
DTSTART;TZID=Europe/Berlin:20270118T180000
DTEND;TZID=Europe/Berlin:20270118T211500
UID:2601813856-20270118T180000@DÜSSELDORF ASG-BILDUNGSFORUM
SUMMARY:Deutsch als Fremdsprache Aufbaukurs III  Abendkurs (2601813856) 
LOCATION:ASG-W4;1.06, Werdener Straße 4, 40227 Düsseldorf
END:VEVENT
BEGIN:VEVENT
DTSTAMP:20260422T203748
DTSTART;TZID=Europe/Berlin:20270119T180000
DTEND;TZID=Europe/Berlin:20270119T211500
UID:2601813856-20270119T180000@DÜSSELDORF ASG-BILDUNGSFORUM
SUMMARY:Deutsch als Fremdsprache Aufbaukurs III  Abendkurs (2601813856) 
LOCATION:ASG-W4;1.06, Werdener Straße 4, 40227 Düsseldorf
END:VEVENT
BEGIN:VEVENT
DTSTAMP:20260422T203748
DTSTART;TZID=Europe/Berlin:20270120T180000
DTEND;TZID=Europe/Berlin:20270120T211500
UID:2601813856-20270120T180000@DÜSSELDORF ASG-BILDUNGSFORUM
SUMMARY:Deutsch als Fremdsprache Aufbaukurs III  Abendkurs (2601813856) 
LOCATION:ASG-W4;1.06, Werdener Straße 4, 40227 Düsseldorf
END:VEVENT
BEGIN:VEVENT
DTSTAMP:20260422T203748
DTSTART;TZID=Europe/Berlin:20270125T180000
DTEND;TZID=Europe/Berlin:20270125T211500
UID:2601813856-20270125T180000@DÜSSELDORF ASG-BILDUNGSFORUM
SUMMARY:Deutsch als Fremdsprache Aufbaukurs III  Abendkurs (2601813856) 
LOCATION:ASG-W4;1.06, Werdener Straße 4, 40227 Düsseldorf
END:VEVENT
BEGIN:VEVENT
DTSTAMP:20260422T203748
DTSTART;TZID=Europe/Berlin:20270126T180000
DTEND;TZID=Europe/Berlin:20270126T211500
UID:2601813856-20270126T180000@DÜSSELDORF ASG-BILDUNGSFORUM
SUMMARY:Deutsch als Fremdsprache Aufbaukurs III  Abendkurs (2601813856) 
LOCATION:ASG-W4;1.06, Werdener Straße 4, 40227 Düsseldorf
END:VEVENT
BEGIN:VEVENT
DTSTAMP:20260422T203748
DTSTART;TZID=Europe/Berlin:20270127T180000
DTEND;TZID=Europe/Berlin:20270127T211500
UID:2601813856-20270127T180000@DÜSSELDORF ASG-BILDUNGSFORUM
SUMMARY:Deutsch als Fremdsprache Aufbaukurs III  Abendkurs (2601813856) 
LOCATION:ASG-W4;1.06, Werdener Straße 4, 40227 Düsseldorf
END:VEVENT
BEGIN:VEVENT
DTSTAMP:20260422T203748
DTSTART;TZID=Europe/Berlin:20270201T180000
DTEND;TZID=Europe/Berlin:20270201T211500
UID:2601813856-20270201T180000@DÜSSELDORF ASG-BILDUNGSFORUM
SUMMARY:Deutsch als Fremdsprache Aufbaukurs III  Abendkurs (2601813856) 
LOCATION:ASG-W4;1.06, Werdener Straße 4, 40227 Düsseldorf
END:VEVENT
BEGIN:VEVENT
DTSTAMP:20260422T203748
DTSTART;TZID=Europe/Berlin:20270202T180000
DTEND;TZID=Europe/Berlin:20270202T211500
UID:2601813856-20270202T180000@DÜSSELDORF ASG-BILDUNGSFORUM
SUMMARY:Deutsch als Fremdsprache Aufbaukurs III  Abendkurs (2601813856) 
LOCATION:ASG-W4;1.06, Werdener Straße 4, 40227 Düsseldorf
END:VEVENT
BEGIN:VEVENT
DTSTAMP:20260422T203748
DTSTART;TZID=Europe/Berlin:20270203T180000
DTEND;TZID=Europe/Berlin:20270203T211500
UID:2601813856-20270203T180000@DÜSSELDORF ASG-BILDUNGSFORUM
SUMMARY:Deutsch als Fremdsprache Aufbaukurs III  Abendkurs (2601813856) 
LOCATION:ASG-W4;1.06, Werdener Straße 4, 40227 Düsseldorf
END:VEVENT
BEGIN:VEVENT
DTSTAMP:20260422T203748
DTSTART;TZID=Europe/Berlin:20270209T180000
DTEND;TZID=Europe/Berlin:20270209T211500
UID:2601813856-20270209T180000@DÜSSELDORF ASG-BILDUNGSFORUM
SUMMARY:Deutsch als Fremdsprache Aufbaukurs III  Abendkurs (2601813856) 
LOCATION:ASG-W4;1.06, Werdener Straße 4, 40227 Düsseldorf
END:VEVENT
BEGIN:VEVENT
DTSTAMP:20260422T203748
DTSTART;TZID=Europe/Berlin:20270210T180000
DTEND;TZID=Europe/Berlin:20270210T211500
UID:2601813856-20270210T180000@DÜSSELDORF ASG-BILDUNGSFORUM
SUMMARY:Deutsch als Fremdsprache Aufbaukurs III  Abendkurs (2601813856) 
LOCATION:ASG-W4;1.06, Werdener Straße 4, 40227 Düsseldorf
END:VEVENT
BEGIN:VEVENT
DTSTAMP:20260422T203748
DTSTART;TZID=Europe/Berlin:20270211T180000
DTEND;TZID=Europe/Berlin:20270211T211500
UID:2601813856-20270211T180000@DÜSSELDORF ASG-BILDUNGSFORUM
DESCRIPTION:Zusatztag Rosenmontag
SUMMARY:Deutsch als Fremdsprache Aufbaukurs III  Abendkurs (2601813856) 
LOCATION:ASG-W4;1.06, Werdener Straße 4, 40227 Düsseldorf
END:VEVENT
BEGIN:VEVENT
DTSTAMP:20260422T203748
DTSTART;TZID=Europe/Berlin:20270215T180000
DTEND;TZID=Europe/Berlin:20270215T211500
UID:2601813856-20270215T180000@DÜSSELDORF ASG-BILDUNGSFORUM
SUMMARY:Deutsch als Fremdsprache Aufbaukurs III  Abendkurs (2601813856) 
LOCATION:ASG-W4;1.06, Werdener Straße 4, 40227 Düsseldorf
END:VEVENT
BEGIN:VEVENT
DTSTAMP:20260422T203748
DTSTART;TZID=Europe/Berlin:20270216T180000
DTEND;TZID=Europe/Berlin:20270216T211500
UID:2601813856-20270216T180000@DÜSSELDORF ASG-BILDUNGSFORUM
SUMMARY:Deutsch als Fremdsprache Aufbaukurs III  Abendkurs (2601813856) 
LOCATION:ASG-W4;1.06, Werdener Straße 4, 40227 Düsseldorf
END:VEVENT
BEGIN:VEVENT
DTSTAMP:20260422T203748
DTSTART;TZID=Europe/Berlin:20270217T180000
DTEND;TZID=Europe/Berlin:20270217T211500
UID:2601813856-20270217T180000@DÜSSELDORF ASG-BILDUNGSFORUM
SUMMARY:Deutsch als Fremdsprache Aufbaukurs III  Abendkurs (2601813856) 
LOCATION:ASG-W4;1.06, Werdener Straße 4, 40227 Düsseldorf
END:VEVENT
END:VCALENDAR