BEGIN:VCALENDAR
VERSION:2.0
PRODID:https://www.kufer.de/kuferweb / DE
METHOD:PUBLISH
CALSCALE:GREGORIAN
X-WR-TIMEZONE:Europe/Berlin
BEGIN:VTIMEZONE
TZID:Europe/Berlin
X-LIC-LOCATION:Europe/Berlin
BEGIN:DAYLIGHT
TZOFFSETFROM:+0100
TZOFFSETTO:+0200
TZNAME:CEST
DTSTART:19700329T020000
RRULE:FREQ=YEARLY;INTERVAL=1;BYDAY=-1SU;BYMONTH=3
END:DAYLIGHT
BEGIN:STANDARD
TZOFFSETFROM:+0200
TZOFFSETTO:+0100
TZNAME:CET
DTSTART:19701025T030000
RRULE:FREQ=YEARLY;INTERVAL=1;BYDAY=-1SU;BYMONTH=10
END:STANDARD
END:VTIMEZONE
BEGIN:VEVENT
DTSTAMP:20260421T213035
DTSTART;TZID=Europe/Berlin:20260219T160000
DTEND;TZID=Europe/Berlin:20260219T191500
UID:2601814100-20260219T160000@DÜSSELDORF ASG-BILDUNGSFORUM
DESCRIPTION:Sprachstand 4UE
SUMMARY:(01062) Azubi-BSK Fleischer 1. Lehrjahr vk, Rheine (2601814100) 
LOCATION:ASG-Online;DeuFöV2
END:VEVENT
BEGIN:VEVENT
DTSTAMP:20260421T213035
DTSTART;TZID=Europe/Berlin:20260226T160000
DTEND;TZID=Europe/Berlin:20260226T191500
UID:2601814100-20260226T160000@DÜSSELDORF ASG-BILDUNGSFORUM
SUMMARY:(01062) Azubi-BSK Fleischer 1. Lehrjahr vk, Rheine (2601814100) 
LOCATION:ASG-Online;DeuFöV2
END:VEVENT
BEGIN:VEVENT
DTSTAMP:20260421T213035
DTSTART;TZID=Europe/Berlin:20260303T160000
DTEND;TZID=Europe/Berlin:20260303T191500
UID:2601814100-20260303T160000@DÜSSELDORF ASG-BILDUNGSFORUM
SUMMARY:(01062) Azubi-BSK Fleischer 1. Lehrjahr vk, Rheine (2601814100) 
LOCATION:ASG-Online;DeuFöV2
END:VEVENT
BEGIN:VEVENT
DTSTAMP:20260421T213035
DTSTART;TZID=Europe/Berlin:20260305T160000
DTEND;TZID=Europe/Berlin:20260305T191500
UID:2601814100-20260305T160000@DÜSSELDORF ASG-BILDUNGSFORUM
SUMMARY:(01062) Azubi-BSK Fleischer 1. Lehrjahr vk, Rheine (2601814100) 
LOCATION:ASG-Online;DeuFöV2
END:VEVENT
BEGIN:VEVENT
DTSTAMP:20260421T213035
DTSTART;TZID=Europe/Berlin:20260312T160000
DTEND;TZID=Europe/Berlin:20260312T191500
UID:2601814100-20260312T160000@DÜSSELDORF ASG-BILDUNGSFORUM
SUMMARY:(01062) Azubi-BSK Fleischer 1. Lehrjahr vk, Rheine (2601814100) 
LOCATION:ASG-Online;DeuFöV2
END:VEVENT
BEGIN:VEVENT
DTSTAMP:20260421T213035
DTSTART;TZID=Europe/Berlin:20260317T160000
DTEND;TZID=Europe/Berlin:20260317T191500
UID:2601814100-20260317T160000@DÜSSELDORF ASG-BILDUNGSFORUM
SUMMARY:(01062) Azubi-BSK Fleischer 1. Lehrjahr vk, Rheine (2601814100) 
LOCATION:ASG-Online;DeuFöV2
END:VEVENT
BEGIN:VEVENT
DTSTAMP:20260421T213035
DTSTART;TZID=Europe/Berlin:20260319T160000
DTEND;TZID=Europe/Berlin:20260319T191500
UID:2601814100-20260319T160000@DÜSSELDORF ASG-BILDUNGSFORUM
SUMMARY:(01062) Azubi-BSK Fleischer 1. Lehrjahr vk, Rheine (2601814100) 
LOCATION:ASG-Online;DeuFöV2
END:VEVENT
BEGIN:VEVENT
DTSTAMP:20260421T213035
DTSTART;TZID=Europe/Berlin:20260414T160000
DTEND;TZID=Europe/Berlin:20260414T191500
UID:2601814100-20260414T160000@DÜSSELDORF ASG-BILDUNGSFORUM
SUMMARY:(01062) Azubi-BSK Fleischer 1. Lehrjahr vk, Rheine (2601814100) 
LOCATION:ASG-Online;DeuFöV2
END:VEVENT
BEGIN:VEVENT
DTSTAMP:20260421T213035
DTSTART;TZID=Europe/Berlin:20260416T160000
DTEND;TZID=Europe/Berlin:20260416T191500
UID:2601814100-20260416T160000@DÜSSELDORF ASG-BILDUNGSFORUM
SUMMARY:(01062) Azubi-BSK Fleischer 1. Lehrjahr vk, Rheine (2601814100) 
LOCATION:ASG-Online;DeuFöV2
END:VEVENT
BEGIN:VEVENT
DTSTAMP:20260421T213035
DTSTART;TZID=Europe/Berlin:20260423T160000
DTEND;TZID=Europe/Berlin:20260423T191500
UID:2601814100-20260423T160000@DÜSSELDORF ASG-BILDUNGSFORUM
SUMMARY:(01062) Azubi-BSK Fleischer 1. Lehrjahr vk, Rheine (2601814100) 
LOCATION:ASG-Online;DeuFöV2
END:VEVENT
BEGIN:VEVENT
DTSTAMP:20260421T213035
DTSTART;TZID=Europe/Berlin:20260428T160000
DTEND;TZID=Europe/Berlin:20260428T191500
UID:2601814100-20260428T160000@DÜSSELDORF ASG-BILDUNGSFORUM
SUMMARY:(01062) Azubi-BSK Fleischer 1. Lehrjahr vk, Rheine (2601814100) 
LOCATION:ASG-Online;DeuFöV2
END:VEVENT
BEGIN:VEVENT
DTSTAMP:20260421T213035
DTSTART;TZID=Europe/Berlin:20260430T160000
DTEND;TZID=Europe/Berlin:20260430T191500
UID:2601814100-20260430T160000@DÜSSELDORF ASG-BILDUNGSFORUM
SUMMARY:(01062) Azubi-BSK Fleischer 1. Lehrjahr vk, Rheine (2601814100) 
LOCATION:ASG-Online;DeuFöV2
END:VEVENT
BEGIN:VEVENT
DTSTAMP:20260421T213035
DTSTART;TZID=Europe/Berlin:20260507T160000
DTEND;TZID=Europe/Berlin:20260507T191500
UID:2601814100-20260507T160000@DÜSSELDORF ASG-BILDUNGSFORUM
SUMMARY:(01062) Azubi-BSK Fleischer 1. Lehrjahr vk, Rheine (2601814100) 
LOCATION:ASG-Online;DeuFöV2
END:VEVENT
BEGIN:VEVENT
DTSTAMP:20260421T213035
DTSTART;TZID=Europe/Berlin:20260521T160000
DTEND;TZID=Europe/Berlin:20260521T191500
UID:2601814100-20260521T160000@DÜSSELDORF ASG-BILDUNGSFORUM
SUMMARY:(01062) Azubi-BSK Fleischer 1. Lehrjahr vk, Rheine (2601814100) 
LOCATION:ASG-Online;DeuFöV2
END:VEVENT
BEGIN:VEVENT
DTSTAMP:20260421T213035
DTSTART;TZID=Europe/Berlin:20260528T160000
DTEND;TZID=Europe/Berlin:20260528T191500
UID:2601814100-20260528T160000@DÜSSELDORF ASG-BILDUNGSFORUM
SUMMARY:(01062) Azubi-BSK Fleischer 1. Lehrjahr vk, Rheine (2601814100) 
LOCATION:ASG-Online;DeuFöV2
END:VEVENT
BEGIN:VEVENT
DTSTAMP:20260421T213035
DTSTART;TZID=Europe/Berlin:20260611T160000
DTEND;TZID=Europe/Berlin:20260611T191500
UID:2601814100-20260611T160000@DÜSSELDORF ASG-BILDUNGSFORUM
SUMMARY:(01062) Azubi-BSK Fleischer 1. Lehrjahr vk, Rheine (2601814100) 
LOCATION:ASG-Online;DeuFöV2
END:VEVENT
BEGIN:VEVENT
DTSTAMP:20260421T213035
DTSTART;TZID=Europe/Berlin:20260618T160000
DTEND;TZID=Europe/Berlin:20260618T191500
UID:2601814100-20260618T160000@DÜSSELDORF ASG-BILDUNGSFORUM
SUMMARY:(01062) Azubi-BSK Fleischer 1. Lehrjahr vk, Rheine (2601814100) 
LOCATION:ASG-Online;DeuFöV2
END:VEVENT
BEGIN:VEVENT
DTSTAMP:20260421T213035
DTSTART;TZID=Europe/Berlin:20260623T160000
DTEND;TZID=Europe/Berlin:20260623T191500
UID:2601814100-20260623T160000@DÜSSELDORF ASG-BILDUNGSFORUM
SUMMARY:(01062) Azubi-BSK Fleischer 1. Lehrjahr vk, Rheine (2601814100) 
LOCATION:ASG-Online;DeuFöV2
END:VEVENT
BEGIN:VEVENT
DTSTAMP:20260421T213035
DTSTART;TZID=Europe/Berlin:20260625T160000
DTEND;TZID=Europe/Berlin:20260625T191500
UID:2601814100-20260625T160000@DÜSSELDORF ASG-BILDUNGSFORUM
SUMMARY:(01062) Azubi-BSK Fleischer 1. Lehrjahr vk, Rheine (2601814100) 
LOCATION:ASG-Online;DeuFöV2
END:VEVENT
BEGIN:VEVENT
DTSTAMP:20260421T213035
DTSTART;TZID=Europe/Berlin:20260702T160000
DTEND;TZID=Europe/Berlin:20260702T191500
UID:2601814100-20260702T160000@DÜSSELDORF ASG-BILDUNGSFORUM
SUMMARY:(01062) Azubi-BSK Fleischer 1. Lehrjahr vk, Rheine (2601814100) 
LOCATION:ASG-Online;DeuFöV2
END:VEVENT
BEGIN:VEVENT
DTSTAMP:20260421T213035
DTSTART;TZID=Europe/Berlin:20260707T160000
DTEND;TZID=Europe/Berlin:20260707T191500
UID:2601814100-20260707T160000@DÜSSELDORF ASG-BILDUNGSFORUM
SUMMARY:(01062) Azubi-BSK Fleischer 1. Lehrjahr vk, Rheine (2601814100) 
LOCATION:ASG-Online;DeuFöV2
END:VEVENT
BEGIN:VEVENT
DTSTAMP:20260421T213035
DTSTART;TZID=Europe/Berlin:20260709T160000
DTEND;TZID=Europe/Berlin:20260709T191500
UID:2601814100-20260709T160000@DÜSSELDORF ASG-BILDUNGSFORUM
SUMMARY:(01062) Azubi-BSK Fleischer 1. Lehrjahr vk, Rheine (2601814100) 
LOCATION:ASG-Online;DeuFöV2
END:VEVENT
BEGIN:VEVENT
DTSTAMP:20260421T213035
DTSTART;TZID=Europe/Berlin:20260716T160000
DTEND;TZID=Europe/Berlin:20260716T191500
UID:2601814100-20260716T160000@DÜSSELDORF ASG-BILDUNGSFORUM
SUMMARY:(01062) Azubi-BSK Fleischer 1. Lehrjahr vk, Rheine (2601814100) 
LOCATION:ASG-Online;DeuFöV2
END:VEVENT
BEGIN:VEVENT
DTSTAMP:20260421T213035
DTSTART;TZID=Europe/Berlin:20260721T160000
DTEND;TZID=Europe/Berlin:20260721T191500
UID:2601814100-20260721T160000@DÜSSELDORF ASG-BILDUNGSFORUM
SUMMARY:(01062) Azubi-BSK Fleischer 1. Lehrjahr vk, Rheine (2601814100) 
LOCATION:ASG-Online;DeuFöV2
END:VEVENT
BEGIN:VEVENT
DTSTAMP:20260421T213035
DTSTART;TZID=Europe/Berlin:20260723T160000
DTEND;TZID=Europe/Berlin:20260723T191500
UID:2601814100-20260723T160000@DÜSSELDORF ASG-BILDUNGSFORUM
SUMMARY:(01062) Azubi-BSK Fleischer 1. Lehrjahr vk, Rheine (2601814100) 
LOCATION:ASG-Online;DeuFöV2
END:VEVENT
BEGIN:VEVENT
DTSTAMP:20260421T213035
DTSTART;TZID=Europe/Berlin:20260730T160000
DTEND;TZID=Europe/Berlin:20260730T191500
UID:2601814100-20260730T160000@DÜSSELDORF ASG-BILDUNGSFORUM
SUMMARY:(01062) Azubi-BSK Fleischer 1. Lehrjahr vk, Rheine (2601814100) 
LOCATION:ASG-Online;DeuFöV2
END:VEVENT
END:VCALENDAR