BEGIN:VCALENDAR
VERSION:2.0
PRODID:https://www.kufer.de/kuferweb / DE
METHOD:PUBLISH
CALSCALE:GREGORIAN
X-WR-TIMEZONE:Europe/Berlin
BEGIN:VTIMEZONE
TZID:Europe/Berlin
X-LIC-LOCATION:Europe/Berlin
BEGIN:DAYLIGHT
TZOFFSETFROM:+0100
TZOFFSETTO:+0200
TZNAME:CEST
DTSTART:19700329T020000
RRULE:FREQ=YEARLY;INTERVAL=1;BYDAY=-1SU;BYMONTH=3
END:DAYLIGHT
BEGIN:STANDARD
TZOFFSETFROM:+0200
TZOFFSETTO:+0100
TZNAME:CET
DTSTART:19701025T030000
RRULE:FREQ=YEARLY;INTERVAL=1;BYDAY=-1SU;BYMONTH=10
END:STANDARD
END:VTIMEZONE
BEGIN:VEVENT
DTSTAMP:20260420T001424
DTSTART;TZID=Europe/Berlin:20260807T090000
DTEND;TZID=Europe/Berlin:20260807T120000
UID:2601814997-20260807T090000@DÜSSELDORF ASG-BILDUNGSFORUM
SUMMARY:Diese Maßnahme wird durch das Bundesamt für Migration und Flüchtlinge gefördert. (2601814997) 
LOCATION:ASG-G90;U1.01, Gerresheimer Straße 90, 40233 Düsseldorf
END:VEVENT
BEGIN:VEVENT
DTSTAMP:20260420T001424
DTSTART;TZID=Europe/Berlin:20260807T120000
DTEND;TZID=Europe/Berlin:20260807T170000
UID:2601814997-20260807T120000@DÜSSELDORF ASG-BILDUNGSFORUM
SUMMARY:Diese Maßnahme wird durch das Bundesamt für Migration und Flüchtlinge gefördert. (2601814997) 
LOCATION:ASG-G90;3.01, Gerresheimer Straße 90, 40233 Düsseldorf
END:VEVENT
END:VCALENDAR