BEGIN:VCALENDAR
VERSION:2.0
PRODID:https://www.kufer.de/kuferweb / DE
METHOD:PUBLISH
CALSCALE:GREGORIAN
X-WR-TIMEZONE:Europe/Berlin
BEGIN:VTIMEZONE
TZID:Europe/Berlin
X-LIC-LOCATION:Europe/Berlin
BEGIN:DAYLIGHT
TZOFFSETFROM:+0100
TZOFFSETTO:+0200
TZNAME:CEST
DTSTART:19700329T020000
RRULE:FREQ=YEARLY;INTERVAL=1;BYDAY=-1SU;BYMONTH=3
END:DAYLIGHT
BEGIN:STANDARD
TZOFFSETFROM:+0200
TZOFFSETTO:+0100
TZNAME:CET
DTSTART:19701025T030000
RRULE:FREQ=YEARLY;INTERVAL=1;BYDAY=-1SU;BYMONTH=10
END:STANDARD
END:VTIMEZONE
BEGIN:VEVENT
DTSTAMP:20260419T232237
DTSTART;TZID=Europe/Berlin:20260418T113500
DTEND;TZID=Europe/Berlin:20260418T123500
UID:2601920021-20260418T113500@DÜSSELDORF ASG-BILDUNGSFORUM
SUMMARY:Englisch für Schülerinnen und Schüler der 6. / 7. Klasse (2601920021) 
LOCATION:ASG-G90;4.02, Gerresheimer Straße 90, 40233 Düsseldorf
END:VEVENT
BEGIN:VEVENT
DTSTAMP:20260419T232237
DTSTART;TZID=Europe/Berlin:20260425T113500
DTEND;TZID=Europe/Berlin:20260425T123500
UID:2601920021-20260425T113500@DÜSSELDORF ASG-BILDUNGSFORUM
SUMMARY:Englisch für Schülerinnen und Schüler der 6. / 7. Klasse (2601920021) 
LOCATION:ASG-G90;4.02, Gerresheimer Straße 90, 40233 Düsseldorf
END:VEVENT
BEGIN:VEVENT
DTSTAMP:20260419T232237
DTSTART;TZID=Europe/Berlin:20260502T113500
DTEND;TZID=Europe/Berlin:20260502T123500
UID:2601920021-20260502T113500@DÜSSELDORF ASG-BILDUNGSFORUM
SUMMARY:Englisch für Schülerinnen und Schüler der 6. / 7. Klasse (2601920021) 
LOCATION:ASG-G90;4.02, Gerresheimer Straße 90, 40233 Düsseldorf
END:VEVENT
BEGIN:VEVENT
DTSTAMP:20260419T232237
DTSTART;TZID=Europe/Berlin:20260509T113500
DTEND;TZID=Europe/Berlin:20260509T123500
UID:2601920021-20260509T113500@DÜSSELDORF ASG-BILDUNGSFORUM
SUMMARY:Englisch für Schülerinnen und Schüler der 6. / 7. Klasse (2601920021) 
LOCATION:ASG-G90;4.02, Gerresheimer Straße 90, 40233 Düsseldorf
END:VEVENT
BEGIN:VEVENT
DTSTAMP:20260419T232237
DTSTART;TZID=Europe/Berlin:20260516T113500
DTEND;TZID=Europe/Berlin:20260516T123500
UID:2601920021-20260516T113500@DÜSSELDORF ASG-BILDUNGSFORUM
SUMMARY:Englisch für Schülerinnen und Schüler der 6. / 7. Klasse (2601920021) 
LOCATION:ASG-G90;4.02, Gerresheimer Straße 90, 40233 Düsseldorf
END:VEVENT
BEGIN:VEVENT
DTSTAMP:20260419T232237
DTSTART;TZID=Europe/Berlin:20260523T113500
DTEND;TZID=Europe/Berlin:20260523T123500
UID:2601920021-20260523T113500@DÜSSELDORF ASG-BILDUNGSFORUM
SUMMARY:Englisch für Schülerinnen und Schüler der 6. / 7. Klasse (2601920021) 
LOCATION:ASG-G90;4.02, Gerresheimer Straße 90, 40233 Düsseldorf
END:VEVENT
BEGIN:VEVENT
DTSTAMP:20260419T232237
DTSTART;TZID=Europe/Berlin:20260530T113500
DTEND;TZID=Europe/Berlin:20260530T123500
UID:2601920021-20260530T113500@DÜSSELDORF ASG-BILDUNGSFORUM
SUMMARY:Englisch für Schülerinnen und Schüler der 6. / 7. Klasse (2601920021) 
LOCATION:ASG-G90;4.02, Gerresheimer Straße 90, 40233 Düsseldorf
END:VEVENT
BEGIN:VEVENT
DTSTAMP:20260419T232237
DTSTART;TZID=Europe/Berlin:20260606T113500
DTEND;TZID=Europe/Berlin:20260606T123500
UID:2601920021-20260606T113500@DÜSSELDORF ASG-BILDUNGSFORUM
SUMMARY:Englisch für Schülerinnen und Schüler der 6. / 7. Klasse (2601920021) 
LOCATION:ASG-G90;4.02, Gerresheimer Straße 90, 40233 Düsseldorf
END:VEVENT
BEGIN:VEVENT
DTSTAMP:20260419T232237
DTSTART;TZID=Europe/Berlin:20260613T113500
DTEND;TZID=Europe/Berlin:20260613T123500
UID:2601920021-20260613T113500@DÜSSELDORF ASG-BILDUNGSFORUM
SUMMARY:Englisch für Schülerinnen und Schüler der 6. / 7. Klasse (2601920021) 
LOCATION:ASG-G90;4.02, Gerresheimer Straße 90, 40233 Düsseldorf
END:VEVENT
BEGIN:VEVENT
DTSTAMP:20260419T232237
DTSTART;TZID=Europe/Berlin:20260620T113500
DTEND;TZID=Europe/Berlin:20260620T123500
UID:2601920021-20260620T113500@DÜSSELDORF ASG-BILDUNGSFORUM
SUMMARY:Englisch für Schülerinnen und Schüler der 6. / 7. Klasse (2601920021) 
LOCATION:ASG-G90;4.02, Gerresheimer Straße 90, 40233 Düsseldorf
END:VEVENT
END:VCALENDAR