BEGIN:VCALENDAR
VERSION:2.0
PRODID:https://www.kufer.de/kuferweb / DE
METHOD:PUBLISH
CALSCALE:GREGORIAN
X-WR-TIMEZONE:Europe/Berlin
BEGIN:VTIMEZONE
TZID:Europe/Berlin
X-LIC-LOCATION:Europe/Berlin
BEGIN:DAYLIGHT
TZOFFSETFROM:+0100
TZOFFSETTO:+0200
TZNAME:CEST
DTSTART:19700329T020000
RRULE:FREQ=YEARLY;INTERVAL=1;BYDAY=-1SU;BYMONTH=3
END:DAYLIGHT
BEGIN:STANDARD
TZOFFSETFROM:+0200
TZOFFSETTO:+0100
TZNAME:CET
DTSTART:19701025T030000
RRULE:FREQ=YEARLY;INTERVAL=1;BYDAY=-1SU;BYMONTH=10
END:STANDARD
END:VTIMEZONE
BEGIN:VEVENT
DTSTAMP:20260419T185314
DTSTART;TZID=Europe/Berlin:20260727T090000
DTEND;TZID=Europe/Berlin:20260727T130000
UID:2601921004-20260727T090000@DÜSSELDORF ASG-BILDUNGSFORUM
SUMMARY:10-Finger-Tastschreiben (Schülerkurs in den Ferien) (2601921004) 
LOCATION:ASG-G90;3.04, Gerresheimer Straße 90, 40233 Düsseldorf
END:VEVENT
BEGIN:VEVENT
DTSTAMP:20260419T185314
DTSTART;TZID=Europe/Berlin:20260728T090000
DTEND;TZID=Europe/Berlin:20260728T130000
UID:2601921004-20260728T090000@DÜSSELDORF ASG-BILDUNGSFORUM
SUMMARY:10-Finger-Tastschreiben (Schülerkurs in den Ferien) (2601921004) 
LOCATION:ASG-G90;3.04, Gerresheimer Straße 90, 40233 Düsseldorf
END:VEVENT
BEGIN:VEVENT
DTSTAMP:20260419T185314
DTSTART;TZID=Europe/Berlin:20260729T090000
DTEND;TZID=Europe/Berlin:20260729T130000
UID:2601921004-20260729T090000@DÜSSELDORF ASG-BILDUNGSFORUM
SUMMARY:10-Finger-Tastschreiben (Schülerkurs in den Ferien) (2601921004) 
LOCATION:ASG-G90;3.04, Gerresheimer Straße 90, 40233 Düsseldorf
END:VEVENT
BEGIN:VEVENT
DTSTAMP:20260419T185314
DTSTART;TZID=Europe/Berlin:20260730T090000
DTEND;TZID=Europe/Berlin:20260730T130000
UID:2601921004-20260730T090000@DÜSSELDORF ASG-BILDUNGSFORUM
SUMMARY:10-Finger-Tastschreiben (Schülerkurs in den Ferien) (2601921004) 
LOCATION:ASG-G90;3.04, Gerresheimer Straße 90, 40233 Düsseldorf
END:VEVENT
END:VCALENDAR