BEGIN:VCALENDAR
VERSION:2.0
PRODID:https://www.kufer.de/kuferweb / DE
METHOD:PUBLISH
CALSCALE:GREGORIAN
X-WR-TIMEZONE:Europe/Berlin
BEGIN:VTIMEZONE
TZID:Europe/Berlin
X-LIC-LOCATION:Europe/Berlin
BEGIN:DAYLIGHT
TZOFFSETFROM:+0100
TZOFFSETTO:+0200
TZNAME:CEST
DTSTART:19700329T020000
RRULE:FREQ=YEARLY;INTERVAL=1;BYDAY=-1SU;BYMONTH=3
END:DAYLIGHT
BEGIN:STANDARD
TZOFFSETFROM:+0200
TZOFFSETTO:+0100
TZNAME:CET
DTSTART:19701025T030000
RRULE:FREQ=YEARLY;INTERVAL=1;BYDAY=-1SU;BYMONTH=10
END:STANDARD
END:VTIMEZONE
BEGIN:VEVENT
DTSTAMP:20260420T002934
DTSTART;TZID=Europe/Berlin:20261003T090000
DTEND;TZID=Europe/Berlin:20261003T160000
UID:2602250300-20261003T090000@DÜSSELDORF ASG-BILDUNGSFORUM
SUMMARY:Zertifikatskurs: Bewegungsförderung in der Kindertagespflege Bewegung und Spiel für die Kleinsten (U3) (2602250300) 
LOCATION:ASG-G90;E0.02, Gerresheimer Straße 90, 40233 Düsseldorf
END:VEVENT
BEGIN:VEVENT
DTSTAMP:20260420T002934
DTSTART;TZID=Europe/Berlin:20261004T090000
DTEND;TZID=Europe/Berlin:20261004T160000
UID:2602250300-20261004T090000@DÜSSELDORF ASG-BILDUNGSFORUM
SUMMARY:Zertifikatskurs: Bewegungsförderung in der Kindertagespflege Bewegung und Spiel für die Kleinsten (U3) (2602250300) 
LOCATION:ASG-G90;E0.02, Gerresheimer Straße 90, 40233 Düsseldorf
END:VEVENT
BEGIN:VEVENT
DTSTAMP:20260420T002934
DTSTART;TZID=Europe/Berlin:20261031T090000
DTEND;TZID=Europe/Berlin:20261031T160000
UID:2602250300-20261031T090000@DÜSSELDORF ASG-BILDUNGSFORUM
SUMMARY:Zertifikatskurs: Bewegungsförderung in der Kindertagespflege Bewegung und Spiel für die Kleinsten (U3) (2602250300) 
LOCATION:ASG-G90;E0.02, Gerresheimer Straße 90, 40233 Düsseldorf
END:VEVENT
BEGIN:VEVENT
DTSTAMP:20260420T002934
DTSTART;TZID=Europe/Berlin:20261114T090000
DTEND;TZID=Europe/Berlin:20261114T160000
UID:2602250300-20261114T090000@DÜSSELDORF ASG-BILDUNGSFORUM
SUMMARY:Zertifikatskurs: Bewegungsförderung in der Kindertagespflege Bewegung und Spiel für die Kleinsten (U3) (2602250300) 
LOCATION:ASG-G90;E0.02, Gerresheimer Straße 90, 40233 Düsseldorf
END:VEVENT
END:VCALENDAR