BEGIN:VCALENDAR
VERSION:2.0
PRODID:https://www.kufer.de/kuferweb / DE
METHOD:PUBLISH
CALSCALE:GREGORIAN
X-WR-TIMEZONE:Europe/Berlin
BEGIN:VTIMEZONE
TZID:Europe/Berlin
X-LIC-LOCATION:Europe/Berlin
BEGIN:DAYLIGHT
TZOFFSETFROM:+0100
TZOFFSETTO:+0200
TZNAME:CEST
DTSTART:19700329T020000
RRULE:FREQ=YEARLY;INTERVAL=1;BYDAY=-1SU;BYMONTH=3
END:DAYLIGHT
BEGIN:STANDARD
TZOFFSETFROM:+0200
TZOFFSETTO:+0100
TZNAME:CET
DTSTART:19701025T030000
RRULE:FREQ=YEARLY;INTERVAL=1;BYDAY=-1SU;BYMONTH=10
END:STANDARD
END:VTIMEZONE
BEGIN:VEVENT
DTSTAMP:20260423T020631
DTSTART;TZID=Europe/Berlin:20260928T083000
DTEND;TZID=Europe/Berlin:20260928T170000
UID:2602251700-20260928T083000@DÜSSELDORF ASG-BILDUNGSFORUM
DESCRIPTION:späteste Anmeldung 14.8.
SUMMARY:Systemisches Coaching - Qualifizierung zum Coach nach den Standards der Deutschen Gesellschaft für Coaching (DGfC) als Bildungsurlaub nach AWbG anerkannt (2602251700) 
LOCATION:ASG-G90;4.01, Gerresheimer Straße 90, 40233 Düsseldorf
END:VEVENT
BEGIN:VEVENT
DTSTAMP:20260423T020631
DTSTART;TZID=Europe/Berlin:20260929T083000
DTEND;TZID=Europe/Berlin:20260929T170000
UID:2602251700-20260929T083000@DÜSSELDORF ASG-BILDUNGSFORUM
SUMMARY:Systemisches Coaching - Qualifizierung zum Coach nach den Standards der Deutschen Gesellschaft für Coaching (DGfC) als Bildungsurlaub nach AWbG anerkannt (2602251700) 
LOCATION:ASG-G90;4.01, Gerresheimer Straße 90, 40233 Düsseldorf
END:VEVENT
BEGIN:VEVENT
DTSTAMP:20260423T020631
DTSTART;TZID=Europe/Berlin:20260930T083000
DTEND;TZID=Europe/Berlin:20260930T170000
UID:2602251700-20260930T083000@DÜSSELDORF ASG-BILDUNGSFORUM
SUMMARY:Systemisches Coaching - Qualifizierung zum Coach nach den Standards der Deutschen Gesellschaft für Coaching (DGfC) als Bildungsurlaub nach AWbG anerkannt (2602251700) 
LOCATION:ASG-G90;4.01, Gerresheimer Straße 90, 40233 Düsseldorf
END:VEVENT
BEGIN:VEVENT
DTSTAMP:20260423T020631
DTSTART;TZID=Europe/Berlin:20261001T083000
DTEND;TZID=Europe/Berlin:20261001T170000
UID:2602251700-20261001T083000@DÜSSELDORF ASG-BILDUNGSFORUM
SUMMARY:Systemisches Coaching - Qualifizierung zum Coach nach den Standards der Deutschen Gesellschaft für Coaching (DGfC) als Bildungsurlaub nach AWbG anerkannt (2602251700) 
LOCATION:ASG-G90;4.01, Gerresheimer Straße 90, 40233 Düsseldorf
END:VEVENT
BEGIN:VEVENT
DTSTAMP:20260423T020631
DTSTART;TZID=Europe/Berlin:20261002T083000
DTEND;TZID=Europe/Berlin:20261002T120000
UID:2602251700-20261002T083000@DÜSSELDORF ASG-BILDUNGSFORUM
SUMMARY:Systemisches Coaching - Qualifizierung zum Coach nach den Standards der Deutschen Gesellschaft für Coaching (DGfC) als Bildungsurlaub nach AWbG anerkannt (2602251700) 
LOCATION:ASG-G90;4.01, Gerresheimer Straße 90, 40233 Düsseldorf
END:VEVENT
BEGIN:VEVENT
DTSTAMP:20260423T020631
DTSTART;TZID=Europe/Berlin:20270215T083000
DTEND;TZID=Europe/Berlin:20270215T170000
UID:2602251700-20270215T083000@DÜSSELDORF ASG-BILDUNGSFORUM
SUMMARY:Systemisches Coaching - Qualifizierung zum Coach nach den Standards der Deutschen Gesellschaft für Coaching (DGfC) als Bildungsurlaub nach AWbG anerkannt (2602251700) 
LOCATION:ASG-G90;4.01, Gerresheimer Straße 90, 40233 Düsseldorf
END:VEVENT
BEGIN:VEVENT
DTSTAMP:20260423T020631
DTSTART;TZID=Europe/Berlin:20270216T083000
DTEND;TZID=Europe/Berlin:20270216T170000
UID:2602251700-20270216T083000@DÜSSELDORF ASG-BILDUNGSFORUM
SUMMARY:Systemisches Coaching - Qualifizierung zum Coach nach den Standards der Deutschen Gesellschaft für Coaching (DGfC) als Bildungsurlaub nach AWbG anerkannt (2602251700) 
LOCATION:ASG-G90;4.01, Gerresheimer Straße 90, 40233 Düsseldorf
END:VEVENT
BEGIN:VEVENT
DTSTAMP:20260423T020631
DTSTART;TZID=Europe/Berlin:20270217T083000
DTEND;TZID=Europe/Berlin:20270217T170000
UID:2602251700-20270217T083000@DÜSSELDORF ASG-BILDUNGSFORUM
SUMMARY:Systemisches Coaching - Qualifizierung zum Coach nach den Standards der Deutschen Gesellschaft für Coaching (DGfC) als Bildungsurlaub nach AWbG anerkannt (2602251700) 
LOCATION:ASG-G90;4.01, Gerresheimer Straße 90, 40233 Düsseldorf
END:VEVENT
BEGIN:VEVENT
DTSTAMP:20260423T020631
DTSTART;TZID=Europe/Berlin:20270218T083000
DTEND;TZID=Europe/Berlin:20270218T170000
UID:2602251700-20270218T083000@DÜSSELDORF ASG-BILDUNGSFORUM
SUMMARY:Systemisches Coaching - Qualifizierung zum Coach nach den Standards der Deutschen Gesellschaft für Coaching (DGfC) als Bildungsurlaub nach AWbG anerkannt (2602251700) 
LOCATION:ASG-G90;4.01, Gerresheimer Straße 90, 40233 Düsseldorf
END:VEVENT
BEGIN:VEVENT
DTSTAMP:20260423T020631
DTSTART;TZID=Europe/Berlin:20270219T083000
DTEND;TZID=Europe/Berlin:20270219T120000
UID:2602251700-20270219T083000@DÜSSELDORF ASG-BILDUNGSFORUM
SUMMARY:Systemisches Coaching - Qualifizierung zum Coach nach den Standards der Deutschen Gesellschaft für Coaching (DGfC) als Bildungsurlaub nach AWbG anerkannt (2602251700) 
LOCATION:ASG-G90;4.01, Gerresheimer Straße 90, 40233 Düsseldorf
END:VEVENT
BEGIN:VEVENT
DTSTAMP:20260423T020631
DTSTART;TZID=Europe/Berlin:20270614T083000
DTEND;TZID=Europe/Berlin:20270614T170000
UID:2602251700-20270614T083000@DÜSSELDORF ASG-BILDUNGSFORUM
SUMMARY:Systemisches Coaching - Qualifizierung zum Coach nach den Standards der Deutschen Gesellschaft für Coaching (DGfC) als Bildungsurlaub nach AWbG anerkannt (2602251700) 
LOCATION:ASG-G90;4.01, Gerresheimer Straße 90, 40233 Düsseldorf
END:VEVENT
BEGIN:VEVENT
DTSTAMP:20260423T020631
DTSTART;TZID=Europe/Berlin:20270615T083000
DTEND;TZID=Europe/Berlin:20270615T170000
UID:2602251700-20270615T083000@DÜSSELDORF ASG-BILDUNGSFORUM
SUMMARY:Systemisches Coaching - Qualifizierung zum Coach nach den Standards der Deutschen Gesellschaft für Coaching (DGfC) als Bildungsurlaub nach AWbG anerkannt (2602251700) 
LOCATION:ASG-G90;4.01, Gerresheimer Straße 90, 40233 Düsseldorf
END:VEVENT
BEGIN:VEVENT
DTSTAMP:20260423T020631
DTSTART;TZID=Europe/Berlin:20270616T083000
DTEND;TZID=Europe/Berlin:20270616T170000
UID:2602251700-20270616T083000@DÜSSELDORF ASG-BILDUNGSFORUM
SUMMARY:Systemisches Coaching - Qualifizierung zum Coach nach den Standards der Deutschen Gesellschaft für Coaching (DGfC) als Bildungsurlaub nach AWbG anerkannt (2602251700) 
LOCATION:ASG-G90;4.01, Gerresheimer Straße 90, 40233 Düsseldorf
END:VEVENT
BEGIN:VEVENT
DTSTAMP:20260423T020631
DTSTART;TZID=Europe/Berlin:20270617T083000
DTEND;TZID=Europe/Berlin:20270617T170000
UID:2602251700-20270617T083000@DÜSSELDORF ASG-BILDUNGSFORUM
SUMMARY:Systemisches Coaching - Qualifizierung zum Coach nach den Standards der Deutschen Gesellschaft für Coaching (DGfC) als Bildungsurlaub nach AWbG anerkannt (2602251700) 
LOCATION:ASG-G90;4.01, Gerresheimer Straße 90, 40233 Düsseldorf
END:VEVENT
BEGIN:VEVENT
DTSTAMP:20260423T020631
DTSTART;TZID=Europe/Berlin:20270618T083000
DTEND;TZID=Europe/Berlin:20270618T120000
UID:2602251700-20270618T083000@DÜSSELDORF ASG-BILDUNGSFORUM
SUMMARY:Systemisches Coaching - Qualifizierung zum Coach nach den Standards der Deutschen Gesellschaft für Coaching (DGfC) als Bildungsurlaub nach AWbG anerkannt (2602251700) 
LOCATION:ASG-G90;4.01, Gerresheimer Straße 90, 40233 Düsseldorf
END:VEVENT
BEGIN:VEVENT
DTSTAMP:20260423T020631
DTSTART;TZID=Europe/Berlin:20271115T083000
DTEND;TZID=Europe/Berlin:20271115T170000
UID:2602251700-20271115T083000@DÜSSELDORF ASG-BILDUNGSFORUM
SUMMARY:Systemisches Coaching - Qualifizierung zum Coach nach den Standards der Deutschen Gesellschaft für Coaching (DGfC) als Bildungsurlaub nach AWbG anerkannt (2602251700) 
LOCATION:ASG-G90;4.01, Gerresheimer Straße 90, 40233 Düsseldorf
END:VEVENT
BEGIN:VEVENT
DTSTAMP:20260423T020631
DTSTART;TZID=Europe/Berlin:20271116T083000
DTEND;TZID=Europe/Berlin:20271116T170000
UID:2602251700-20271116T083000@DÜSSELDORF ASG-BILDUNGSFORUM
SUMMARY:Systemisches Coaching - Qualifizierung zum Coach nach den Standards der Deutschen Gesellschaft für Coaching (DGfC) als Bildungsurlaub nach AWbG anerkannt (2602251700) 
LOCATION:ASG-G90;4.01, Gerresheimer Straße 90, 40233 Düsseldorf
END:VEVENT
BEGIN:VEVENT
DTSTAMP:20260423T020631
DTSTART;TZID=Europe/Berlin:20271117T083000
DTEND;TZID=Europe/Berlin:20271117T170000
UID:2602251700-20271117T083000@DÜSSELDORF ASG-BILDUNGSFORUM
SUMMARY:Systemisches Coaching - Qualifizierung zum Coach nach den Standards der Deutschen Gesellschaft für Coaching (DGfC) als Bildungsurlaub nach AWbG anerkannt (2602251700) 
LOCATION:ASG-G90;4.01, Gerresheimer Straße 90, 40233 Düsseldorf
END:VEVENT
BEGIN:VEVENT
DTSTAMP:20260423T020631
DTSTART;TZID=Europe/Berlin:20271118T083000
DTEND;TZID=Europe/Berlin:20271118T170000
UID:2602251700-20271118T083000@DÜSSELDORF ASG-BILDUNGSFORUM
SUMMARY:Systemisches Coaching - Qualifizierung zum Coach nach den Standards der Deutschen Gesellschaft für Coaching (DGfC) als Bildungsurlaub nach AWbG anerkannt (2602251700) 
LOCATION:ASG-G90;4.01, Gerresheimer Straße 90, 40233 Düsseldorf
END:VEVENT
BEGIN:VEVENT
DTSTAMP:20260423T020631
DTSTART;TZID=Europe/Berlin:20271119T083000
DTEND;TZID=Europe/Berlin:20271119T120000
UID:2602251700-20271119T083000@DÜSSELDORF ASG-BILDUNGSFORUM
SUMMARY:Systemisches Coaching - Qualifizierung zum Coach nach den Standards der Deutschen Gesellschaft für Coaching (DGfC) als Bildungsurlaub nach AWbG anerkannt (2602251700) 
LOCATION:ASG-G90;4.01, Gerresheimer Straße 90, 40233 Düsseldorf
END:VEVENT
BEGIN:VEVENT
DTSTAMP:20260423T020631
DTSTART;TZID=Europe/Berlin:20280327T083000
DTEND;TZID=Europe/Berlin:20280327T170000
UID:2602251700-20280327T083000@DÜSSELDORF ASG-BILDUNGSFORUM
SUMMARY:Systemisches Coaching - Qualifizierung zum Coach nach den Standards der Deutschen Gesellschaft für Coaching (DGfC) als Bildungsurlaub nach AWbG anerkannt (2602251700) 
LOCATION:ASG-G90;4.01, Gerresheimer Straße 90, 40233 Düsseldorf
END:VEVENT
BEGIN:VEVENT
DTSTAMP:20260423T020631
DTSTART;TZID=Europe/Berlin:20280328T083000
DTEND;TZID=Europe/Berlin:20280328T170000
UID:2602251700-20280328T083000@DÜSSELDORF ASG-BILDUNGSFORUM
SUMMARY:Systemisches Coaching - Qualifizierung zum Coach nach den Standards der Deutschen Gesellschaft für Coaching (DGfC) als Bildungsurlaub nach AWbG anerkannt (2602251700) 
LOCATION:ASG-G90;4.01, Gerresheimer Straße 90, 40233 Düsseldorf
END:VEVENT
BEGIN:VEVENT
DTSTAMP:20260423T020631
DTSTART;TZID=Europe/Berlin:20280329T083000
DTEND;TZID=Europe/Berlin:20280329T170000
UID:2602251700-20280329T083000@DÜSSELDORF ASG-BILDUNGSFORUM
SUMMARY:Systemisches Coaching - Qualifizierung zum Coach nach den Standards der Deutschen Gesellschaft für Coaching (DGfC) als Bildungsurlaub nach AWbG anerkannt (2602251700) 
LOCATION:ASG-G90;4.01, Gerresheimer Straße 90, 40233 Düsseldorf
END:VEVENT
BEGIN:VEVENT
DTSTAMP:20260423T020631
DTSTART;TZID=Europe/Berlin:20280330T083000
DTEND;TZID=Europe/Berlin:20280330T170000
UID:2602251700-20280330T083000@DÜSSELDORF ASG-BILDUNGSFORUM
SUMMARY:Systemisches Coaching - Qualifizierung zum Coach nach den Standards der Deutschen Gesellschaft für Coaching (DGfC) als Bildungsurlaub nach AWbG anerkannt (2602251700) 
LOCATION:ASG-G90;4.01, Gerresheimer Straße 90, 40233 Düsseldorf
END:VEVENT
BEGIN:VEVENT
DTSTAMP:20260423T020631
DTSTART;TZID=Europe/Berlin:20280331T083000
DTEND;TZID=Europe/Berlin:20280331T120000
UID:2602251700-20280331T083000@DÜSSELDORF ASG-BILDUNGSFORUM
SUMMARY:Systemisches Coaching - Qualifizierung zum Coach nach den Standards der Deutschen Gesellschaft für Coaching (DGfC) als Bildungsurlaub nach AWbG anerkannt (2602251700) 
LOCATION:ASG-G90;4.01, Gerresheimer Straße 90, 40233 Düsseldorf
END:VEVENT
END:VCALENDAR