BEGIN:VCALENDAR
VERSION:2.0
PRODID:https://www.kufer.de/kuferweb / DE
METHOD:PUBLISH
CALSCALE:GREGORIAN
X-WR-TIMEZONE:Europe/Berlin
BEGIN:VTIMEZONE
TZID:Europe/Berlin
X-LIC-LOCATION:Europe/Berlin
BEGIN:DAYLIGHT
TZOFFSETFROM:+0100
TZOFFSETTO:+0200
TZNAME:CEST
DTSTART:19700329T020000
RRULE:FREQ=YEARLY;INTERVAL=1;BYDAY=-1SU;BYMONTH=3
END:DAYLIGHT
BEGIN:STANDARD
TZOFFSETFROM:+0200
TZOFFSETTO:+0100
TZNAME:CET
DTSTART:19701025T030000
RRULE:FREQ=YEARLY;INTERVAL=1;BYDAY=-1SU;BYMONTH=10
END:STANDARD
END:VTIMEZONE
BEGIN:VEVENT
DTSTAMP:20260420T215230
DTSTART;TZID=Europe/Berlin:20260107T150000
DTEND;TZID=Europe/Berlin:20260107T163000
UID:2602611005-20260107T150000@DÜSSELDORF ASG-BILDUNGSFORUM
SUMMARY:Babycafé Offener Treff für junge Mütter mit ihren Babys (2602611005) 
LOCATION:ASG-R43;U3-Gruppe, Rather Kreuzweg 43, 40472 Düsseldorf
END:VEVENT
BEGIN:VEVENT
DTSTAMP:20260420T215230
DTSTART;TZID=Europe/Berlin:20260114T150000
DTEND;TZID=Europe/Berlin:20260114T163000
UID:2602611005-20260114T150000@DÜSSELDORF ASG-BILDUNGSFORUM
SUMMARY:Babycafé Offener Treff für junge Mütter mit ihren Babys (2602611005) 
LOCATION:ASG-R43;U3-Gruppe, Rather Kreuzweg 43, 40472 Düsseldorf
END:VEVENT
BEGIN:VEVENT
DTSTAMP:20260420T215230
DTSTART;TZID=Europe/Berlin:20260121T150000
DTEND;TZID=Europe/Berlin:20260121T163000
UID:2602611005-20260121T150000@DÜSSELDORF ASG-BILDUNGSFORUM
SUMMARY:Babycafé Offener Treff für junge Mütter mit ihren Babys (2602611005) 
LOCATION:ASG-R43;U3-Gruppe, Rather Kreuzweg 43, 40472 Düsseldorf
END:VEVENT
BEGIN:VEVENT
DTSTAMP:20260420T215230
DTSTART;TZID=Europe/Berlin:20260128T150000
DTEND;TZID=Europe/Berlin:20260128T163000
UID:2602611005-20260128T150000@DÜSSELDORF ASG-BILDUNGSFORUM
SUMMARY:Babycafé Offener Treff für junge Mütter mit ihren Babys (2602611005) 
LOCATION:ASG-R43;U3-Gruppe, Rather Kreuzweg 43, 40472 Düsseldorf
END:VEVENT
BEGIN:VEVENT
DTSTAMP:20260420T215230
DTSTART;TZID=Europe/Berlin:20260204T150000
DTEND;TZID=Europe/Berlin:20260204T163000
UID:2602611005-20260204T150000@DÜSSELDORF ASG-BILDUNGSFORUM
SUMMARY:Babycafé Offener Treff für junge Mütter mit ihren Babys (2602611005) 
LOCATION:ASG-R43;U3-Gruppe, Rather Kreuzweg 43, 40472 Düsseldorf
END:VEVENT
BEGIN:VEVENT
DTSTAMP:20260420T215230
DTSTART;TZID=Europe/Berlin:20260218T150000
DTEND;TZID=Europe/Berlin:20260218T163000
UID:2602611005-20260218T150000@DÜSSELDORF ASG-BILDUNGSFORUM
SUMMARY:Babycafé Offener Treff für junge Mütter mit ihren Babys (2602611005) 
LOCATION:ASG-R43;U3-Gruppe, Rather Kreuzweg 43, 40472 Düsseldorf
END:VEVENT
BEGIN:VEVENT
DTSTAMP:20260420T215230
DTSTART;TZID=Europe/Berlin:20260225T150000
DTEND;TZID=Europe/Berlin:20260225T163000
UID:2602611005-20260225T150000@DÜSSELDORF ASG-BILDUNGSFORUM
SUMMARY:Babycafé Offener Treff für junge Mütter mit ihren Babys (2602611005) 
LOCATION:ASG-R43;U3-Gruppe, Rather Kreuzweg 43, 40472 Düsseldorf
END:VEVENT
BEGIN:VEVENT
DTSTAMP:20260420T215230
DTSTART;TZID=Europe/Berlin:20260304T150000
DTEND;TZID=Europe/Berlin:20260304T163000
UID:2602611005-20260304T150000@DÜSSELDORF ASG-BILDUNGSFORUM
SUMMARY:Babycafé Offener Treff für junge Mütter mit ihren Babys (2602611005) 
LOCATION:ASG-R43;U3-Gruppe, Rather Kreuzweg 43, 40472 Düsseldorf
END:VEVENT
BEGIN:VEVENT
DTSTAMP:20260420T215230
DTSTART;TZID=Europe/Berlin:20260311T150000
DTEND;TZID=Europe/Berlin:20260311T163000
UID:2602611005-20260311T150000@DÜSSELDORF ASG-BILDUNGSFORUM
SUMMARY:Babycafé Offener Treff für junge Mütter mit ihren Babys (2602611005) 
LOCATION:ASG-R43;U3-Gruppe, Rather Kreuzweg 43, 40472 Düsseldorf
END:VEVENT
BEGIN:VEVENT
DTSTAMP:20260420T215230
DTSTART;TZID=Europe/Berlin:20260318T150000
DTEND;TZID=Europe/Berlin:20260318T163000
UID:2602611005-20260318T150000@DÜSSELDORF ASG-BILDUNGSFORUM
SUMMARY:Babycafé Offener Treff für junge Mütter mit ihren Babys (2602611005) 
LOCATION:ASG-R43;U3-Gruppe, Rather Kreuzweg 43, 40472 Düsseldorf
END:VEVENT
BEGIN:VEVENT
DTSTAMP:20260420T215230
DTSTART;TZID=Europe/Berlin:20260325T150000
DTEND;TZID=Europe/Berlin:20260325T163000
UID:2602611005-20260325T150000@DÜSSELDORF ASG-BILDUNGSFORUM
SUMMARY:Babycafé Offener Treff für junge Mütter mit ihren Babys (2602611005) 
LOCATION:ASG-R43;U3-Gruppe, Rather Kreuzweg 43, 40472 Düsseldorf
END:VEVENT
BEGIN:VEVENT
DTSTAMP:20260420T215230
DTSTART;TZID=Europe/Berlin:20260415T150000
DTEND;TZID=Europe/Berlin:20260415T163000
UID:2602611005-20260415T150000@DÜSSELDORF ASG-BILDUNGSFORUM
SUMMARY:Babycafé Offener Treff für junge Mütter mit ihren Babys (2602611005) 
LOCATION:ASG-R43;U3-Gruppe, Rather Kreuzweg 43, 40472 Düsseldorf
END:VEVENT
BEGIN:VEVENT
DTSTAMP:20260420T215230
DTSTART;TZID=Europe/Berlin:20260422T150000
DTEND;TZID=Europe/Berlin:20260422T163000
UID:2602611005-20260422T150000@DÜSSELDORF ASG-BILDUNGSFORUM
SUMMARY:Babycafé Offener Treff für junge Mütter mit ihren Babys (2602611005) 
LOCATION:ASG-R43;U3-Gruppe, Rather Kreuzweg 43, 40472 Düsseldorf
END:VEVENT
BEGIN:VEVENT
DTSTAMP:20260420T215230
DTSTART;TZID=Europe/Berlin:20260429T150000
DTEND;TZID=Europe/Berlin:20260429T163000
UID:2602611005-20260429T150000@DÜSSELDORF ASG-BILDUNGSFORUM
SUMMARY:Babycafé Offener Treff für junge Mütter mit ihren Babys (2602611005) 
LOCATION:ASG-R43;U3-Gruppe, Rather Kreuzweg 43, 40472 Düsseldorf
END:VEVENT
BEGIN:VEVENT
DTSTAMP:20260420T215230
DTSTART;TZID=Europe/Berlin:20260506T150000
DTEND;TZID=Europe/Berlin:20260506T163000
UID:2602611005-20260506T150000@DÜSSELDORF ASG-BILDUNGSFORUM
SUMMARY:Babycafé Offener Treff für junge Mütter mit ihren Babys (2602611005) 
LOCATION:ASG-R43;U3-Gruppe, Rather Kreuzweg 43, 40472 Düsseldorf
END:VEVENT
BEGIN:VEVENT
DTSTAMP:20260420T215230
DTSTART;TZID=Europe/Berlin:20260513T150000
DTEND;TZID=Europe/Berlin:20260513T163000
UID:2602611005-20260513T150000@DÜSSELDORF ASG-BILDUNGSFORUM
SUMMARY:Babycafé Offener Treff für junge Mütter mit ihren Babys (2602611005) 
LOCATION:ASG-R43;U3-Gruppe, Rather Kreuzweg 43, 40472 Düsseldorf
END:VEVENT
BEGIN:VEVENT
DTSTAMP:20260420T215230
DTSTART;TZID=Europe/Berlin:20260520T150000
DTEND;TZID=Europe/Berlin:20260520T163000
UID:2602611005-20260520T150000@DÜSSELDORF ASG-BILDUNGSFORUM
SUMMARY:Babycafé Offener Treff für junge Mütter mit ihren Babys (2602611005) 
LOCATION:ASG-R43;U3-Gruppe, Rather Kreuzweg 43, 40472 Düsseldorf
END:VEVENT
BEGIN:VEVENT
DTSTAMP:20260420T215230
DTSTART;TZID=Europe/Berlin:20260527T150000
DTEND;TZID=Europe/Berlin:20260527T163000
UID:2602611005-20260527T150000@DÜSSELDORF ASG-BILDUNGSFORUM
SUMMARY:Babycafé Offener Treff für junge Mütter mit ihren Babys (2602611005) 
LOCATION:ASG-R43;U3-Gruppe, Rather Kreuzweg 43, 40472 Düsseldorf
END:VEVENT
BEGIN:VEVENT
DTSTAMP:20260420T215230
DTSTART;TZID=Europe/Berlin:20260603T150000
DTEND;TZID=Europe/Berlin:20260603T163000
UID:2602611005-20260603T150000@DÜSSELDORF ASG-BILDUNGSFORUM
SUMMARY:Babycafé Offener Treff für junge Mütter mit ihren Babys (2602611005) 
LOCATION:ASG-R43;U3-Gruppe, Rather Kreuzweg 43, 40472 Düsseldorf
END:VEVENT
BEGIN:VEVENT
DTSTAMP:20260420T215230
DTSTART;TZID=Europe/Berlin:20260610T150000
DTEND;TZID=Europe/Berlin:20260610T163000
UID:2602611005-20260610T150000@DÜSSELDORF ASG-BILDUNGSFORUM
SUMMARY:Babycafé Offener Treff für junge Mütter mit ihren Babys (2602611005) 
LOCATION:ASG-R43;U3-Gruppe, Rather Kreuzweg 43, 40472 Düsseldorf
END:VEVENT
BEGIN:VEVENT
DTSTAMP:20260420T215230
DTSTART;TZID=Europe/Berlin:20260617T150000
DTEND;TZID=Europe/Berlin:20260617T163000
UID:2602611005-20260617T150000@DÜSSELDORF ASG-BILDUNGSFORUM
SUMMARY:Babycafé Offener Treff für junge Mütter mit ihren Babys (2602611005) 
LOCATION:ASG-R43;U3-Gruppe, Rather Kreuzweg 43, 40472 Düsseldorf
END:VEVENT
BEGIN:VEVENT
DTSTAMP:20260420T215230
DTSTART;TZID=Europe/Berlin:20260624T150000
DTEND;TZID=Europe/Berlin:20260624T163000
UID:2602611005-20260624T150000@DÜSSELDORF ASG-BILDUNGSFORUM
SUMMARY:Babycafé Offener Treff für junge Mütter mit ihren Babys (2602611005) 
LOCATION:ASG-R43;U3-Gruppe, Rather Kreuzweg 43, 40472 Düsseldorf
END:VEVENT
BEGIN:VEVENT
DTSTAMP:20260420T215230
DTSTART;TZID=Europe/Berlin:20260701T150000
DTEND;TZID=Europe/Berlin:20260701T163000
UID:2602611005-20260701T150000@DÜSSELDORF ASG-BILDUNGSFORUM
SUMMARY:Babycafé Offener Treff für junge Mütter mit ihren Babys (2602611005) 
LOCATION:ASG-R43;U3-Gruppe, Rather Kreuzweg 43, 40472 Düsseldorf
END:VEVENT
BEGIN:VEVENT
DTSTAMP:20260420T215230
DTSTART;TZID=Europe/Berlin:20260708T150000
DTEND;TZID=Europe/Berlin:20260708T163000
UID:2602611005-20260708T150000@DÜSSELDORF ASG-BILDUNGSFORUM
SUMMARY:Babycafé Offener Treff für junge Mütter mit ihren Babys (2602611005) 
LOCATION:ASG-R43;U3-Gruppe, Rather Kreuzweg 43, 40472 Düsseldorf
END:VEVENT
BEGIN:VEVENT
DTSTAMP:20260420T215230
DTSTART;TZID=Europe/Berlin:20260715T150000
DTEND;TZID=Europe/Berlin:20260715T163000
UID:2602611005-20260715T150000@DÜSSELDORF ASG-BILDUNGSFORUM
SUMMARY:Babycafé Offener Treff für junge Mütter mit ihren Babys (2602611005) 
LOCATION:ASG-R43;U3-Gruppe, Rather Kreuzweg 43, 40472 Düsseldorf
END:VEVENT
END:VCALENDAR